BEGIN:VCALENDAR
VERSION:2.0
PRODID:-//Institute for Translational Medicine and Science - ECPv6.15.16//NONSGML v1.0//EN
CALSCALE:GREGORIAN
METHOD:PUBLISH
X-ORIGINAL-URL:https://ritms.rutgers.edu
X-WR-CALDESC:Events for Institute for Translational Medicine and Science
REFRESH-INTERVAL;VALUE=DURATION:PT1H
X-Robots-Tag:noindex
X-PUBLISHED-TTL:PT1H
BEGIN:VTIMEZONE
TZID:America/New_York
BEGIN:DAYLIGHT
TZOFFSETFROM:-0500
TZOFFSETTO:-0400
TZNAME:EDT
DTSTART:20250309T070000
END:DAYLIGHT
BEGIN:STANDARD
TZOFFSETFROM:-0400
TZOFFSETTO:-0500
TZNAME:EST
DTSTART:20251102T060000
END:STANDARD
BEGIN:DAYLIGHT
TZOFFSETFROM:-0500
TZOFFSETTO:-0400
TZNAME:EDT
DTSTART:20260308T070000
END:DAYLIGHT
BEGIN:STANDARD
TZOFFSETFROM:-0400
TZOFFSETTO:-0500
TZNAME:EST
DTSTART:20261101T060000
END:STANDARD
BEGIN:DAYLIGHT
TZOFFSETFROM:-0500
TZOFFSETTO:-0400
TZNAME:EDT
DTSTART:20270314T070000
END:DAYLIGHT
BEGIN:STANDARD
TZOFFSETFROM:-0400
TZOFFSETTO:-0500
TZNAME:EST
DTSTART:20271107T060000
END:STANDARD
END:VTIMEZONE
BEGIN:VTIMEZONE
TZID:UTC
BEGIN:STANDARD
TZOFFSETFROM:+0000
TZOFFSETTO:+0000
TZNAME:UTC
DTSTART:20250101T000000
END:STANDARD
END:VTIMEZONE
BEGIN:VEVENT
DTSTART;TZID=America/New_York:20260106T090812
DTEND;TZID=America/New_York:20260106T090812
DTSTAMP:20260420T075903
CREATED:20260106T140813Z
LAST-MODIFIED:20260106T140813Z
UID:25245-1767690492-1767690492@ritms.rutgers.edu
SUMMARY:Trial Innovation Network Collaboration Webinar
DESCRIPTION:Trial Innovation Network Collaboration Webinar-The AI Research Assistant: Ethical\, Efficient\, Everyday Use\, Jeri Burr\, University of Utah. Register.
URL:https://ritms.rutgers.edu/event/trial-innovation-network-collaboration-webinar-20/
END:VEVENT
BEGIN:VEVENT
DTSTART;TZID=America/New_York:20260106T090943
DTEND;TZID=America/New_York:20260106T090943
DTSTAMP:20260420T075903
CREATED:20260106T140944Z
LAST-MODIFIED:20260106T140944Z
UID:25246-1767690583-1767690583@ritms.rutgers.edu
SUMMARY:Trial Innovation Network Collaboration Webinar
DESCRIPTION:Trial Innovation Network Collaboration Webinar-Using “honest broker” Epic MyChart\, Direct Email\, and Postal Mail to Support Participant Recruitment for Sensitive Adult and Youth Study Populations\, Katherine Connors. Register
URL:https://ritms.rutgers.edu/event/trial-innovation-network-collaboration-webinar-21/
END:VEVENT
BEGIN:VEVENT
DTSTART;TZID=America/New_York:20260112T123120
DTEND;TZID=America/New_York:20260112T123120
DTSTAMP:20260420T075903
CREATED:20260112T173120Z
LAST-MODIFIED:20260112T173120Z
UID:25318-1768221080-1768221080@ritms.rutgers.edu
SUMMARY:Trial Innovation Network Collaboration Webinar
DESCRIPTION:Trial Innovation Network Collaboration Webinar-The AI Research Assistant: Ethical\, Efficient\, Everyday Use\, Jeri Burr\, RN\, PED-BC\, MS\, CCRC\, FACRP\, Program Director\, University of Utah. Register
URL:https://ritms.rutgers.edu/event/trial-innovation-network-collaboration-webinar-22/
END:VEVENT
BEGIN:VEVENT
DTSTART;TZID=America/New_York:20260112T123800
DTEND;TZID=America/New_York:20260112T123800
DTSTAMP:20260420T075903
CREATED:20260112T173801Z
LAST-MODIFIED:20260112T173801Z
UID:25319-1768221480-1768221480@ritms.rutgers.edu
SUMMARY:Propelus I-Corps hosted by Rutgers
DESCRIPTION:Propelus I-Corps hosted by Rutgers-Find Success for Your Innovation. In person. Read More and Register
URL:https://ritms.rutgers.edu/event/propelus-i-corps-hosted-by-rutgers/
END:VEVENT
BEGIN:VEVENT
DTSTART;TZID=America/New_York:20260112T123850
DTEND;TZID=America/New_York:20260112T123850
DTSTAMP:20260420T075903
CREATED:20260112T173851Z
LAST-MODIFIED:20260112T173851Z
UID:25320-1768221530-1768221530@ritms.rutgers.edu
SUMMARY:Propelus I-Corps hosted by Rutgers
DESCRIPTION:Propelus I-Corps hosted by Rutgers-Find Success for Your Innovation. In person. Read More and Register
URL:https://ritms.rutgers.edu/event/propelus-i-corps-hosted-by-rutgers-2/
END:VEVENT
BEGIN:VEVENT
DTSTART;TZID=America/New_York:20260112T123950
DTEND;TZID=America/New_York:20260112T123950
DTSTAMP:20260420T075903
CREATED:20260112T173950Z
LAST-MODIFIED:20260112T173950Z
UID:25321-1768221590-1768221590@ritms.rutgers.edu
SUMMARY:Propelus I-Corps hosted by Rutgers
DESCRIPTION:Propelus I-Corps hosted by Rutgers-Find Success for Your Innovation. Virtual. Read More and Register
URL:https://ritms.rutgers.edu/event/propelus-i-corps-hosted-by-rutgers-3/
END:VEVENT
BEGIN:VEVENT
DTSTART;TZID=America/New_York:20260112T124044
DTEND;TZID=America/New_York:20260112T124044
DTSTAMP:20260420T075903
CREATED:20260112T174044Z
LAST-MODIFIED:20260112T174044Z
UID:25322-1768221644-1768221644@ritms.rutgers.edu
SUMMARY:Propelus I-Corps hosted by Rutgers
DESCRIPTION:Propelus I-Corps hosted by Rutgers-Find Success for Your Innovation. Virtual. Read More and Register
URL:https://ritms.rutgers.edu/event/propelus-i-corps-hosted-by-rutgers-4/
END:VEVENT
BEGIN:VEVENT
DTSTART;TZID=America/New_York:20260113T120000
DTEND;TZID=America/New_York:20260113T130000
DTSTAMP:20260420T075903
CREATED:20251204T151059Z
LAST-MODIFIED:20251224T143251Z
UID:24902-1768305600-1768309200@ritms.rutgers.edu
SUMMARY:NJ ACTS Special Populations Seminar
DESCRIPTION:NJ ACTS Special Populations Seminar-Increasing Access to MOUD: Direct to Inject Buprenorphine\, Arianna Campbell\, The Bridge Center at the Public Health Institute. View Flyer and Register
URL:https://ritms.rutgers.edu/event/nj-acts-special-populations-seminar-6/
END:VEVENT
BEGIN:VEVENT
DTSTART;TZID=UTC:20260113T120000
DTEND;TZID=UTC:20260113T130000
DTSTAMP:20260420T075903
CREATED:20260112T161356Z
LAST-MODIFIED:20260112T161356Z
UID:25316-1768305600-1768309200@ritms.rutgers.edu
SUMMARY:CHINJ Research in Progress Meeting
DESCRIPTION:CHINJ Research in Progress Meeting–Beyond the binary: Cyclic AMP egress through ABCC1 in human airway smooth muscle\, Jordan Lee. CHI Room 3101. View Flyer
URL:https://ritms.rutgers.edu/event/chinj-research-in-progress-meeting-6/
LOCATION:Child Health Institute\, Conference Room 3101\, 89 French Street\, New Brunswick\, NJ\, 08901\, United States
END:VEVENT
BEGIN:VEVENT
DTSTART;TZID=America/New_York:20260114T080000
DTEND;TZID=America/New_York:20260114T090000
DTSTAMP:20260420T075903
CREATED:20260107T162543Z
LAST-MODIFIED:20260107T162902Z
UID:25261-1768377600-1768381200@ritms.rutgers.edu
SUMMARY:RWJMS Pediatric Grand Rounds
DESCRIPTION:RWJMS Pediatric Grand Rounds-Defining the Human Genetics and Pathogenesis of Congenital Muscle Disease\, M. Chiara Manzini\, RWJMS. Hybrid. Clinical Academic Building\, Room 3403\, New Brunswick\, and on Zoom. View Flyer
URL:https://ritms.rutgers.edu/event/rwjms-pediatric-grand-rounds-8/
END:VEVENT
BEGIN:VEVENT
DTSTART;TZID=America/New_York:20260114T085858
DTEND;TZID=America/New_York:20260114T085858
DTSTAMP:20260420T075903
CREATED:20260114T135859Z
LAST-MODIFIED:20260114T135859Z
UID:25343-1768381138-1768381138@ritms.rutgers.edu
SUMMARY:Maternal Health Awareness Day 2026
DESCRIPTION:Maternal Health Awareness Day 2026-Navigating Today’s Challenges in Maternal Health. CAB\, Room 1302\, New Brunswick. Flyer and Register by Jan. 15th
URL:https://ritms.rutgers.edu/event/maternal-health-awareness-day-2026/
END:VEVENT
BEGIN:VEVENT
DTSTART;TZID=America/New_York:20260121T101652
DTEND;TZID=America/New_York:20260121T101652
DTSTAMP:20260420T075903
CREATED:20260121T151653Z
LAST-MODIFIED:20260121T151653Z
UID:25421-1768990612-1768990612@ritms.rutgers.edu
SUMMARY:Trial Innovation Network Collaboration Webinar
DESCRIPTION:Trial Innovation Network Collaboration Webinar-Recruitment Made Smarter: Tools and Strategies to Engage Providers and Recruit Patients for Clinical Research\, Natalie Muth\, MPH  &  Jodie Cohen\, MA\, CCRP. Register
URL:https://ritms.rutgers.edu/event/trial-innovation-network-collaboration-webinar-23/
END:VEVENT
BEGIN:VEVENT
DTSTART;TZID=America/New_York:20260121T101840
DTEND;TZID=America/New_York:20260121T101840
DTSTAMP:20260420T075903
CREATED:20260121T151841Z
LAST-MODIFIED:20260121T151841Z
UID:25422-1768990720-1768990720@ritms.rutgers.edu
SUMMARY:Trial Innovation Network Collaboration Webinar
DESCRIPTION:Trial Innovation Network Collaboration Webinar-Using “honest broker” Epic MyChart\, Direct Email\, and Postal Mail to Support Participant Recruitment for Sensitive Adult and Youth Study Populations\, Katherine Connors\, MPH  &  Andrea Bolanos\, MPH. Register
URL:https://ritms.rutgers.edu/event/trial-innovation-network-collaboration-webinar-24/
END:VEVENT
BEGIN:VEVENT
DTSTART;TZID=America/New_York:20260121T160000
DTEND;TZID=America/New_York:20260121T170000
DTSTAMP:20260420T075903
CREATED:20251027T135958Z
LAST-MODIFIED:20260106T141224Z
UID:24268-1769011200-1769014800@ritms.rutgers.edu
SUMMARY:Research Resources Workshop Wednesday
DESCRIPTION:Research Resources Workshop Wednesday-Rutgers libraries Research Support Services to RH Researchers\, Yingting Zhang\, Rutgers. On Zoom. View Flyer
URL:https://ritms.rutgers.edu/event/research-resources-workshop-wednesday-8/
END:VEVENT
BEGIN:VEVENT
DTSTART;TZID=America/New_York:20260122T120000
DTEND;TZID=America/New_York:20260122T133000
DTSTAMP:20260420T075903
CREATED:20251224T150305Z
LAST-MODIFIED:20260112T190141Z
UID:25132-1769083200-1769088600@ritms.rutgers.edu
SUMMARY:NJ ACTS Biostatistics and Epidemiology Research Design Workshop Series
DESCRIPTION:NJ ACTS Biostatistics and Epidemiology Research Design Workshop Series-Uncertainty Quantification for Predictive Models: Conformal Prediction and Calibration\, Yan Sun\, NJIT.  View Flyer and Register
URL:https://ritms.rutgers.edu/event/nj-acts-biostatistics-and-epidemiology-research-design-workshop-series-3/
END:VEVENT
BEGIN:VEVENT
DTSTART;TZID=America/New_York:20260126T123959
DTEND;TZID=America/New_York:20260126T123959
DTSTAMP:20260420T075903
CREATED:20260126T174000Z
LAST-MODIFIED:20260126T174000Z
UID:25471-1769431199-1769431199@ritms.rutgers.edu
SUMMARY:RWJMS Pediatric Grand Rounds
DESCRIPTION:RWJMS Pediatric Grand Rounds-From Pediatric To Adult Care: Developing a Health Care Transition Intervention for Childhood Cancer Survivors\, Katie Devine\, PhD\, MPH\, Rutgers Cancer Institute. View Flyer and Join on Zoom
URL:https://ritms.rutgers.edu/event/rwjms-pediatric-grand-rounds-9/
END:VEVENT
BEGIN:VEVENT
DTSTART;TZID=America/New_York:20260128T100000
DTEND;TZID=America/New_York:20260128T110000
DTSTAMP:20260420T075903
CREATED:20260122T142505Z
LAST-MODIFIED:20260122T143721Z
UID:25432-1769594400-1769598000@ritms.rutgers.edu
SUMMARY:Rutgers Princeton Center for Computational Cognitive Neuropsychiatry Seminar
DESCRIPTION:Rutgers Princeton Center for Computational Cognitive Neuropsychiatry Seminar-Two kinds of uncertainty\, two kinds of learning failure\, Payam Piray\, University of Southern California. ccnp.princeton.edu
URL:https://ritms.rutgers.edu/event/rutgers-princeton-center-for-computational-cognitive-neuropsychiatry-seminar-66/
END:VEVENT
BEGIN:VEVENT
DTSTART;TZID=America/New_York:20260130T090000
DTEND;TZID=America/New_York:20260130T100000
DTSTAMP:20260420T075903
CREATED:20251203T154900Z
LAST-MODIFIED:20251203T154951Z
UID:24879-1769763600-1769767200@ritms.rutgers.edu
SUMMARY:Spring Mentor Workshop Series
DESCRIPTION:Spring Mentor Workshop Series-Pre-College Initiatives & College Success\, Time Management. Tillet Hall\, Room 204\, 50 Joyce Kilmer Avenue\, Piscataway. View Flyer and RSVP
URL:https://ritms.rutgers.edu/event/spring-mentor-workshop-series/
END:VEVENT
END:VCALENDAR