BEGIN:VCALENDAR
VERSION:2.0
PRODID:-//Institute for Translational Medicine and Science - ECPv6.15.16//NONSGML v1.0//EN
CALSCALE:GREGORIAN
METHOD:PUBLISH
X-ORIGINAL-URL:https://ritms.rutgers.edu
X-WR-CALDESC:Events for Institute for Translational Medicine and Science
REFRESH-INTERVAL;VALUE=DURATION:PT1H
X-Robots-Tag:noindex
X-PUBLISHED-TTL:PT1H
BEGIN:VTIMEZONE
TZID:America/New_York
BEGIN:DAYLIGHT
TZOFFSETFROM:-0500
TZOFFSETTO:-0400
TZNAME:EDT
DTSTART:20240310T070000
END:DAYLIGHT
BEGIN:STANDARD
TZOFFSETFROM:-0400
TZOFFSETTO:-0500
TZNAME:EST
DTSTART:20241103T060000
END:STANDARD
BEGIN:DAYLIGHT
TZOFFSETFROM:-0500
TZOFFSETTO:-0400
TZNAME:EDT
DTSTART:20250309T070000
END:DAYLIGHT
BEGIN:STANDARD
TZOFFSETFROM:-0400
TZOFFSETTO:-0500
TZNAME:EST
DTSTART:20251102T060000
END:STANDARD
BEGIN:DAYLIGHT
TZOFFSETFROM:-0500
TZOFFSETTO:-0400
TZNAME:EDT
DTSTART:20260308T070000
END:DAYLIGHT
BEGIN:STANDARD
TZOFFSETFROM:-0400
TZOFFSETTO:-0500
TZNAME:EST
DTSTART:20261101T060000
END:STANDARD
END:VTIMEZONE
BEGIN:VTIMEZONE
TZID:UTC
BEGIN:STANDARD
TZOFFSETFROM:+0000
TZOFFSETTO:+0000
TZNAME:UTC
DTSTART:20240101T000000
END:STANDARD
END:VTIMEZONE
BEGIN:VEVENT
DTSTART;TZID=America/New_York:20250903T083010
DTEND;TZID=America/New_York:20250903T083010
DTSTAMP:20260421T112710
CREATED:20250903T133011Z
LAST-MODIFIED:20250903T133011Z
UID:23598-1756888210-1756888210@ritms.rutgers.edu
SUMMARY:NJ ACTS Biostatistics and Epidemiology Research Design Workshop Series
DESCRIPTION:NJ ACTS Biostatistics and Epidemiology Research Design Workshop Series-Incorporating Genetic Ancestry Similarity in Biomedical Research: Conceptual Issues and Practical Examples\, Jessica Salvatore\, PhD and Megan Cooke\, PhD. View Flyer and Register for Zoom
URL:https://ritms.rutgers.edu/event/nj-acts-biostatistics-and-epidemiology-research-design-workshop-series/
END:VEVENT
BEGIN:VEVENT
DTSTART;TZID=America/New_York:20250908T065109
DTEND;TZID=America/New_York:20250908T065109
DTSTAMP:20260421T112710
CREATED:20250908T115109Z
LAST-MODIFIED:20250908T115109Z
UID:23647-1757314269-1757314269@ritms.rutgers.edu
SUMMARY:NJ ACTS Special Seminar
DESCRIPTION:NJ ACTS Special Seminar-Mechanistic Determinants of Repair and Regeneration in Response to Chronic Injury\, Venkataramana K. Sidhaye\, MD\, Johns Hopkins University. 89 French Street\, New Brunswick. View Flyer and Access by Zoom
URL:https://ritms.rutgers.edu/event/nj-acts-special-seminar-2/
END:VEVENT
BEGIN:VEVENT
DTSTART;TZID=America/New_York:20250908T073543
DTEND;TZID=America/New_York:20250908T073543
DTSTAMP:20260421T112710
CREATED:20250908T123543Z
LAST-MODIFIED:20250908T123543Z
UID:23654-1757316943-1757316943@ritms.rutgers.edu
SUMMARY:Fall Mentor Workshops
DESCRIPTION:Fall Mentor Workshops-INTRODUCTION TO MENTORING. Learn how you can offer guidance and advice based on your own experiences. Share insights on academic challenges\, career paths\, and personal growth. Tillet Hall Room 204\, Piscataway. View Flyer and Become a Mentor
URL:https://ritms.rutgers.edu/event/fall-mentor-workshops/
END:VEVENT
BEGIN:VEVENT
DTSTART;TZID=America/New_York:20250908T073717
DTEND;TZID=America/New_York:20250908T073717
DTSTAMP:20260421T112710
CREATED:20250908T123718Z
LAST-MODIFIED:20250908T123718Z
UID:23655-1757317037-1757317037@ritms.rutgers.edu
SUMMARY:Fall Mentor Workshops
DESCRIPTION:Fall Mentor Workshops-EFFECTIVE COMMUNICATION. Learn how you can offer guidance and advice based on your own experiences. Share insights on academic challenges\, career paths\, and personal growth. Tillet Hall Room 204\, Piscataway. View Flyer and Become a Mentor
URL:https://ritms.rutgers.edu/event/fall-mentor-workshops-2/
END:VEVENT
BEGIN:VEVENT
DTSTART;TZID=America/New_York:20250908T073843
DTEND;TZID=America/New_York:20250908T073843
DTSTAMP:20260421T112710
CREATED:20250908T123844Z
LAST-MODIFIED:20250908T123844Z
UID:23656-1757317123-1757317123@ritms.rutgers.edu
SUMMARY:Fall Mentor Workshops
DESCRIPTION:Fall Mentor Workshops-TIME MANAGEMENT & GOAL SETTING. Learn how you can offer guidance and advice based on your own experiences. Share insights on academic challenges\, career paths\, and personal growth. Tillet Hall Room 204\, Piscataway. View Flyer and Become a Mentor
URL:https://ritms.rutgers.edu/event/fall-mentor-workshops-3/
END:VEVENT
BEGIN:VEVENT
DTSTART;TZID=America/New_York:20250908T074020
DTEND;TZID=America/New_York:20250908T074020
DTSTAMP:20260421T112710
CREATED:20250908T124021Z
LAST-MODIFIED:20250908T124021Z
UID:23657-1757317220-1757317220@ritms.rutgers.edu
SUMMARY:Fall Mentor Workshops
DESCRIPTION:Fall Mentor Workshops-STORYTELLING THROUGH ART. Learn how you can offer guidance and advice based on your own experiences. Share insights on academic challenges\, career paths\, and personal growth. Tillet Hall Room 204\, Piscataway. View Flyer and Become a Mentor
URL:https://ritms.rutgers.edu/event/fall-mentor-workshops-4/
END:VEVENT
BEGIN:VEVENT
DTSTART;TZID=America/New_York:20250908T075838
DTEND;TZID=America/New_York:20250908T075838
DTSTAMP:20260421T112710
CREATED:20250908T125839Z
LAST-MODIFIED:20250908T125839Z
UID:23658-1757318318-1757318318@ritms.rutgers.edu
SUMMARY:Rutgers Health AI Virtual Seminar Series
DESCRIPTION:Rutgers Health AI Virtual Seminar Series-Small Data in the Big Data Paradigm: LLMs and Relevant Use Cases\, Fay Cobb Payton\, PhD\, MBA\, Rutgers. View Flyer and Join on Zoom
URL:https://ritms.rutgers.edu/event/rutgers-health-ai-virtual-seminar-series/
END:VEVENT
BEGIN:VEVENT
DTSTART;TZID=America/New_York:20250908T090357
DTEND;TZID=America/New_York:20250908T090357
DTSTAMP:20260421T112710
CREATED:20250908T140358Z
LAST-MODIFIED:20250908T140358Z
UID:23667-1757322237-1757322237@ritms.rutgers.edu
SUMMARY:Rutgers Princeton Center for Computational Cognitive Neuropsychiatry Seminar
DESCRIPTION:Rutgers Princeton Center for Computational Cognitive Neuropsychiatry Seminar-Computational Models of Self-judgment and Repetitive Negative Thinking\, Peter Frank Hitchcock\, Emory University. https://ccnp.princeton.edu/  
URL:https://ritms.rutgers.edu/event/rutgers-princeton-center-for-computational-cognitive-neuropsychiatry-seminar-58/
END:VEVENT
BEGIN:VEVENT
DTSTART;TZID=America/New_York:20250908T093933
DTEND;TZID=America/New_York:20250908T093933
DTSTAMP:20260421T112710
CREATED:20250908T143933Z
LAST-MODIFIED:20250908T143933Z
UID:23668-1757324373-1757324373@ritms.rutgers.edu
SUMMARY:CINJ Trainee Seminar Series
DESCRIPTION:CINJ Trainee Seminar Series-MTR as a Therapeutic Target in NSCLC: Bridging Folate Metabolism to Tumor Immunity\, Luisa Quezada Ziesse\, PhD and Heterogeneity and Tumor Dynamics of Rare Bladder Cancer Subtypes at the Tumor-Stroma Margins. CINJ\, Auditorium B.
URL:https://ritms.rutgers.edu/event/cinj-trainee-seminar-series-33/
END:VEVENT
BEGIN:VEVENT
DTSTART;TZID=America/New_York:20250908T100134
DTEND;TZID=America/New_York:20250908T100134
DTSTAMP:20260421T112710
CREATED:20250908T150135Z
LAST-MODIFIED:20250908T150135Z
UID:23670-1757325694-1757325694@ritms.rutgers.edu
SUMMARY:Annual George and Lily Boxer Memorial Lecture
DESCRIPTION:Annual George and Lily Boxer Memorial Lecture-Structure\, Function\, and Inhibition of the HIV Capsid\, Wesley I. Sundquist\, PhD\, Spencer Fox Eccles School of Medicine. 675 Hoes Lane\, Piscataway. View Flyer
URL:https://ritms.rutgers.edu/event/annual-george-and-lily-boxer-memorial-lecture/
END:VEVENT
BEGIN:VEVENT
DTSTART;TZID=America/New_York:20250908T102428
DTEND;TZID=America/New_York:20250908T102428
DTSTAMP:20260421T112710
CREATED:20250908T152429Z
LAST-MODIFIED:20250908T152429Z
UID:23672-1757327068-1757327068@ritms.rutgers.edu
SUMMARY:RWJMS Department of Pediatrics Grand Rounds
DESCRIPTION:RWJMS Department of Pediatrics Grand Rounds-Inaugural State of the Department\, Vikas R. Dharnidharka\, MD\, MPH\, Bristol-Myers-Squibb Children’s Hospital. Hybrid Event. CAB\, New Brunswick or on Zoom. View Flyer
URL:https://ritms.rutgers.edu/event/rwjms-department-of-pediatrics-grand-rounds/
END:VEVENT
BEGIN:VEVENT
DTSTART;TZID=America/New_York:20250910T082904
DTEND;TZID=America/New_York:20250910T082904
DTSTAMP:20260421T112710
CREATED:20250910T132904Z
LAST-MODIFIED:20250910T132904Z
UID:23699-1757492944-1757492944@ritms.rutgers.edu
SUMMARY:NJ ACTS Workforce Development Grant Writing Mini-Course
DESCRIPTION:NJ ACTS Workforce Development Grant Writing Mini-Course-For Postdocs\, residents\, fellows\, faculty\, instructors\, and clinicians working towards their 1st career (K)and research (R) NIH grant application. On Zoom. View Flyer and Register by 12/12
URL:https://ritms.rutgers.edu/event/nj-acts-workforce-development-grant-writing-mini-course/
END:VEVENT
BEGIN:VEVENT
DTSTART;TZID=America/New_York:20250910T083000
DTEND;TZID=America/New_York:20250910T083000
DTSTAMP:20260421T112710
CREATED:20250910T133000Z
LAST-MODIFIED:20250910T133000Z
UID:23700-1757493000-1757493000@ritms.rutgers.edu
SUMMARY:NJ ACTS Workforce Development Grant Writing Mini-Course
DESCRIPTION:NJ ACTS Workforce Development Grant Writing Mini-Course-For Postdocs\, residents\, fellows\, faculty\, instructors\, and clinicians working towards their 1st career (K)and research (R) NIH grant application. On Zoom. View Flyer and Register by 12/12
URL:https://ritms.rutgers.edu/event/nj-acts-workforce-development-grant-writing-mini-course-2/
END:VEVENT
BEGIN:VEVENT
DTSTART;TZID=America/New_York:20250910T083048
DTEND;TZID=America/New_York:20250910T083048
DTSTAMP:20260421T112710
CREATED:20250910T133049Z
LAST-MODIFIED:20250910T133049Z
UID:23701-1757493048-1757493048@ritms.rutgers.edu
SUMMARY:NJ ACTS Workforce Development Grant Writing Mini-Course
DESCRIPTION:NJ ACTS Workforce Development Grant Writing Mini-Course-For Postdocs\, residents\, fellows\, faculty\, instructors\, and clinicians working towards their 1st career (K)and research (R) NIH grant application. On Zoom. View Flyer and Register by 12/12
URL:https://ritms.rutgers.edu/event/nj-acts-workforce-development-grant-writing-mini-course-3/
END:VEVENT
BEGIN:VEVENT
DTSTART;TZID=America/New_York:20250910T083135
DTEND;TZID=America/New_York:20250910T083135
DTSTAMP:20260421T112710
CREATED:20250910T133136Z
LAST-MODIFIED:20250910T133136Z
UID:23704-1757493095-1757493095@ritms.rutgers.edu
SUMMARY:NJ ACTS Workforce Development Grant Writing Mini-Course
DESCRIPTION:NJ ACTS Workforce Development Grant Writing Mini-Course-For Postdocs\, residents\, fellows\, faculty\, instructors\, and clinicians working towards their 1st career (K)and research (R) NIH grant application. On Zoom. View Flyer and Register by 12/12
URL:https://ritms.rutgers.edu/event/nj-acts-workforce-development-grant-writing-mini-course-4/
END:VEVENT
BEGIN:VEVENT
DTSTART;TZID=America/New_York:20250910T083224
DTEND;TZID=America/New_York:20250910T083224
DTSTAMP:20260421T112710
CREATED:20250910T133225Z
LAST-MODIFIED:20250910T133225Z
UID:23705-1757493144-1757493144@ritms.rutgers.edu
SUMMARY:NJ ACTS Workforce Development Grant Writing Mini-Course
DESCRIPTION:NJ ACTS Workforce Development Grant Writing Mini-Course-For Postdocs\, residents\, fellows\, faculty\, instructors\, and clinicians working towards their 1st career (K)and research (R) NIH grant application. On Zoom. View Flyer and Register by 12/12
URL:https://ritms.rutgers.edu/event/nj-acts-workforce-development-grant-writing-mini-course-5/
END:VEVENT
BEGIN:VEVENT
DTSTART;TZID=America/New_York:20250911T090000
DTEND;TZID=America/New_York:20250911T164500
DTSTAMP:20260421T112710
CREATED:20250814T122115Z
LAST-MODIFIED:20250814T132210Z
UID:23381-1757581200-1757609100@ritms.rutgers.edu
SUMMARY:CHINJ Annual Scientific Retreat
DESCRIPTION:CHINJ Annual Scientific Retreat-3q29 deletion syndrome: harnessing a rare variant to understand common neurodevelopmental phenotypes\, Jennifer Mulle\, MHS\, PhD\, RWJMS at Cook Student Center\, MPR ABC\, 59 Biel Road\, New Brunswick. View Flyer
URL:https://ritms.rutgers.edu/event/chinj-annual-scientific-retreat/
END:VEVENT
BEGIN:VEVENT
DTSTART;TZID=America/New_York:20250915T073237
DTEND;TZID=America/New_York:20250915T073237
DTSTAMP:20260421T112710
CREATED:20250915T123238Z
LAST-MODIFIED:20250915T123238Z
UID:23754-1757921557-1757921557@ritms.rutgers.edu
SUMMARY:CINJ Trainee Seminar Series
DESCRIPTION:CINJ Trainee Seminar Series-Selecting True DNA Variants from Single-Cell DNA Sequencing Data in Pediatric AML Samples\, Byron Avihai. CINJ\, Auditorium B. View Flyer
URL:https://ritms.rutgers.edu/event/cinj-trainee-seminar-series-34/
END:VEVENT
BEGIN:VEVENT
DTSTART;TZID=America/New_York:20250916T081517
DTEND;TZID=America/New_York:20250916T081517
DTSTAMP:20260421T112710
CREATED:20250916T131518Z
LAST-MODIFIED:20250916T131518Z
UID:23772-1758010517-1758010517@ritms.rutgers.edu
SUMMARY:NCATS Eli Lilly Clinical Trial Bootcamp
DESCRIPTION:NCATS Eli Lilly Clinical Trial Bootcamp-A 5-day\, in-person immersive training program designed for Clinical Research Physicians and Scientists who are new to their role. Lilly Corporate Center\, Indianapolis. Read More and view the CTBC Agenda
URL:https://ritms.rutgers.edu/event/ncats-eli-lilly-clinical-trial-bootcamp/
END:VEVENT
BEGIN:VEVENT
DTSTART;TZID=America/New_York:20250916T081620
DTEND;TZID=America/New_York:20250916T081620
DTSTAMP:20260421T112710
CREATED:20250916T131620Z
LAST-MODIFIED:20250916T131620Z
UID:23773-1758010580-1758010580@ritms.rutgers.edu
SUMMARY:NCATS Eli Lilly Clinical Trial Bootcamp
DESCRIPTION:NCATS Eli Lilly Clinical Trial Bootcamp-A 5-day\, in-person immersive training program designed for Clinical Research Physicians and Scientists who are new to their role. Lilly Corporate Center\, Indianapolis. Read More and view the CTBC Agenda
URL:https://ritms.rutgers.edu/event/ncats-eli-lilly-clinical-trial-bootcamp-2/
END:VEVENT
BEGIN:VEVENT
DTSTART;TZID=America/New_York:20250916T081712
DTEND;TZID=America/New_York:20250916T081712
DTSTAMP:20260421T112710
CREATED:20250916T131712Z
LAST-MODIFIED:20250916T131712Z
UID:23774-1758010632-1758010632@ritms.rutgers.edu
SUMMARY:NCATS Eli Lilly Clinical Trial Bootcamp
DESCRIPTION:NCATS Eli Lilly Clinical Trial Bootcamp-A 5-day\, in-person immersive training program designed for Clinical Research Physicians and Scientists who are new to their role. Lilly Corporate Center\, Indianapolis. Read More and view the CTBC Agenda
URL:https://ritms.rutgers.edu/event/ncats-eli-lilly-clinical-trial-bootcamp-3/
END:VEVENT
BEGIN:VEVENT
DTSTART;TZID=America/New_York:20250916T081803
DTEND;TZID=America/New_York:20250916T081803
DTSTAMP:20260421T112710
CREATED:20250916T131804Z
LAST-MODIFIED:20250916T131804Z
UID:23775-1758010683-1758010683@ritms.rutgers.edu
SUMMARY:NCATS Eli Lilly Clinical Trial Bootcamp
DESCRIPTION:NCATS Eli Lilly Clinical Trial Bootcamp-A 5-day\, in-person immersive training program designed for Clinical Research Physicians and Scientists who are new to their role. Lilly Corporate Center\, Indianapolis. Read More and view the CTBC Agenda
URL:https://ritms.rutgers.edu/event/ncats-eli-lilly-clinical-trial-bootcamp-4/
END:VEVENT
BEGIN:VEVENT
DTSTART;TZID=America/New_York:20250916T081848
DTEND;TZID=America/New_York:20250916T081848
DTSTAMP:20260421T112710
CREATED:20250916T131849Z
LAST-MODIFIED:20250916T131849Z
UID:23776-1758010728-1758010728@ritms.rutgers.edu
SUMMARY:NCATS Eli Lilly Clinical Trial Bootcamp
DESCRIPTION:NCATS Eli Lilly Clinical Trial Bootcamp-A 5-day\, in-person immersive training program designed for Clinical Research Physicians and Scientists who are new to their role. Lilly Corporate Center\, Indianapolis. Read More and view the CTBC Agenda
URL:https://ritms.rutgers.edu/event/ncats-eli-lilly-clinical-trial-bootcamp-5/
END:VEVENT
BEGIN:VEVENT
DTSTART;TZID=America/New_York:20250916T105308
DTEND;TZID=America/New_York:20250916T105308
DTSTAMP:20260421T112710
CREATED:20250916T155308Z
LAST-MODIFIED:20250916T155308Z
UID:23779-1758019988-1758019988@ritms.rutgers.edu
SUMMARY:NJ ACTS Special Lecture
DESCRIPTION:NJ ACTS Special Lecture-Medical Devices 101: Lessons learned from 25+ years in the industry\, M Wendy Ballesteros\, MS\, MBA. Virtual View Flyer and Register for Zoom
URL:https://ritms.rutgers.edu/event/nj-acts-special-lecture/
END:VEVENT
BEGIN:VEVENT
DTSTART;TZID=America/New_York:20250916T110800
DTEND;TZID=America/New_York:20250916T110800
DTSTAMP:20260421T112710
CREATED:20250916T160800Z
LAST-MODIFIED:20250916T160800Z
UID:23780-1758020880-1758020880@ritms.rutgers.edu
SUMMARY:Rutgers Global Health Institute Health Management Perspectives Lecture Series
DESCRIPTION:Rutgers Global Health Institute Health Management Perspectives Lecture Series-How do we prepare for the next outbreak? Dr. Douglas Noble\, INICEF. Virtual. Register
URL:https://ritms.rutgers.edu/event/rutgers-global-health-institute-health-management-perspectives-lecture-series/
END:VEVENT
BEGIN:VEVENT
DTSTART;TZID=America/New_York:20250918T111216
DTEND;TZID=America/New_York:20250918T111216
DTSTAMP:20260421T112710
CREATED:20250918T161216Z
LAST-MODIFIED:20250918T161216Z
UID:23803-1758193936-1758193936@ritms.rutgers.edu
SUMMARY:CINJ Trainee Seminar Series
DESCRIPTION:CINJ Trainee Seminar Series-Dietary Modulation of Arginine and Tryptophan in Mutator Cancer Models\, Edisa Pirani\, PhD. CINJ Auditorium B. View Flyer
URL:https://ritms.rutgers.edu/event/cinj-trainee-seminar-series-35/
END:VEVENT
BEGIN:VEVENT
DTSTART;TZID=UTC:20250919T093000
DTEND;TZID=UTC:20250919T171500
DTSTAMP:20260421T112710
CREATED:20250908T120121Z
LAST-MODIFIED:20250908T120121Z
UID:23649-1758274200-1758302100@ritms.rutgers.edu
SUMMARY:2025 Rutgers Postdoctoral Research Symposium
DESCRIPTION:2025 Rutgers Postdoctoral Research Symposium-Keynote speaker\, Dr. Laura Giacometti. This celebration of research will strengthen relationships between RU postdocs\, facilitate potential collaborations\, and allow important research to be shared with a broad group of scientists. Proteomics Room 120\, 174 Frelinghuysen Rd\, Piscataway Read More. Registration Deadline: September 12\, using this link.
URL:https://ritms.rutgers.edu/event/2025-rutgers-postdoctoral-research-symposium-2/
LOCATION:Institute for Quantitative Biomedicine at Rutgers\, Proteomics Room 120\, 174 Frelinghuysen Road\, Piscataway\, NJ\, 08854\, United States
END:VEVENT
BEGIN:VEVENT
DTSTART;TZID=America/New_York:20250922T081357
DTEND;TZID=America/New_York:20250922T081357
DTSTAMP:20260421T112710
CREATED:20250922T131358Z
LAST-MODIFIED:20250922T131358Z
UID:23838-1758528837-1758528837@ritms.rutgers.edu
SUMMARY:Rutgers-RWJMS Division of Infectious Diseases Symposium
DESCRIPTION:Rutgers-RWJMS Division of Infectious Diseases Symposium-Including HIV and Comorbidities: What’s Hot\, What’s Next\, Tricia\, Burdo\, PhD\, Rutgers. View Flyer for Additional Details. CAB\, 125 Paterson Street\, New Brunswick. Register
URL:https://ritms.rutgers.edu/event/rutgers-rwjms-division-of-infectious-diseases-symposium/
END:VEVENT
BEGIN:VEVENT
DTSTART;TZID=America/New_York:20250922T084043
DTEND;TZID=America/New_York:20250922T084043
DTSTAMP:20260421T112710
CREATED:20250922T134044Z
LAST-MODIFIED:20250922T134044Z
UID:23839-1758530443-1758530443@ritms.rutgers.edu
SUMMARY:Rutgers Princeton Center for Computational Cognitive Neuropsychiatry Seminar
DESCRIPTION:Rutgers Princeton Center for Computational Cognitive Neuropsychiatry Seminar-Pathways of Social Inference\, Gaurav Patel\, C3N Center. Staged Research Building (SRB) Room 127\, 661 Hoes Lane West\, Piscataway or Virtual. 
URL:https://ritms.rutgers.edu/event/rutgers-princeton-center-for-computational-cognitive-neuropsychiatry-seminar-59/
END:VEVENT
BEGIN:VEVENT
DTSTART;TZID=America/New_York:20250922T101803
DTEND;TZID=America/New_York:20250922T101803
DTSTAMP:20260421T112710
CREATED:20250922T151803Z
LAST-MODIFIED:20250922T151803Z
UID:23840-1758536283-1758536283@ritms.rutgers.edu
SUMMARY:Child Health Institute Special Seminar
DESCRIPTION:Child Health Institute Special Seminar-Neuroimmune Interaction: How Microglia Sense and Regulate Neuronal Activity\, LongJun Wu\, PhD\, University of Texas Health Science Center at Houston. CHI 3101\, 89 French Street\, New Brunswick or on Zoom. FLYER
URL:https://ritms.rutgers.edu/event/child-health-institute-special-seminar/
END:VEVENT
END:VCALENDAR