BEGIN:VCALENDAR
VERSION:2.0
PRODID:-//Institute for Translational Medicine and Science - ECPv6.15.16//NONSGML v1.0//EN
CALSCALE:GREGORIAN
METHOD:PUBLISH
X-ORIGINAL-URL:https://ritms.rutgers.edu
X-WR-CALDESC:Events for Institute for Translational Medicine and Science
REFRESH-INTERVAL;VALUE=DURATION:PT1H
X-Robots-Tag:noindex
X-PUBLISHED-TTL:PT1H
BEGIN:VTIMEZONE
TZID:UTC
BEGIN:STANDARD
TZOFFSETFROM:+0000
TZOFFSETTO:+0000
TZNAME:UTC
DTSTART:20230101T000000
END:STANDARD
END:VTIMEZONE
BEGIN:VEVENT
DTSTART;TZID=UTC:20240904T080000
DTEND;TZID=UTC:20240904T170000
DTSTAMP:20260422T041353
CREATED:20240805T024132Z
LAST-MODIFIED:20240904T233700Z
UID:19953-1725436800-1725469200@ritms.rutgers.edu
SUMMARY:Annual Conference on AI-Enabled Learning Health Systems
DESCRIPTION:Annual Conference on AI-Enabled Learning Health Systems-Insightful discussions on the intersection of artificial intelligence with learning health systems\, patient-centered outcomes research\, and real world evidence. Omni Island Resort\, Amelia Island\, FL. Learn more and save the date.
URL:https://ritms.rutgers.edu/event/annual-conference-on-ai-enabled-learning-health-systems/
END:VEVENT
BEGIN:VEVENT
DTSTART;TZID=UTC:20240904T120000
DTEND;TZID=UTC:20240904T130000
DTSTAMP:20260422T041353
CREATED:20240805T024133Z
LAST-MODIFIED:20240904T233701Z
UID:19954-1725451200-1725454800@ritms.rutgers.edu
SUMMARY:ACTS Justice\, Equity\, Diversity\, and Inclusion Virtual Grand Rounds
DESCRIPTION:ACTS Justice\, Equity\, Diversity\, and Inclusion Virtual Grand Rounds-Innovative Strategies to Diversify Clinical Trials\, Holly A. Massett\, PhD\, National Institute on Aging. Register Here.
URL:https://ritms.rutgers.edu/event/acts-justice-equity-diversity-and-inclusion-virtual-grand-rounds/
END:VEVENT
BEGIN:VEVENT
DTSTART;TZID=UTC:20240904T160000
DTEND;TZID=UTC:20240904T170000
DTSTAMP:20260422T041353
CREATED:20240904T134420Z
LAST-MODIFIED:20240904T233702Z
UID:20160-1725465600-1725469200@ritms.rutgers.edu
SUMMARY:CINJ Distinguished Lecture Series
DESCRIPTION:CINJ Distinguished Lecture Series-Clone Wars\, Telomerase\, and Cancer\, Dr. Steven Artandi\, MD\, PhD\, Stanford University. Auditorium A\, CINJ\, 195 Little Albany Street\, New Brunswick.
URL:https://ritms.rutgers.edu/event/cinj-distinguished-lecture-series/
LOCATION:Rutgers Cancer Institute\, Auditorium A\, 195 Little Albany Street\, New Brunswick\, NJ\, 08901\, United States
END:VEVENT
BEGIN:VEVENT
DTSTART;TZID=UTC:20240905T080000
DTEND;TZID=UTC:20240905T170000
DTSTAMP:20260422T041353
CREATED:20240806T024254Z
LAST-MODIFIED:20240905T123742Z
UID:19989-1725523200-1725555600@ritms.rutgers.edu
SUMMARY:Annual Conference on AI-Enabled Learning Health Systems
DESCRIPTION:Annual Conference on AI-Enabled Learning Health Systems-Insightful discussions on the intersection of artificial intelligence with learning health systems\, patient-centered outcomes research\, and real world evidence. Omni Island Resort\, Amelia Island\, FL. Learn more and save the date.
URL:https://ritms.rutgers.edu/event/annual-conference-on-ai-enabled-learning-health-systems-2/
END:VEVENT
BEGIN:VEVENT
DTSTART;TZID=UTC:20240905T120000
DTEND;TZID=UTC:20240905T130000
DTSTAMP:20260422T041353
CREATED:20240806T024255Z
LAST-MODIFIED:20240905T123743Z
UID:19990-1725537600-1725541200@ritms.rutgers.edu
SUMMARY:NSF I-Corps Teams Information Session
DESCRIPTION:NSF I-Corps Teams Information Session-Teams program is an intensive 7-week boot camp that covers key concepts related to testing and building a business model. Tune into a webinar to ask an I-Corps director questions about the national I-Corps Teams program\, and learn about the curriculum and important dates. Register
URL:https://ritms.rutgers.edu/event/nsf-i-corps-teams-information-session-2/
END:VEVENT
BEGIN:VEVENT
DTSTART;TZID=UTC:20240906T080000
DTEND;TZID=UTC:20240906T170000
DTSTAMP:20260422T041353
CREATED:20240807T043757Z
LAST-MODIFIED:20240907T003415Z
UID:19997-1725609600-1725642000@ritms.rutgers.edu
SUMMARY:Annual Conference on AI-Enabled Learning Health Systems
DESCRIPTION:Annual Conference on AI-Enabled Learning Health Systems-Insightful discussions on the intersection of artificial intelligence with learning health systems\, patient-centered outcomes research\, and real world evidence. Omni Island Resort\, Amelia Island\, FL. Learn more and save the date.
URL:https://ritms.rutgers.edu/event/annual-conference-on-ai-enabled-learning-health-systems-3/
END:VEVENT
BEGIN:VEVENT
DTSTART;TZID=UTC:20240909T110000
DTEND;TZID=UTC:20240909T120000
DTSTAMP:20260422T041353
CREATED:20240903T173703Z
LAST-MODIFIED:20240909T154238Z
UID:20152-1725879600-1725883200@ritms.rutgers.edu
SUMMARY:Rutgers Health Lecture
DESCRIPTION:Rutgers Health Lecture-Forward Looking Science Policy\, Dr Sudip Parikh\, CEO of AAAS\, Medical Science Building\, MSB B 617\, Newark\, NJ (and via Zoom). View Flyer and Register Here
URL:https://ritms.rutgers.edu/event/rutgers-health-lecture/
LOCATION:Medical Science Building\, 185 South Orange Avenue\, Newark\, 07103\, United States
END:VEVENT
BEGIN:VEVENT
DTSTART;TZID=UTC:20240909T130000
DTEND;TZID=UTC:20240909T140000
DTSTAMP:20260422T041353
CREATED:20240819T173945Z
LAST-MODIFIED:20240909T154238Z
UID:20097-1725886800-1725890400@ritms.rutgers.edu
SUMMARY:NJ ACTS Workforce Development NIH Fellowship Writing Group
DESCRIPTION:NJ ACTS Workforce Development NIH Fellowship Writing Group-Under the guidance of a Grant Writing Coach\, construct your NIH fellowship application this Fall. Virtual. and Register
URL:https://ritms.rutgers.edu/event/nj-acts-workforce-development-nih-fellowship-writing-group/
END:VEVENT
BEGIN:VEVENT
DTSTART;TZID=UTC:20240910T120000
DTEND;TZID=UTC:20240910T130000
DTSTAMP:20260422T041353
CREATED:20240904T153705Z
LAST-MODIFIED:20240911T003938Z
UID:20162-1725969600-1725973200@ritms.rutgers.edu
SUMMARY:Master of Science in Clinical Research Management Virtual Info Session
DESCRIPTION:Master of Science in Clinical Research Management Virtual Info Session-Three tracks: Clinical Research Management\, Academic Clinical Research Management\, and Drug Safety and Pharmacovigilance. At the event\, you will have the chance to learn about the application process and talk directly to the CRM Program Director and SHP Admissions. Register Here
URL:https://ritms.rutgers.edu/event/master-of-science-in-clinical-research-management-virtual-info-session/
END:VEVENT
BEGIN:VEVENT
DTSTART;TZID=UTC:20240911T080000
DTEND;TZID=UTC:20240911T090000
DTSTAMP:20260422T041353
CREATED:20240906T124006Z
LAST-MODIFIED:20240912T003708Z
UID:20170-1726041600-1726045200@ritms.rutgers.edu
SUMMARY:RWJMS Pediatric Grand Rounds
DESCRIPTION:RWJMS Pediatric Grand Rounds-HIV-Associated Cardiovascular Disease: Mechanisms and Management\, Tricia H. Burdo\, Ph.D\, Rutgers\, Clinical Academic Building\, 125 Paterson Street\, New Brunswick or on Zoom.
URL:https://ritms.rutgers.edu/event/rwjms-pediatric-grand-rounds-6/
LOCATION:Clinical Academic Building\, Room 3403\, 125 Paterson Street\, New Brunswick\, NJ\, 08901\, United States
END:VEVENT
BEGIN:VEVENT
DTSTART;TZID=UTC:20240911T083000
DTEND;TZID=UTC:20240911T120000
DTSTAMP:20260422T041353
CREATED:20240812T064037Z
LAST-MODIFIED:20240912T003709Z
UID:20049-1726043400-1726056000@ritms.rutgers.edu
SUMMARY:I-Corps Novus
DESCRIPTION:I-Corps Novus-Introductory training to learn how to change your focus from the science / technology to the people it benefits and more! Princeton University\, Julis Romo Rabinowitz Building Washington Road Princeton\, NJ 08544. Register Here.
URL:https://ritms.rutgers.edu/event/i-corps-novus/
LOCATION:Julis Romo Rabinowitz Building\, Washington Road\, Princeton\, NJ\, 08544\, United States
END:VEVENT
BEGIN:VEVENT
DTSTART;TZID=UTC:20240911T100000
DTEND;TZID=UTC:20240911T110000
DTSTAMP:20260422T041353
CREATED:20240906T124209Z
LAST-MODIFIED:20240912T003710Z
UID:20171-1726048800-1726052400@ritms.rutgers.edu
SUMMARY:Rutgers Princeton Center for Computational Cognitive Neuropsychiatry Seminar
DESCRIPTION:Rutgers Princeton Center for Computational Cognitive Neuropsychiatry Seminar-Identifying network-level signatures of affective and psychotic pathology\, Avram Holmes\, RWJMS. Virtual. ccnp.princeton.edu
URL:https://ritms.rutgers.edu/event/rutgers-princeton-center-for-computational-cognitive-neuropsychiatry-seminar-50/
END:VEVENT
BEGIN:VEVENT
DTSTART;TZID=UTC:20240911T120000
DTEND;TZID=UTC:20240911T130000
DTSTAMP:20260422T041353
CREATED:20240911T144058Z
LAST-MODIFIED:20240912T003711Z
UID:20183-1726056000-1726059600@ritms.rutgers.edu
SUMMARY:CINJ Trainee Seminar Series
DESCRIPTION:CINJ Trainee Seminar Series-Elucidating the Role of Gut Microbiome in the CRC Tumorigenesis & Metastasis\, Prasanta Dey\, PhD. CINJ Auditorium A\, New Brunswick.
URL:https://ritms.rutgers.edu/event/cinj-trainee-seminar-series-31/
LOCATION:Rutgers Cancer Institute\, Auditorium A\, 195 Little Albany Street\, New Brunswick\, NJ\, 08901\, United States
END:VEVENT
BEGIN:VEVENT
DTSTART;TZID=UTC:20240913T090000
DTEND;TZID=UTC:20240913T120000
DTSTAMP:20260422T041353
CREATED:20240912T144513Z
LAST-MODIFIED:20240913T233916Z
UID:20197-1726218000-1726228800@ritms.rutgers.edu
SUMMARY:Environmental Health Science Retreat
DESCRIPTION:Environmental Health Science Retreat-Come learn about our Center’s research and resources!
URL:https://ritms.rutgers.edu/event/environmental-health-science-retreat/
LOCATION:EOHSI\, Conference Room C\, 170 Frelinghuysen Road\, Piscataway\, NJ\, 08854\, United States
END:VEVENT
BEGIN:VEVENT
DTSTART;TZID=UTC:20240913T120000
DTEND;TZID=UTC:20240913T130000
DTSTAMP:20260422T041353
CREATED:20240912T144516Z
LAST-MODIFIED:20240913T233917Z
UID:20198-1726228800-1726232400@ritms.rutgers.edu
SUMMARY:Princeton Precision Health 2024 Seminar Series
DESCRIPTION:Princeton Precision Health 2024 Seminar Series-A Wearable-Based Biomarker of Aging and Its Association with Disease and Behavior\, Guillermo Sapiro\, PhD\, Princeton. 252 Nassau Street\, Princeton. View Flyer
URL:https://ritms.rutgers.edu/event/princeton-precision-health-2024-seminar-series/
LOCATION:Princeton University\, 252 Nassau Street\, Princeton\, NJ\, 08544\, United States
END:VEVENT
BEGIN:VEVENT
DTSTART;TZID=UTC:20240916T130000
DTEND;TZID=UTC:20240916T140000
DTSTAMP:20260422T041353
CREATED:20240819T173948Z
LAST-MODIFIED:20240916T184013Z
UID:20098-1726491600-1726495200@ritms.rutgers.edu
SUMMARY:NJ ACTS Workforce Development NIH Fellowship Writing Group
DESCRIPTION:NJ ACTS Workforce Development NIH Fellowship Writing Group-Under the guidance of a Grant Writing Coach\, construct your NIH fellowship application this Fall. Virtual. View Flyer and Register
URL:https://ritms.rutgers.edu/event/nj-acts-workforce-development-nih-fellowship-writing-group-2/
END:VEVENT
BEGIN:VEVENT
DTSTART;TZID=UTC:20240917T120000
DTEND;TZID=UTC:20240917T140000
DTSTAMP:20260422T041353
CREATED:20240822T093336Z
LAST-MODIFIED:20240917T153808Z
UID:20113-1726574400-1726581600@ritms.rutgers.edu
SUMMARY:Rutgers Health DEI Virtual Workshop
DESCRIPTION:Rutgers Health DEI Virtual Workshop-Understanding and Addressing Implicit Bias and Othering\, Maria Soto-Greene\, MD\, NJMS and James Hill\, PhD\, NJMS. View Flyer and Register Here
URL:https://ritms.rutgers.edu/event/rutgers-health-dei-virtual-workshop/
END:VEVENT
BEGIN:VEVENT
DTSTART;TZID=UTC:20240920T113000
DTEND;TZID=UTC:20240920T153000
DTSTAMP:20260422T041353
CREATED:20240821T093321Z
LAST-MODIFIED:20240920T233911Z
UID:20107-1726831800-1726846200@ritms.rutgers.edu
SUMMARY:I-Corps Novus
DESCRIPTION:I-Corps Novus-Introductory training to learn how to change your focus from the science/technology to the people it benefits and more! Martin Tuchman School of Management – 3rd Floor Leir Conference room\, Newark. Register.
URL:https://ritms.rutgers.edu/event/i-corps-novus-2/
LOCATION:Engineering Martin Tuchman School of Management\, 198 Central Avenue\, Newark\, NJ\, 07103\, United States
END:VEVENT
BEGIN:VEVENT
DTSTART;TZID=UTC:20240923T130000
DTEND;TZID=UTC:20240923T140000
DTSTAMP:20260422T041353
CREATED:20240907T133836Z
LAST-MODIFIED:20240924T003440Z
UID:20175-1727096400-1727100000@ritms.rutgers.edu
SUMMARY:NJ ACTS Workforce Development NIH Fellowship Writing Group
DESCRIPTION:NJ ACTS Workforce Development NIH Fellowship Writing Group-Under the guidance of a Grant Writing Coach\, construct your NIH fellowship application this Fall. Virtual. View Flyer and Register
URL:https://ritms.rutgers.edu/event/nj-acts-workforce-development-nih-fellowship-writing-group-3/
END:VEVENT
BEGIN:VEVENT
DTSTART;TZID=UTC:20240924T120000
DTEND;TZID=UTC:20240924T130000
DTSTAMP:20260422T041353
CREATED:20240910T154009Z
LAST-MODIFIED:20240924T184037Z
UID:20180-1727179200-1727182800@ritms.rutgers.edu
SUMMARY:NJ ACTS Special Populations Seminar
DESCRIPTION:NJ ACTS Special Populations Seminar-Peer Support Specialists: Integration in the ED and Feedback from Peers\, Angela Moreland\, PhD. Virtual. View Flyer and Register
URL:https://ritms.rutgers.edu/event/nj-acts-special-populations-seminar/
END:VEVENT
BEGIN:VEVENT
DTSTART;TZID=UTC:20240925T090000
DTEND;TZID=UTC:20240925T164500
DTSTAMP:20260422T041353
CREATED:20240910T154011Z
LAST-MODIFIED:20240925T214352Z
UID:20181-1727254800-1727282700@ritms.rutgers.edu
SUMMARY:CHINJ 6th Annual Scientific Retreat
DESCRIPTION:CHINJ 6th Annual Scientific Retreat-Persistence\, Risk\, and Prediction of Cardiovascular Health: Early DNA Methylation and Clinical Results from the Future of Families Cardiovascular Health Study\, Keynote Speaker Daniel A. Notterman\, MD\, Princeton. Cook Student Center\, 59 Biel Road\, New Brunswick. View Full Agenda
URL:https://ritms.rutgers.edu/event/chinj-6th-annual-scientific-retreat/
LOCATION:Cook Student Center\, 59 Biel Road\, New Brunswick\, NJ\, 08901\, United States
END:VEVENT
BEGIN:VEVENT
DTSTART;TZID=UTC:20240925T100000
DTEND;TZID=UTC:20240925T110000
DTSTAMP:20260422T041353
CREATED:20240919T154058Z
LAST-MODIFIED:20240925T214353Z
UID:20221-1727258400-1727262000@ritms.rutgers.edu
SUMMARY:Rutgers Princeton Center for Computational Cognitive Neuropsychiatry Seminar
DESCRIPTION:Rutgers Princeton Center for Computational Cognitive Neuropsychiatry Seminar-Prior expectations of volatility as a putative cognitive mechanism of persecutory delusions\, Julia Sheffield\, Vanderbilt University Medical Research Center. Virtual.  ccnp.princeton.edu.
URL:https://ritms.rutgers.edu/event/rutgers-princeton-center-for-computational-cognitive-neuropsychiatry-seminar-51/
END:VEVENT
BEGIN:VEVENT
DTSTART;TZID=UTC:20240925T100000
DTEND;TZID=UTC:20240925T110000
DTSTAMP:20260422T041353
CREATED:20240919T154058Z
LAST-MODIFIED:20240919T154058Z
UID:20222-1727258400-1727262000@ritms.rutgers.edu
SUMMARY:Rutgers Princeton Center for Computational Cognitive Neuropsychiatry Seminar
DESCRIPTION:Rutgers Princeton Center for Computational Cognitive Neuropsychiatry Seminar-Prior expectations of volatility as a putative cognitive mechanism of persecutory delusions\, Julia Sheffield\, Vanderbilt University Medical Research Center. Virtual.  ccnp.princeton.edu.
URL:https://ritms.rutgers.edu/event/rutgers-princeton-center-for-computational-cognitive-neuropsychiatry-seminar-52/
END:VEVENT
BEGIN:VEVENT
DTSTART;TZID=UTC:20240926T120000
DTEND;TZID=UTC:20240926T130000
DTSTAMP:20260422T041353
CREATED:20240911T153643Z
LAST-MODIFIED:20240926T203840Z
UID:20187-1727352000-1727355600@ritms.rutgers.edu
SUMMARY:RWJMS Tri-Departmental Seminar Series
DESCRIPTION:RWJMS Tri-Departmental Seminar Series-Energy Matters: Reprogramming of mitochondrial transport and energy metabolism to power neuron regeneration\, Dr. Zu-Hang Sheng\, NINDS\, National Institutes of Health. Research Tower V10\, RWJMS\, New Brunswick. View Flyer
URL:https://ritms.rutgers.edu/event/rwjms-tri-departmental-seminar-series-2/
LOCATION:RWJMS Research Tower\, Room V10\, 675 Hoes Lane\, Piscataway\, NJ\, 08854
END:VEVENT
BEGIN:VEVENT
DTSTART;TZID=UTC:20240927T090000
DTEND;TZID=UTC:20240927T153000
DTSTAMP:20260422T041353
CREATED:20240920T154813Z
LAST-MODIFIED:20240927T174237Z
UID:20226-1727427600-1727451000@ritms.rutgers.edu
SUMMARY:Tyler Clementi Center for Diversity Education and Bias Prevention Inclusion Summit
DESCRIPTION:Tyler Clementi Center for Diversity Education and Bias Prevention Inclusion Summit-This year’s theme\,“Disrupt Hate: Coalition Building Across Difference\,” Livingston Student Center and Online. Register by September 25\, 2024.
URL:https://ritms.rutgers.edu/event/tyler-clementi-center-for-diversity-education-and-bias-prevention-inclusion-summit/
LOCATION:Livingston Student Center\, 84 Joyce Kilmer Ave\, Piscataway\, NJ\, United States
END:VEVENT
BEGIN:VEVENT
DTSTART;TZID=UTC:20240927T100000
DTEND;TZID=UTC:20240927T120000
DTSTAMP:20260422T041353
CREATED:20240916T154315Z
LAST-MODIFIED:20240927T174238Z
UID:20212-1727431200-1727438400@ritms.rutgers.edu
SUMMARY:Rutgers Equity and Inclusion Diversity Collaborative
DESCRIPTION:Rutgers Equity and Inclusion Diversity Collaborative-Mentoring 101 Virtual Workshop presented by the National Center for Faculty Development & Diversity (NCFDD). Register
URL:https://ritms.rutgers.edu/event/rutgers-equity-and-inclusion-diversity-collaborative/
END:VEVENT
BEGIN:VEVENT
DTSTART;TZID=UTC:20240930T120000
DTEND;TZID=UTC:20240930T140000
DTSTAMP:20260422T041353
CREATED:20240911T153644Z
LAST-MODIFIED:20240930T173900Z
UID:20189-1727697600-1727704800@ritms.rutgers.edu
SUMMARY:Faculty Workshop in Mentoring  Biomedical Grad Students and Postdocs
DESCRIPTION:Faculty Workshop in Mentoring Biomedical Grad Students and Postdocs-Topics and interactive case studies will include:Rationale for mentoring the mentors; Principles in mentoring relationships and more. RWJMS Research Tower\, Deans Conference Room 123\, 675 Hoes Lane West\, Piscataway. View Flyer and Register Here.
URL:https://ritms.rutgers.edu/event/faculty-workshop-in-mentoring-biomedical-grad-students-and-postdocs/
LOCATION:RWJMS Research Tower\, Dean’s Conference Room\, R102\, 675 Hoes Lane West\, Piscataway\, NJ\, United States
END:VEVENT
BEGIN:VEVENT
DTSTART;TZID=UTC:20240930T130000
DTEND;TZID=UTC:20240930T140000
DTSTAMP:20260422T041353
CREATED:20240911T153645Z
LAST-MODIFIED:20240930T173901Z
UID:20190-1727701200-1727704800@ritms.rutgers.edu
SUMMARY:NJ ACTS Workforce Development NIH Fellowship Writing Group
DESCRIPTION:NJ ACTS Workforce Development NIH Fellowship Writing Group-Under the guidance of a Grant Writing Coach\, construct your NIH fellowship application this Fall. Virtual. View Flyer and Register
URL:https://ritms.rutgers.edu/event/nj-acts-workforce-development-nih-fellowship-writing-group-4/
END:VEVENT
BEGIN:VEVENT
DTSTART;TZID=UTC:20240930T150000
DTEND;TZID=UTC:20240930T160000
DTSTAMP:20260422T041353
CREATED:20240911T153645Z
LAST-MODIFIED:20240930T173902Z
UID:20191-1727708400-1727712000@ritms.rutgers.edu
SUMMARY:NCATS Director’s Roundtable Webinar
DESCRIPTION:NCATS Director’s Roundtable Webinar-Translating the Strategic Plan into Action\, Join NCATS Director Dr. Joni Rutter in a roundtable discussion on Sept. 30\, 2024. This event is an opportunity for our community to hear about the new 2025 – 2030 Strategic Plan and help us as we translate the plan into action. Register
URL:https://ritms.rutgers.edu/event/ncats-directors-roundtable-webinar/
END:VEVENT
END:VCALENDAR