BEGIN:VCALENDAR
VERSION:2.0
PRODID:-//Institute for Translational Medicine and Science - ECPv6.15.16//NONSGML v1.0//EN
CALSCALE:GREGORIAN
METHOD:PUBLISH
X-WR-CALNAME:Institute for Translational Medicine and Science
X-ORIGINAL-URL:https://ritms.rutgers.edu
X-WR-CALDESC:Events for Institute for Translational Medicine and Science
REFRESH-INTERVAL;VALUE=DURATION:PT1H
X-Robots-Tag:noindex
X-PUBLISHED-TTL:PT1H
BEGIN:VTIMEZONE
TZID:America/New_York
BEGIN:DAYLIGHT
TZOFFSETFROM:-0500
TZOFFSETTO:-0400
TZNAME:EDT
DTSTART:20250309T070000
END:DAYLIGHT
BEGIN:STANDARD
TZOFFSETFROM:-0400
TZOFFSETTO:-0500
TZNAME:EST
DTSTART:20251102T060000
END:STANDARD
BEGIN:DAYLIGHT
TZOFFSETFROM:-0500
TZOFFSETTO:-0400
TZNAME:EDT
DTSTART:20260308T070000
END:DAYLIGHT
BEGIN:STANDARD
TZOFFSETFROM:-0400
TZOFFSETTO:-0500
TZNAME:EST
DTSTART:20261101T060000
END:STANDARD
BEGIN:DAYLIGHT
TZOFFSETFROM:-0500
TZOFFSETTO:-0400
TZNAME:EDT
DTSTART:20270314T070000
END:DAYLIGHT
BEGIN:STANDARD
TZOFFSETFROM:-0400
TZOFFSETTO:-0500
TZNAME:EST
DTSTART:20271107T060000
END:STANDARD
END:VTIMEZONE
BEGIN:VEVENT
DTSTART;TZID=America/New_York:20260428T120000
DTEND;TZID=America/New_York:20260428T130000
DTSTAMP:20260423T142126
CREATED:20260318T114933Z
LAST-MODIFIED:20260330T123426Z
UID:26038-1777377600-1777381200@ritms.rutgers.edu
SUMMARY:NJ ACTS Special Populations Seminar
DESCRIPTION:NJ ACTS Special Populations Seminar-Addressing Mental Illness and Addiction among Individuals with Intellectual and Developmental Disabilities\, Elizabeth M. Stone\, MD\, MSPH\, Rutgers RWJMS. View Flyer and Register
URL:https://ritms.rutgers.edu/event/nj-acts-special-populations-seminar-7/
END:VEVENT
BEGIN:VEVENT
DTSTART;TZID=America/New_York:20260429T093000
DTEND;TZID=America/New_York:20260429T113000
DTSTAMP:20260423T142126
CREATED:20260415T141801Z
LAST-MODIFIED:20260415T144942Z
UID:26454-1777455000-1777462200@ritms.rutgers.edu
SUMMARY:NJACTS Multilingual Research Methods Workshop
DESCRIPTION:NJACTS Multilingual Research Methods Workshop-This session is designed for researchers who are working on\, or interested in\, multilingual projects and would benefit from peer and expert feedback. 303 George Street\, New Brunswick. View Flyer and Register by 4/22
URL:https://ritms.rutgers.edu/event/njacts-multilingual-research-methods-workshop/
END:VEVENT
BEGIN:VEVENT
DTSTART;TZID=America/New_York:20260506T090000
DTEND;TZID=America/New_York:20260506T170000
DTSTAMP:20260423T142126
CREATED:20260129T130256Z
LAST-MODIFIED:20260401T135454Z
UID:25511-1778058000-1778086800@ritms.rutgers.edu
SUMMARY:National Symposium on Wildfires
DESCRIPTION:National Symposium on Wildfires-Wildfires and Their Impact on the Environment and Health\, opening remarks by the NIEHS Director. Virtual and in-person at Richard Weeks Hall of Engineering\, Rutgers Busch Campus\, Piscataway. Wildfires-Flyer and Visit the Website. 
URL:https://ritms.rutgers.edu/event/national-symposium-on-wildfires/
END:VEVENT
BEGIN:VEVENT
DTSTART;TZID=America/New_York:20260513T120000
DTEND;TZID=America/New_York:20260513T130000
DTSTAMP:20260423T142126
CREATED:20260106T140944Z
LAST-MODIFIED:20260421T133238Z
UID:25246-1778673600-1778677200@ritms.rutgers.edu
SUMMARY:Trial Innovation Network Collaboration Webinar
DESCRIPTION:Trial Innovation Network Collaboration Webinar-Using “honest broker” Epic MyChart\, Direct Email\, and Postal Mail to Support Participant Recruitment for Sensitive Adult and Youth Study Populations\, Katherine Connors. Register
URL:https://ritms.rutgers.edu/event/trial-innovation-network-collaboration-webinar-21/
END:VEVENT
BEGIN:VEVENT
DTSTART;TZID=America/New_York:20260520T083000
DTEND;TZID=America/New_York:20260520T120000
DTSTAMP:20260423T142126
CREATED:20251211T173224Z
LAST-MODIFIED:20260408T150325Z
UID:25009-1779265800-1779278400@ritms.rutgers.edu
SUMMARY:Clinical Trials Day at CINJ
DESCRIPTION:Clinical Trials Day at CINJ-Advancing Health Through Research – Join us in celebrating the vital role of clinical research professionals and shining a light on the next generation of the translational science workforce. Main Auditorium\, CINJ\, New Brunswick. New Flyer and Register
URL:https://ritms.rutgers.edu/event/clinical-trials-day-at-cinj/
END:VEVENT
BEGIN:VEVENT
DTSTART;TZID=America/New_York:20260520T110000
DTEND;TZID=America/New_York:20260520T140000
DTSTAMP:20260423T142126
CREATED:20251211T173412Z
LAST-MODIFIED:20260408T150244Z
UID:25010-1779274800-1779285600@ritms.rutgers.edu
SUMMARY:Clinical Trials Day at Newark Campus
DESCRIPTION:Clinical Trials Day at Newark Campus-Advancing Health Through Research – Join us in celebrating the vital role of clinical research professionals and shining a light on the next generation of the translational science workforce. Rosemary Gellene Room. New Flyer and Register
URL:https://ritms.rutgers.edu/event/clinical-trials-day-at-newark-campus/
END:VEVENT
BEGIN:VEVENT
DTSTART;TZID=America/New_York:20260520T110000
DTEND;TZID=America/New_York:20260520T143000
DTSTAMP:20260423T142126
CREATED:20251211T173555Z
LAST-MODIFIED:20260408T150409Z
UID:25011-1779274800-1779287400@ritms.rutgers.edu
SUMMARY:Clinical Trials Day in New Brunswick
DESCRIPTION:Clinical Trials Day in New Brunswick-Advancing Health Through Research – Join us in celebrating the vital role of clinical research professionals and shining a light on the next generation of the translational science workforce. The Atrium. New Flyer and Register
URL:https://ritms.rutgers.edu/event/clinical-trials-day-in-new-brunswick/
END:VEVENT
BEGIN:VEVENT
DTSTART;TZID=America/New_York:20260603T100000
DTEND;TZID=America/New_York:20260603T130000
DTSTAMP:20260423T142126
CREATED:20260319T190455Z
LAST-MODIFIED:20260319T190522Z
UID:26059-1780480800-1780491600@ritms.rutgers.edu
SUMMARY:Propelus I-Corps hosted by Rutgers University
DESCRIPTION:Propelus I-Corps hosted by Rutgers University-Our four-session Propelus program helps researchers explore the customer perspective to inform how a discovery or innovation can become the basis of a successful startup or venture. Virtual. Details and Register
URL:https://ritms.rutgers.edu/event/26059/
END:VEVENT
BEGIN:VEVENT
DTSTART;TZID=America/New_York:20261027T120000
DTEND;TZID=America/New_York:20261027T130000
DTSTAMP:20260423T142126
CREATED:20260406T113200Z
LAST-MODIFIED:20260416T133405Z
UID:26261-1793102400-1793106000@ritms.rutgers.edu
SUMMARY:NJ ACTS Special Populations Seminar
DESCRIPTION:NJ ACTS Special Populations Seminar-Early Adversity and Child Development and Pediatric Medical Home Environment\, Manuel E. Jimenez\, MD\, Rutgers.
URL:https://ritms.rutgers.edu/event/nj-acts-special-populations-seminar-9/
END:VEVENT
BEGIN:VEVENT
DTSTART;TZID=America/New_York:20261110T120000
DTEND;TZID=America/New_York:20261110T130000
DTSTAMP:20260423T142126
CREATED:20260421T140021Z
LAST-MODIFIED:20260421T140046Z
UID:26536-1794312000-1794315600@ritms.rutgers.edu
SUMMARY:NJ ACTS Special Populations Seminar
DESCRIPTION:NJ ACTS Special Populations Seminar-Topic- HIV prevention intervention barriers to prevention tools and Black women\, Shawnika Hull\, PhD\, Rutgers University.
URL:https://ritms.rutgers.edu/event/nj-acts-special-populations-seminar-11/
END:VEVENT
BEGIN:VEVENT
DTSTART;TZID=America/New_York:20261208T120000
DTEND;TZID=America/New_York:20261208T130000
DTSTAMP:20260423T142126
CREATED:20260409T123224Z
LAST-MODIFIED:20260416T133518Z
UID:26340-1796731200-1796734800@ritms.rutgers.edu
SUMMARY:NJ ACTS Special Populations Seminar
DESCRIPTION:NJ ACTS Special Populations Seminar-Aging and Emergency Medicine\, Kei Ouchi\, MD\, MPH\, Harvard University.
URL:https://ritms.rutgers.edu/event/nj-acts-special-populations-seminar-10/
END:VEVENT
END:VCALENDAR