BEGIN:VCALENDAR
VERSION:2.0
PRODID:-//Institute for Translational Medicine and Science - ECPv6.15.16//NONSGML v1.0//EN
CALSCALE:GREGORIAN
METHOD:PUBLISH
X-WR-CALNAME:Institute for Translational Medicine and Science
X-ORIGINAL-URL:https://ritms.rutgers.edu
X-WR-CALDESC:Events for Institute for Translational Medicine and Science
REFRESH-INTERVAL;VALUE=DURATION:PT1H
X-Robots-Tag:noindex
X-PUBLISHED-TTL:PT1H
BEGIN:VTIMEZONE
TZID:UTC
BEGIN:STANDARD
TZOFFSETFROM:+0000
TZOFFSETTO:+0000
TZNAME:UTC
DTSTART:20230101T000000
END:STANDARD
END:VTIMEZONE
BEGIN:VEVENT
DTSTART;TZID=UTC:20240419T120000
DTEND;TZID=UTC:20240419T130000
DTSTAMP:20260423T190810
CREATED:20240412T023502Z
LAST-MODIFIED:20240419T153645Z
UID:19252-1713528000-1713531600@ritms.rutgers.edu
SUMMARY:Princeton Precision Health Seminar Series
DESCRIPTION:Princeton Precision Health Seminar Series-The Etiologies of Kawasaki Disease\, Jane Burns\, MD\, University of California\, San Diego\, 252 Nassau Street. View Flyer
URL:https://ritms.rutgers.edu/event/princeton-precision-health-seminar-series-3/
LOCATION:Princeton University\, 252 Nassau Street\, Princeton\, NJ\, 08544\, United States
END:VEVENT
BEGIN:VEVENT
DTSTART;TZID=UTC:20240419T123000
DTEND;TZID=UTC:20240419T130000
DTSTAMP:20260423T190810
CREATED:20240414T173306Z
LAST-MODIFIED:20240419T153646Z
UID:19269-1713529800-1713531600@ritms.rutgers.edu
SUMMARY:Diversity & Inclusion Campus Communication Cafe
DESCRIPTION:Diversity and Inclusion Campus Communication Cafe-Meeting That Win: The Science Behind Successful Meetings\, Issata Oluwadare\, Rutgers. Virtual. Meeting ID: 932 4426 6578 Password: 370910.
URL:https://ritms.rutgers.edu/event/diversity-and-inclusion-campus-communication-cafe-3/
END:VEVENT
BEGIN:VEVENT
DTSTART;TZID=UTC:20240419T130000
DTEND;TZID=UTC:20240419T141500
DTSTAMP:20260423T190810
CREATED:20240414T173306Z
LAST-MODIFIED:20240419T153646Z
UID:19270-1713531600-1713536100@ritms.rutgers.edu
SUMMARY:NIH Community Engagement Alliance Consultative Resource (CEACR) Speaker Series
DESCRIPTION:NIH Community Engagement Alliance Consultative Resource (CEACR) Speaker Series-Community-Centered Research Design\, explore considerations and strategies for engaging in participatory research processes with community members and organizations\, including study design\, partnership structures\, engagement planning\, and bidirectional communication. Register for Webinar
URL:https://ritms.rutgers.edu/event/nih-community-engagement-alliance-consultative-resource-ceacr-speaker-series/
END:VEVENT
BEGIN:VEVENT
DTSTART;TZID=UTC:20240419T140000
DTEND;TZID=UTC:20240419T144500
DTSTAMP:20260423T190810
CREATED:20240418T023354Z
LAST-MODIFIED:20240419T153646Z
UID:19301-1713535200-1713537900@ritms.rutgers.edu
SUMMARY:School of Social Work X Chat
DESCRIPTION:School of Social Work X Chat-Community Perspectives on Using Wastewater to Monitor Opioid Misuse\, hosted by Qiana L. Brown\, PhD\, Rutgers.(@QianaBrownPhD\, @NJACTS). Click here to learn more. View Flyer
URL:https://ritms.rutgers.edu/event/school-of-social-work-x-chat/
END:VEVENT
BEGIN:VEVENT
DTSTART;TZID=UTC:20240421T080000
DTEND;TZID=UTC:20240421T170000
DTSTAMP:20260423T190810
CREATED:20240418T153946Z
LAST-MODIFIED:20240422T003621Z
UID:19304-1713686400-1713718800@ritms.rutgers.edu
SUMMARY:Propelus I-Corps at Rutgers
DESCRIPTION:Propelus I-Corps at Rutgers-A four-week program designed for research teams with a technology innovation to explore how their discovery can help potential customers and meet industry needs as a startup or venture. May 23\, May 30\, June 6\, June 20. Hatchery Innovation Studio\, New Brunswick\, NJ. Apply by April 21.
URL:https://ritms.rutgers.edu/event/propelus-i-corps-at-rutgers/
END:VEVENT
BEGIN:VEVENT
DTSTART;TZID=UTC:20240422T170000
DTEND;TZID=UTC:20240422T180000
DTSTAMP:20260423T190810
CREATED:20240415T023244Z
LAST-MODIFIED:20240422T163654Z
UID:19274-1713805200-1713808800@ritms.rutgers.edu
SUMMARY:CTSA Virtual Forum
DESCRIPTION:CTSA Virtual N3Community Forum–N3Community Forum: SEER Cancer Registry Data\, Register Here.
URL:https://ritms.rutgers.edu/event/ctsa-virtual-forum/
END:VEVENT
BEGIN:VEVENT
DTSTART;TZID=UTC:20240423T180000
DTEND;TZID=UTC:20240423T193000
DTSTAMP:20260423T190810
CREATED:20240418T153947Z
LAST-MODIFIED:20240423T163554Z
UID:19306-1713895200-1713900600@ritms.rutgers.edu
SUMMARY:Rutgers Innovation Speaker Series
DESCRIPTION:Rutgers Innovation Speaker Series-The role of innovation in medicine\, how new technologies are shaping healthcare\, and an\nopportunity for interprofessional networking\, Jeffrey Mathers\, Johnson and Johnson Innovative Medicine. View Flyer to Register. Clinical Academic Building\, Room 1302\, 125 Paterson St\, New Brunswick.
URL:https://ritms.rutgers.edu/event/rutgers-innovation-speaker-series/
LOCATION:Clinical Academic Building\, Conference Room 1302\, 125 Paterson Street\, New Brunswick\, NJ\, 08901\, United States
END:VEVENT
BEGIN:VEVENT
DTSTART;TZID=UTC:20240424T080000
DTEND;TZID=UTC:20240424T090000
DTSTAMP:20260423T190810
CREATED:20240422T124338Z
LAST-MODIFIED:20240425T003809Z
UID:19332-1713945600-1713949200@ritms.rutgers.edu
SUMMARY:Department of Pediatrics Grand Rounds
DESCRIPTION:Department of Pediatrics Grand Rounds-Repurposing Master Regulator Transcription Factors to Create a New Class of Cellular Therapy for Disease\, Derek Sant’Angelo\, Ph.D.\, Rutgers. Clinical Academic Building\, 125 Paterson Street\, New Brunswick or on Webex.
URL:https://ritms.rutgers.edu/event/department-of-pediatrics-grand-rounds/
LOCATION:Clinical Academic Building\, Room 3403\, 125 Paterson Street\, New Brunswick\, NJ\, 08901\, United States
END:VEVENT
BEGIN:VEVENT
DTSTART;TZID=UTC:20240424T120000
DTEND;TZID=UTC:20240424T130000
DTSTAMP:20260423T190810
CREATED:20240418T153947Z
LAST-MODIFIED:20240425T003810Z
UID:19307-1713960000-1713963600@ritms.rutgers.edu
SUMMARY:NSF I-Corps Hub Entrepreneurship Essentials
DESCRIPTION:NSF I-Corps Hub Entrepreneurship Essentials-Go to Market Strategy\, Adam Dakin\, Medivation Advisors. Virtual. Register Here.
URL:https://ritms.rutgers.edu/event/nsf-i-corps-hub-entrepreneurship-essentials/
END:VEVENT
BEGIN:VEVENT
DTSTART;TZID=UTC:20240425T120000
DTEND;TZID=UTC:20240425T133000
DTSTAMP:20260423T190810
CREATED:20240418T153948Z
LAST-MODIFIED:20240425T083535Z
UID:19308-1714046400-1714051800@ritms.rutgers.edu
SUMMARY:NJ ACTS Biostatistics and Epidemiology Workshop Series
DESCRIPTION:NJ ACTS Biostatistics and Epidemiology Workshop Series-An introduction to Epidemiology: Key Measures and Study Designs\, Dr. Michelle Bover Manderski\, Rutgers. Virtual.  View Flyer and Register Here.
URL:https://ritms.rutgers.edu/event/nj-acts-biostatistics-and-epidemiology-workshop-series-7/
END:VEVENT
BEGIN:VEVENT
DTSTART;TZID=UTC:20240426T120000
DTEND;TZID=UTC:20240426T130000
DTSTAMP:20260423T190810
CREATED:20240423T023720Z
LAST-MODIFIED:20240426T033705Z
UID:19336-1714132800-1714136400@ritms.rutgers.edu
SUMMARY:Faculty Diversity Collaborative Virtual Event
DESCRIPTION:Faculty Diversity Collaborative Women in Leadership Series-Intersectionality and Women of Color in Academic Leadership\, Hazel-Anne Johnson-Marcus\, Ph.D.\, Rutgers. Virtual. View Flyer and Register Here.
URL:https://ritms.rutgers.edu/event/faculty-diversity-collaborative-virtual-event/
END:VEVENT
BEGIN:VEVENT
DTSTART;TZID=UTC:20240429T130000
DTEND;TZID=UTC:20240429T140000
DTSTAMP:20260423T190810
CREATED:20240419T163452Z
LAST-MODIFIED:20240426T033706Z
UID:19315-1714395600-1714399200@ritms.rutgers.edu
SUMMARY:Child Health Institute Science Seminar Series
DESCRIPTION:Child Health Institute Science Seminar Series-The Engineering Potential of Fish Research: Swimming Upstream to New Solutions\, Daniel Alberto Burbano Lombana\, PhD\, Rutgers. Zoom or Child Health Institute\, Room 3209\, 89 French Street\, New Brunswick. View Flyer
URL:https://ritms.rutgers.edu/event/child-health-institute-science-seminar-series-19/
LOCATION:Child Health Institute\, Room 3209\, 89 French Street\, New Brunswick\, 08901\, United States
END:VEVENT
BEGIN:VEVENT
DTSTART;TZID=UTC:20240430T120000
DTEND;TZID=UTC:20240430T130000
DTSTAMP:20260423T190810
CREATED:20240420T033608Z
LAST-MODIFIED:20240426T033706Z
UID:19318-1714478400-1714482000@ritms.rutgers.edu
SUMMARY:Child Health Institute Science Seminar Series
DESCRIPTION:Child Health Institute Science Seminar Series-Highly Pathogenic Viruses and Their Interactions with the Host Ubiquitin System\, Ricardo Rajsbaum\, PhD\, MS\, Rutgers New Jersey Medical School. Conference Room 3101\, CHINJ and on Zoom. View Flyer
URL:https://ritms.rutgers.edu/event/child-health-institute-science-seminar-series-21/
LOCATION:Child Health Institute\, Conference Room 3101\, 89 French Street\, New Brunswick\, NJ\, 08901\, United States
END:VEVENT
BEGIN:VEVENT
DTSTART;TZID=UTC:20240430T130000
DTEND;TZID=UTC:20240430T140000
DTSTAMP:20260423T190810
CREATED:20240420T033608Z
LAST-MODIFIED:20240426T033707Z
UID:19319-1714482000-1714485600@ritms.rutgers.edu
SUMMARY:NJ ACTS Special Populations Core Seminar
DESCRIPTION:NJ ACTS Special Populations Core Seminar-Racial and Ethnic Disparities in Hospice Use Among Medicaid-Only and Dual Eligible Decedents\, Julie Robison\, PhD\, University of Connecticut. Virtual. View Flyer and Register
URL:https://ritms.rutgers.edu/event/nj-acts-special-populations-core-seminar-4/
END:VEVENT
BEGIN:VEVENT
DTSTART;TZID=UTC:20240502T120000
DTEND;TZID=UTC:20240502T130000
DTSTAMP:20260423T190810
CREATED:20240420T033608Z
LAST-MODIFIED:20240502T084222Z
UID:19320-1714651200-1714654800@ritms.rutgers.edu
SUMMARY:NSF I-Corps Teams Program Information Session
DESCRIPTION:NSF I-Corps Teams Program Information Session-For the 7-week boot camp that covers key concepts related to testing and building a business model. Register
URL:https://ritms.rutgers.edu/event/nsf-i-corps-teams-program-information-session-2/
END:VEVENT
BEGIN:VEVENT
DTSTART;TZID=UTC:20240503T080000
DTEND;TZID=UTC:20240503T170000
DTSTAMP:20260423T190810
CREATED:20240420T033609Z
LAST-MODIFIED:20240502T085223Z
UID:19321-1714723200-1714755600@ritms.rutgers.edu
SUMMARY:Propelus I-Corps at Princeton
DESCRIPTION:Propelus I-Corps at Princeton-A two-session program that helps researchers explore the customer perspective to inform how a discovery or innovation can become the basis of a successful startup or venture. May 31 and June 14. Princeton Entrepreneurial Hub\, Princeton NJ. Apply by May 3
URL:https://ritms.rutgers.edu/event/propelus-i-corps-at-princeton/
END:VEVENT
BEGIN:VEVENT
DTSTART;TZID=UTC:20240503T090000
DTEND;TZID=UTC:20240503T163000
DTSTAMP:20260423T190810
CREATED:20240422T103438Z
LAST-MODIFIED:20240502T091319Z
UID:19331-1714726800-1714753800@ritms.rutgers.edu
SUMMARY:Annual NYC Regional Fleisher Diabetes Symposium
DESCRIPTION:Annual NYC Regional Fleisher Diabetes Symposium-Bringing together researcher to discuss the latest diabetes science\, Keynote Speaker Dr. Kevan Herold\, Yale School of Medicine. View Flyer. Abstract Submission deadline 3/22/24. https://www.fleischer-nyc-diabetes.com\, Icahn School of Medicine at Mount Sinai\, NY
URL:https://ritms.rutgers.edu/event/annual-nyc-regional-fleisher-diabetes-symposium/
LOCATION:Icahn School of Medicine\, 1 Gustave L. Levy Pl.\, New York\, NY\, 10029\, United States
END:VEVENT
BEGIN:VEVENT
DTSTART;TZID=UTC:20240503T130000
DTEND;TZID=UTC:20240503T140000
DTSTAMP:20260423T190810
CREATED:20240502T093427Z
LAST-MODIFIED:20240502T093427Z
UID:19377-1714741200-1714744800@ritms.rutgers.edu
SUMMARY:Division of Diversity\, Inclusion\, and Community Engagement Mentor Virtual Workshop
DESCRIPTION:Division of Diversity\, Inclusion\, and Community Engagement Mentor Virtual Workshop-Do’s and Don’ts of Mentoring. View Flyer and Register Here
URL:https://ritms.rutgers.edu/event/division-of-diversity-inclusion-and-community-engagement-mentor-virtual-workshop-9/
END:VEVENT
BEGIN:VEVENT
DTSTART;TZID=UTC:20240506T110000
DTEND;TZID=UTC:20240506T120000
DTSTAMP:20260423T190810
CREATED:20240502T095507Z
LAST-MODIFIED:20240502T095507Z
UID:19378-1714993200-1714996800@ritms.rutgers.edu
SUMMARY:Child Health Institute Science Annual Gould Lecture
DESCRIPTION:Child Health Institute Science Annual Gould Lecture-When Identity and Wiring of Cranial Motor Neurons Goes Askew\, Elizabeth C. Engle\, MD\, Harvard Medical School. Child Health Institute\, Room 3101\, New Brunswick. View Flyer
URL:https://ritms.rutgers.edu/event/child-health-institute-science-annual-gould-lecture/
LOCATION:Child Health Institute\, Conference Room 3101\, 89 French Street\, New Brunswick\, NJ\, 08901\, United States
END:VEVENT
BEGIN:VEVENT
DTSTART;TZID=UTC:20240510T080000
DTEND;TZID=UTC:20240510T090000
DTSTAMP:20260423T190810
CREATED:20240509T183638Z
LAST-MODIFIED:20240509T183638Z
UID:19478-1715328000-1715331600@ritms.rutgers.edu
SUMMARY:ObGyn Department Grand Rounds
DESCRIPTION:ObGyn Department Grand Rounds-Solving the Problems Generated by Extremely Premature Birth\, James E. Sumners\, MD. View Flyer and join on Webex.
URL:https://ritms.rutgers.edu/event/obgyn-department-grand-rounds/
END:VEVENT
BEGIN:VEVENT
DTSTART;TZID=UTC:20240510T120000
DTEND;TZID=UTC:20240510T130000
DTSTAMP:20260423T190810
CREATED:20240509T183642Z
LAST-MODIFIED:20240509T183642Z
UID:19480-1715342400-1715346000@ritms.rutgers.edu
SUMMARY:Cell Biology and Neuroscience 2024 Research Seminar
DESCRIPTION:Cell Biology and Neuroscience 2024 Research Seminar-Epigenetic Programming of Olfactory Sensory Neuron Diversification by Testis expressed 15\, Kevin Monahan\, PhD\, Rutgers. Nelson D406 and on Zoom. View Flyer.
URL:https://ritms.rutgers.edu/event/cell-biology-and-neuroscience-2024-research-seminar/
LOCATION:Nelson Labs\, 604 Allison Road\, Piscataway\, NJ\, 08854\, United States
END:VEVENT
BEGIN:VEVENT
DTSTART;TZID=UTC:20240511T093000
DTEND;TZID=UTC:20240511T150000
DTSTAMP:20260423T190810
CREATED:20240509T183644Z
LAST-MODIFIED:20240509T183644Z
UID:19482-1715419800-1715439600@ritms.rutgers.edu
SUMMARY:National Alliance of Mental Illness (NAMI) NJ Mental Health Conference
DESCRIPTION:National Alliance of Mental Illness (NAMI) NJ Mental Health Conference-United to Heal in Community. Explore mental health care and support. Spanish sessions available. Blanquita B. Valenti CommunitySchool\, 50 Jersey Avenue\, New Brunswick. See the attached flyer for registration.
URL:https://ritms.rutgers.edu/event/national-alliance-of-mental-illness-nami-nj-mental-health-conference/
LOCATION:Blanquita B. Valenti Community School\, 50 Jersey Avenue\, New Brunswick\, NJ\, 08901\, United States
END:VEVENT
BEGIN:VEVENT
DTSTART;TZID=UTC:20240513T170000
DTEND;TZID=UTC:20240513T180000
DTSTAMP:20260423T190810
CREATED:20240509T183644Z
LAST-MODIFIED:20240509T183644Z
UID:19483-1715619600-1715623200@ritms.rutgers.edu
SUMMARY:CTSA Virtual N3Community Forum
DESCRIPTION:CTSA Virtual N3Community Forum–N3Community Forum: SEER Cancer Registry Data\, Register Here.
URL:https://ritms.rutgers.edu/event/ctsa-virtual-n3community-forum/
END:VEVENT
BEGIN:VEVENT
DTSTART;TZID=UTC:20240514T130000
DTEND;TZID=UTC:20240514T141500
DTSTAMP:20260423T190810
CREATED:20240509T183646Z
LAST-MODIFIED:20240509T183646Z
UID:19484-1715691600-1715696100@ritms.rutgers.edu
SUMMARY:CTSA+ Community of Practice (CoP) to Advance Mentorship
DESCRIPTION:CTSA+ Community of Practice (CoP) to Advance Mentorship–Community of Practice Mission: To connect individuals affiliated with CTSA (Clinical and Translational Science Awards) and the wider community to discuss evidence-based mentorship education\, mentorship policies and practices\, and assessment strategies. Virtual. Read more and Register Here
URL:https://ritms.rutgers.edu/event/ctsa-community-of-practice-cop-to-advance-mentorship/
END:VEVENT
BEGIN:VEVENT
DTSTART;TZID=UTC:20240515T100000
DTEND;TZID=UTC:20240515T110000
DTSTAMP:20260423T190810
CREATED:20240515T164100Z
LAST-MODIFIED:20240515T234216Z
UID:19562-1715767200-1715770800@ritms.rutgers.edu
SUMMARY:Rutgers Princeton Center for Computational Cognitive Neuropsychiatry Seminar
DESCRIPTION:POSTPONED – Rutgers Princeton Center for Computational Cognitive Neuropsychiatry Seminar-Altered States of Self-Exploring a Spatio-Temporal Hierarchy of Self-Processing in the Human Brain\, Laura Kaltwasser\, Humboldt-Universitaet zu Berlin. ccnp.princeton.edu
URL:https://ritms.rutgers.edu/event/rutgers-princeton-center-for-computational-cognitive-neuropsychiatry-seminar-46/
END:VEVENT
BEGIN:VEVENT
DTSTART;TZID=UTC:20240515T120000
DTEND;TZID=UTC:20240515T130000
DTSTAMP:20260423T190810
CREATED:20240515T164101Z
LAST-MODIFIED:20240515T234255Z
UID:19563-1715774400-1715778000@ritms.rutgers.edu
SUMMARY:Trial Innovation Network Webinar
DESCRIPTION:Trial Innovation Network Webinar-Equipping researchers to overcome recruitment challenges: An institution’s programmatic response to the voice of its research community with Meredith Zauflik\, MPA  &  Kitt Swartz\, MPH. Read More and Register Here.
URL:https://ritms.rutgers.edu/event/trial-innovation-network-webinar-9/
END:VEVENT
BEGIN:VEVENT
DTSTART;TZID=UTC:20240517T080000
DTEND;TZID=UTC:20240517T170000
DTSTAMP:20260423T190810
CREATED:20240515T164102Z
LAST-MODIFIED:20240517T234612Z
UID:19564-1715932800-1715965200@ritms.rutgers.edu
SUMMARY:Propelus I-Corps at NJIT
DESCRIPTION:Propelus I-Corps at NJIT-A four-week program designed for research teams with a technology innovation to explore how their discovery can help potential customers and meet industry needs as a startup or venture. June 3\, June 5\, June 12\, June 26. Virtual. Apply by May 17
URL:https://ritms.rutgers.edu/event/propelus-i-corps-at-njit/
END:VEVENT
BEGIN:VEVENT
DTSTART;TZID=UTC:20240517T090000
DTEND;TZID=UTC:20240517T150000
DTSTAMP:20260423T190810
CREATED:20240515T164104Z
LAST-MODIFIED:20240517T225441Z
UID:19566-1715936400-1715958000@ritms.rutgers.edu
SUMMARY:New Jersey Advocates for Aging Well (NJAAW) Annual Conference
DESCRIPTION:New Jersey Advocates for Aging Well (NJAAW) Annual Conference-Dare to Envision\, keynote speaker Kaylee McGuire\, Deputy Commissioner for Aging and Disability Service. For more information and to register for the conference\, click here. Hyatt Regency\, New Brunswick.
URL:https://ritms.rutgers.edu/event/new-jersey-advocates-for-aging-well-njaaw-annual-conference/
LOCATION:Hyatt Regency\, 2 Albany Street\, New Brunswick\, NJ\, 08901\, United States
END:VEVENT
BEGIN:VEVENT
DTSTART;TZID=UTC:20240517T120000
DTEND;TZID=UTC:20240517T140000
DTSTAMP:20260423T190810
CREATED:20240515T164106Z
LAST-MODIFIED:20240517T213756Z
UID:19567-1715947200-1715954400@ritms.rutgers.edu
SUMMARY:Princeton Precision Health Seminar Series
DESCRIPTION:Princeton Precision Health Seminar Series-Unraveling the heterogeneity of complex disease: data-driven analysis of genotype\, phenotype\, and environment\, Chandra Theesfeld and Defining a Biological Clock for Female Reproductive Decline\, Rachel Kaletsky\, 252 Nassau Street\, Princeton. View Flyer.
URL:https://ritms.rutgers.edu/event/princeton-precision-health-seminar-series-4/
LOCATION:Princeton University\, 252 Nassau Street\, Princeton\, NJ\, 08544\, United States
END:VEVENT
BEGIN:VEVENT
DTSTART;TZID=UTC:20240520T100000
DTEND;TZID=UTC:20240520T140000
DTSTAMP:20260423T190810
CREATED:20240515T164630Z
LAST-MODIFIED:20240521T003506Z
UID:19569-1716199200-1716213600@ritms.rutgers.edu
SUMMARY:Clinical Trials Day
DESCRIPTION:Clinical Trials Day-Trailblazers among Us\, celebrate the work of clinical research professionals\, University Hospital Cafeteria\, Newark and RWJUH Atrium\, New Brunswick. To be a part of the New Brunswick event\, please contact Therese Pagulayan tup1@rwjms.rutgers.edu or for Newark\, reach out to Yanille Taveras taveraya@njms.rutgers.edu. For more information on Clinical Trials Day
URL:https://ritms.rutgers.edu/event/clinical-trials-day/
LOCATION:The Atrium\, 300 Atrium Drive\, Somerset\, NJ\, 08873\, United States
END:VEVENT
END:VCALENDAR