BEGIN:VCALENDAR
VERSION:2.0
PRODID:-//Institute for Translational Medicine and Science - ECPv6.15.16//NONSGML v1.0//EN
CALSCALE:GREGORIAN
METHOD:PUBLISH
X-WR-CALNAME:Institute for Translational Medicine and Science
X-ORIGINAL-URL:https://ritms.rutgers.edu
X-WR-CALDESC:Events for Institute for Translational Medicine and Science
REFRESH-INTERVAL;VALUE=DURATION:PT1H
X-Robots-Tag:noindex
X-PUBLISHED-TTL:PT1H
BEGIN:VTIMEZONE
TZID:UTC
BEGIN:STANDARD
TZOFFSETFROM:+0000
TZOFFSETTO:+0000
TZNAME:UTC
DTSTART:20230101T000000
END:STANDARD
END:VTIMEZONE
BEGIN:VEVENT
DTSTART;TZID=UTC:20240319T100000
DTEND;TZID=UTC:20240319T110000
DTSTAMP:20260423T224124
CREATED:20240313T183709Z
LAST-MODIFIED:20240319T193725Z
UID:18899-1710842400-1710846000@ritms.rutgers.edu
SUMMARY:Spring 2024 Learning Mentoring
DESCRIPTION:Spring 2024 Learning Mentoring-Are you a STEM grad student or postdoc\, and committed to becoming an effective mentor? Join a virtual cohort of like-minded peers! Eight Sessions Tuesdays\, 3/19-5/7. Virtual. View Flyer and Register Here
URL:https://ritms.rutgers.edu/event/spring-2024-learning-mentoring/
END:VEVENT
BEGIN:VEVENT
DTSTART;TZID=UTC:20240319T100000
DTEND;TZID=UTC:20240319T113000
DTSTAMP:20260423T224124
CREATED:20240308T164643Z
LAST-MODIFIED:20240319T193724Z
UID:18870-1710842400-1710847800@ritms.rutgers.edu
SUMMARY:Inclusive Leadership Academy
DESCRIPTION:Inclusive Leadership Academy-Learning How to Mentor across Difference x Faulty Diversity Collaborative. Learn More and Register now!
URL:https://ritms.rutgers.edu/event/inclusive-leadership-academy-6/
END:VEVENT
BEGIN:VEVENT
DTSTART;TZID=UTC:20240319T120000
DTEND;TZID=UTC:20240319T130000
DTSTAMP:20260423T224124
CREATED:20240308T164644Z
LAST-MODIFIED:20240310T163619Z
UID:18871-1710849600-1710853200@ritms.rutgers.edu
SUMMARY:NJ ACTS Special Populations Core Seminar
DESCRIPTION:NJ ACTS Special Populations Core Seminar-Save the date!
URL:https://ritms.rutgers.edu/event/nj-acts-special-populations-core-seminar-2/
END:VEVENT
BEGIN:VEVENT
DTSTART;TZID=UTC:20240319T120000
DTEND;TZID=UTC:20240319T130000
DTSTAMP:20260423T224124
CREATED:20240308T164644Z
LAST-MODIFIED:20240319T193726Z
UID:18872-1710849600-1710853200@ritms.rutgers.edu
SUMMARY:Community Living Education Project
DESCRIPTION:Community Living Education Project-Caregiver Stress and Burnout Webinar. Register at go.rutgers.edu/caregivers. Read more and register at go.rutgers.edu/caregivers
URL:https://ritms.rutgers.edu/event/community-living-education-project/
END:VEVENT
BEGIN:VEVENT
DTSTART;TZID=UTC:20240319T190000
DTEND;TZID=UTC:20240319T200000
DTSTAMP:20260423T224124
CREATED:20240318T163710Z
LAST-MODIFIED:20240319T193726Z
UID:18962-1710874800-1710878400@ritms.rutgers.edu
SUMMARY:Master of Science in Clinical Research Management Information Session
DESCRIPTION:Master of Science in Clinical Research Management Information Session-Three tracks: Clinical Research Management\, Academic Clinical Research Management\, and Drug Safety and Pharmacovigilance. Learn about the application process and talk directly to the CRM Program Director. Virtual. Register
URL:https://ritms.rutgers.edu/event/master-of-science-in-clinical-research-management-information-session-3/
END:VEVENT
BEGIN:VEVENT
DTSTART;TZID=UTC:20240320T090000
DTEND;TZID=UTC:20240320T150000
DTSTAMP:20260423T224124
CREATED:20240309T163815Z
LAST-MODIFIED:20240321T003729Z
UID:18877-1710925200-1710946800@ritms.rutgers.edu
SUMMARY:Rutgers Health Anniversary Symposium
DESCRIPTION:Rutgers Health Anniversary Symposium-Uncovering Solutions to Health Inequities\, Keynote Speaker Eliseo J. Pérez-Stable\, MD\, National Institutes of Health. College Avenue Student Center\, New Brunswick. Register Today
URL:https://ritms.rutgers.edu/event/rutgers-health-anniversary-symposium/
LOCATION:College Avenue Student Center\, Multipurpose Room A\, 126 College Avenue\, New Brunswick\, NJ\, 08901\, United States
END:VEVENT
BEGIN:VEVENT
DTSTART;TZID=UTC:20240320T100000
DTEND;TZID=UTC:20240320T110000
DTSTAMP:20260423T224124
CREATED:20240320T173620Z
LAST-MODIFIED:20240321T003729Z
UID:18982-1710928800-1710932400@ritms.rutgers.edu
SUMMARY:Rutgers Princeton Center for Computational Cognitive Neuropsychiatry Seminar
DESCRIPTION:Rutgers Princeton Center for Computational Cognitive Neuropsychiatry Seminar-Translation\, Treatment and Technology: An Integrative Approach to Pediatric Psychopathology\, Melissa Brotman\, National Institute of Health. ccnp.princeton.edu
URL:https://ritms.rutgers.edu/event/rutgers-princeton-center-for-computational-cognitive-neuropsychiatry-seminar-43/
END:VEVENT
BEGIN:VEVENT
DTSTART;TZID=UTC:20240320T120000
DTEND;TZID=UTC:20240320T130000
DTSTAMP:20260423T224124
CREATED:20240310T163621Z
LAST-MODIFIED:20240321T003730Z
UID:18881-1710936000-1710939600@ritms.rutgers.edu
SUMMARY:Trial Innovation Network Collaboration Webinar
DESCRIPTION:Trial Innovation Network Collaboration Webinar-MUSC Clinical Trialist Training Program (CTTP)\, Read More and Register Here.
URL:https://ritms.rutgers.edu/event/trial-innovation-network-collaboration-webinar-9/
END:VEVENT
BEGIN:VEVENT
DTSTART;TZID=UTC:20240320T130000
DTEND;TZID=UTC:20240320T140000
DTSTAMP:20260423T224124
CREATED:20240313T183711Z
LAST-MODIFIED:20240321T003730Z
UID:18900-1710939600-1710943200@ritms.rutgers.edu
SUMMARY:Child Health Institute Science Seminar Series
DESCRIPTION:Child Health Institute Science Seminar Series-T Cell Dysfunctions as Biomarker and Therapeutic Target in ALS4\, Laura Campisi\, PhD\, Washington University School of Medicine in St. Louis. Virtual. View Flyer
URL:https://ritms.rutgers.edu/event/child-health-institute-science-seminar-series-17/
LOCATION:Child Health Institute\, Room 3209\, 89 French Street\, New Brunswick\, 08901\, United States
END:VEVENT
BEGIN:VEVENT
DTSTART;TZID=UTC:20240320T140000
DTEND;TZID=UTC:20240320T150000
DTSTAMP:20260423T224124
CREATED:20240314T175152Z
LAST-MODIFIED:20240321T003730Z
UID:18926-1710943200-1710946800@ritms.rutgers.edu
SUMMARY:Division of Diversity\, Inclusion\, and Community Engagement Mentor Virtual Workshop
DESCRIPTION:Division of Diversity\, Inclusion\, and Community Engagement Mentor Virtual Workshop-Stress and Anxiety Management\, mentors can give valuable advice on how to change thought patterns and communication style to better manage our anxiety overwhelmed. View Flyer and Register Here
URL:https://ritms.rutgers.edu/event/division-of-diversity-inclusion-and-community-engagement-mentor-virtual-workshop-7/
END:VEVENT
BEGIN:VEVENT
DTSTART;TZID=UTC:20240320T150000
DTEND;TZID=UTC:20240320T160000
DTSTAMP:20260423T224124
CREATED:20240314T175153Z
LAST-MODIFIED:20240320T174752Z
UID:18927-1710946800-1710950400@ritms.rutgers.edu
SUMMARY:i-Corps Innovating Together Event Series
DESCRIPTION:i-Corps Innovating Together Event Series-Meet Your State Economic Development Authorities\, Grace Warner and Judith Sheft\, NJ Economic Development Authority. Virtual. Register Here
URL:https://ritms.rutgers.edu/event/i-corps-innovating-together-event-series/
END:VEVENT
BEGIN:VEVENT
DTSTART;TZID=UTC:20240321T093000
DTEND;TZID=UTC:20240321T140000
DTSTAMP:20260423T224124
CREATED:20240316T183825Z
LAST-MODIFIED:20240321T193714Z
UID:18944-1711013400-1711029600@ritms.rutgers.edu
SUMMARY:Rutgers Climate and Energy Institute Workshop
DESCRIPTION:Rutgers Climate and Energy Institute Workshop-Building Your Broader Impact Around Climate Change and Energy Research. Cook Campus Center MPR\, 59 Biel Road\, New Brunswick.  View Flyer and Register Here
URL:https://ritms.rutgers.edu/event/rutgers-climate-and-energy-institute-workshop/
LOCATION:Cook Campus Center\, 59 Biel Road\, New Brunswick\, NJ\, 08901\, United States
END:VEVENT
BEGIN:VEVENT
DTSTART;TZID=UTC:20240321T170000
DTEND;TZID=UTC:20240321T193000
DTSTAMP:20260423T224124
CREATED:20240316T183826Z
LAST-MODIFIED:20240321T193715Z
UID:18946-1711040400-1711049400@ritms.rutgers.edu
SUMMARY:Getting Your Startup Investor Ready
DESCRIPTION:Getting Your Startup Investor Ready-Presented by Princeton Entrepreneurship Council\, Co-hosted by Princeton Innovation Center BioLabs and EisnerAmper. Bendheim House; 26 Prospect Ave\, Princeton\, NJ. Register Here
URL:https://ritms.rutgers.edu/event/getting-your-startup-investor-ready/
LOCATION:Bendheim House\, 26 Prospect Ave\, NJ\, 08540\, United States
END:VEVENT
BEGIN:VEVENT
DTSTART;TZID=UTC:20240322T100000
DTEND;TZID=UTC:20240322T120000
DTSTAMP:20260423T224124
CREATED:20240320T174753Z
LAST-MODIFIED:20240322T203537Z
UID:18984-1711101600-1711108800@ritms.rutgers.edu
SUMMARY:NJ ACTS Regulatory Core Faculty Workshop
DESCRIPTION:NJ ACTS Regulatory Core Faculty Workshop-Faulty Training Workshop – more information to follow! Save the Date.
URL:https://ritms.rutgers.edu/event/nj-acts-regulatory-core-faculty-workshop/
END:VEVENT
BEGIN:VEVENT
DTSTART;TZID=UTC:20240325T130000
DTEND;TZID=UTC:20240325T140000
DTSTAMP:20260423T224124
CREATED:20240320T174754Z
LAST-MODIFIED:20240325T213828Z
UID:18985-1711371600-1711375200@ritms.rutgers.edu
SUMMARY:Child Health Institute Science Seminar Series
DESCRIPTION:Child Health Institute Science Seminar Series-Dr. Kellendonk uses mouse genetic tools to understand the biology that underlies cognitive and negative symptoms of schizophrenia\, Christoph Kellendonk\, PhD\, New York State Psychiatric Institute. Virtual or at CHINJ\, Room 3101\, 89 French Street\, New Brunswick.
URL:https://ritms.rutgers.edu/event/child-health-institute-science-seminar-series-18/
LOCATION:Children’s Health Institute\, Room 3101\, 89 French Street\, New Brunswick\, NJ\, 08901\, United States
END:VEVENT
BEGIN:VEVENT
DTSTART;TZID=UTC:20240326T100000
DTEND;TZID=UTC:20240326T113000
DTSTAMP:20260423T224124
CREATED:20240321T005024Z
LAST-MODIFIED:20240326T223632Z
UID:18990-1711447200-1711452600@ritms.rutgers.edu
SUMMARY:Rutgers Office for Research Road to Commercialization Symposium Series
DESCRIPTION:Rutgers Office for Research Road to Commercialization Symposium Series– Commercialization Pathways for Basic and Applied Research\, Richard Riman\, PhD\, and Daniel Kopp\, PhD\, Queens Carbon\, Renata Pasqualini\, PhD\, PhageNova Bio. Virtual. View Flyer and Register Here
URL:https://ritms.rutgers.edu/event/rutgers-office-for-research-road-to-commercialization-symposium-series/
END:VEVENT
BEGIN:VEVENT
DTSTART;TZID=UTC:20240327T120000
DTEND;TZID=UTC:20240327T130000
DTSTAMP:20260423T224124
CREATED:20240321T203608Z
LAST-MODIFIED:20240327T223538Z
UID:19003-1711540800-1711544400@ritms.rutgers.edu
SUMMARY:NJ ACTS Special Populations Seminar Series
DESCRIPTION:NJ ACTS Special Populations Seminar Series-Changes in Healthcare Visits Due to Cannabis Use Following Legalization of Non-medical Cannabis in Canada\, Daniel Myran\, MD\, University of Ottawa. Virtual. View Flyer and Register Here.
URL:https://ritms.rutgers.edu/event/nj-acts-special-populations-seminar-series-4/
END:VEVENT
BEGIN:VEVENT
DTSTART;TZID=UTC:20240327T150000
DTEND;TZID=UTC:20240327T170000
DTSTAMP:20260423T224124
CREATED:20240321T203609Z
LAST-MODIFIED:20240327T223539Z
UID:19004-1711551600-1711558800@ritms.rutgers.edu
SUMMARY:Reject Hate Documentary Series
DESCRIPTION:Reject Hate Documentary Series-Screening of Emanuel\, the untold story of the victims and survivors of the Charleston church shooting. Virtual and in-person screening followed by a panel discussion. Register Here Medical Science Building\, Room 552\, Newark.
URL:https://ritms.rutgers.edu/event/reject-hate-documentary-series/
LOCATION:Medical Science Building\, 185 South Orange Avenue\, Newark\, 07103\, United States
END:VEVENT
BEGIN:VEVENT
DTSTART;TZID=UTC:20240328T120000
DTEND;TZID=UTC:20240328T130000
DTSTAMP:20260423T224124
CREATED:20240321T203609Z
LAST-MODIFIED:20240328T223705Z
UID:19005-1711627200-1711630800@ritms.rutgers.edu
SUMMARY:Rutgers School of Public Health Webinar
DESCRIPTION:Rutgers School of Public Health Webinar-Vaccine Refusal\, Abortion Access\, and the Meanings of Personal Choice in the COVID Era\, Dr. Jennifer Reich. For More Information and to Register Click Here.
URL:https://ritms.rutgers.edu/event/rutgers-school-of-public-health-webinar/
END:VEVENT
BEGIN:VEVENT
DTSTART;TZID=UTC:20240328T130000
DTEND;TZID=UTC:20240328T143000
DTSTAMP:20260423T224124
CREATED:20240326T153727Z
LAST-MODIFIED:20240328T223706Z
UID:19041-1711630800-1711636200@ritms.rutgers.edu
SUMMARY:Diversity\, Inclusion and Community Engagement Research2Practice
DESCRIPTION:Diversity\, Inclusion and Community Engagement Research2Practice-Contemplative Practices for Inclusiveness and Equanimity Workshop\, Dr. Tracy Chang. Labor Education Center\, Auditorium\, Piscataway. Register Here
URL:https://ritms.rutgers.edu/event/diversity-inclusion-and-community-engagement-research2practice/
LOCATION:Labor Education Center\, 94 Rockafeller Road\, Piscataway\, NJ\, United States
END:VEVENT
BEGIN:VEVENT
DTSTART;TZID=UTC:20240401T120000
DTEND;TZID=UTC:20240401T130000
DTSTAMP:20260423T224124
CREATED:20240321T203610Z
LAST-MODIFIED:20240401T233839Z
UID:19006-1711972800-1711976400@ritms.rutgers.edu
SUMMARY:Trial Innovation Network Webinar
DESCRIPTION:Trial Innovation Network Webinar-Adapting and Advancing: Rochester CTSI’s CBPR Training Program Journey\, Read more and Register Here.
URL:https://ritms.rutgers.edu/event/trial-innovation-network-webinar-7/
END:VEVENT
BEGIN:VEVENT
DTSTART;TZID=UTC:20240402T090000
DTEND;TZID=UTC:20240402T150000
DTSTAMP:20260423T224124
CREATED:20240326T163534Z
LAST-MODIFIED:20240402T163833Z
UID:19042-1712048400-1712070000@ritms.rutgers.edu
SUMMARY:Diversity\, Inclusion and Community Engagement Research2Practice Symposium
DESCRIPTION:Diversity\, Inclusion and Community Engagement Research2Practice Symposium-Developing partnerships between academia and industry\, learn how to incorporate justice into your course or program design and more. Click here to learn more about the Symposium and R2P Program and meet the fellows. College Avenue Student Center\, New Brunswick. Register Here by March 26th for in-person
URL:https://ritms.rutgers.edu/event/diversity-inclusion-and-community-engagement-research2practice-symposium/
LOCATION:College Avenue Student Center\, Multipurpose Room A\, 126 College Avenue\, New Brunswick\, NJ\, 08901\, United States
END:VEVENT
BEGIN:VEVENT
DTSTART;TZID=UTC:20240403T100000
DTEND;TZID=UTC:20240403T110000
DTSTAMP:20260423T224124
CREATED:20240401T163923Z
LAST-MODIFIED:20240403T023517Z
UID:19152-1712138400-1712142000@ritms.rutgers.edu
SUMMARY:Rutgers Princeton Center for Computational Cognitive Neuropsychiatry Seminar
DESCRIPTION:Rutgers Princeton Center for Computational Cognitive Neuropsychiatry Seminar-Ecological drivers of emotion and their links to individual differences in depression\, Aaron Heller\, University of Miami. ccnp.princeton.edu
URL:https://ritms.rutgers.edu/event/rutgers-princeton-center-for-computational-cognitive-neuropsychiatry-seminar-44/
END:VEVENT
BEGIN:VEVENT
DTSTART;TZID=UTC:20240403T130000
DTEND;TZID=UTC:20240403T140000
DTSTAMP:20260423T224124
CREATED:20240402T163835Z
LAST-MODIFIED:20240403T023518Z
UID:19167-1712149200-1712152800@ritms.rutgers.edu
SUMMARY:Child Health Institute Science Seminar Series
DESCRIPTION:Child Health Institute Science Seminar Series-Study of Dengvaxia\, the first licensed dengue vaccine\, in Filipino children\, Wei-Kung Wang\, PhD\, University of Hawaii at Manoa. Conference Room 3209\, CHINJ\, 89 French St\, New Brunswick. View Flyer
URL:https://ritms.rutgers.edu/event/child-health-institute-science-seminar-series-20/
LOCATION:Child Health Institute\, Room 3209\, 89 French Street\, New Brunswick\, 08901\, United States
END:VEVENT
BEGIN:VEVENT
DTSTART;TZID=UTC:20240403T200000
DTEND;TZID=UTC:20240403T210000
DTSTAMP:20260423T224124
CREATED:20240321T203610Z
LAST-MODIFIED:20240403T023518Z
UID:19007-1712174400-1712178000@ritms.rutgers.edu
SUMMARY:Master of Science in Clinical Research Management Information Session
DESCRIPTION:Master of Science in Clinical Research Management Information Session-Three tracks: Clinical Research Management\, Academic Clinical Research Management\, and Drug Safety and Pharmacovigilance. Learn about the application process and talk directly to the CRM Program Director. Virtual. Register
URL:https://ritms.rutgers.edu/event/master-of-science-in-clinical-research-management-information-session-4/
END:VEVENT
BEGIN:VEVENT
DTSTART;TZID=UTC:20240404T120000
DTEND;TZID=UTC:20240404T130000
DTSTAMP:20260423T224124
CREATED:20240322T174504Z
LAST-MODIFIED:20240405T003407Z
UID:19017-1712232000-1712235600@ritms.rutgers.edu
SUMMARY:NSF I-Corps Teams Program Information Session
DESCRIPTION:NSF I-Corps Teams Program Information Session-For the 7-week boot camp that covers key concepts related to testing and building a business model. Register
URL:https://ritms.rutgers.edu/event/nsf-i-corps-teams-program-information-session/
END:VEVENT
BEGIN:VEVENT
DTSTART;TZID=UTC:20240405T090000
DTEND;TZID=UTC:20240405T140000
DTSTAMP:20260423T224124
CREATED:20240322T174505Z
LAST-MODIFIED:20240405T153718Z
UID:19019-1712307600-1712325600@ritms.rutgers.edu
SUMMARY:Princeton Precision Health Spring Symposium
DESCRIPTION:Princeton Precision Health Spring Symposium-Beyond one-size-fits-all: The person-specific impact of social media on adolescent mental health\, Keynote Prof. Ine Beyens\, University of Amsterdam. View Flyer. Lewis Science Library\, Princeton.
URL:https://ritms.rutgers.edu/event/princeton-precision-health-spring-symposium/
LOCATION:Princeton Lewis Science Library\, 1 Washington Road\, NJ\, 08544\, United States
END:VEVENT
BEGIN:VEVENT
DTSTART;TZID=UTC:20240408T120000
DTEND;TZID=UTC:20240408T130000
DTSTAMP:20260423T224124
CREATED:20240402T003646Z
LAST-MODIFIED:20240408T173337Z
UID:19155-1712577600-1712581200@ritms.rutgers.edu
SUMMARY:University Equity and Inclusion Webinar
DESCRIPTION:University Equity and Inclusion Webinar-DEI Campus Climate Survey Results. View Flyer and Register
URL:https://ritms.rutgers.edu/event/university-equity-and-inclusion-webinar/
END:VEVENT
BEGIN:VEVENT
DTSTART;TZID=UTC:20240409T120000
DTEND;TZID=UTC:20240409T133000
DTSTAMP:20260423T224124
CREATED:20240323T213600Z
LAST-MODIFIED:20240409T154221Z
UID:19030-1712664000-1712669400@ritms.rutgers.edu
SUMMARY:NJ ACTS Workforce Core Clinical Research Management Collaborative Training Series
DESCRIPTION:NJ ACTS Workforce Core Clinical Research Management Collaborative Training Series-Nuances of Joint Collaboration in Academic Research Management and Workforce Development. View Flyer and Register Here
URL:https://ritms.rutgers.edu/event/nj-acts-workforce-core-clinical-research-management-collaborative-training-series-3/
END:VEVENT
BEGIN:VEVENT
DTSTART;TZID=UTC:20240409T130000
DTEND;TZID=UTC:20240409T140000
DTSTAMP:20260423T224124
CREATED:20240328T163625Z
LAST-MODIFIED:20240409T154221Z
UID:19071-1712667600-1712671200@ritms.rutgers.edu
SUMMARY:Division of Diversity\, Inclusion\, and Community Engagement Mentor Virtual Workshop
DESCRIPTION:Division of Diversity\, Inclusion\, and Community Engagement Mentor Virtual Workshop-How to do Group Mentoring. View Flyer and Register Here
URL:https://ritms.rutgers.edu/event/division-of-diversity-inclusion-and-community-engagement-mentor-virtual-workshop-8/
END:VEVENT
END:VCALENDAR