BEGIN:VCALENDAR
VERSION:2.0
PRODID:-//Institute for Translational Medicine and Science - ECPv6.15.16//NONSGML v1.0//EN
CALSCALE:GREGORIAN
METHOD:PUBLISH
X-WR-CALNAME:Institute for Translational Medicine and Science
X-ORIGINAL-URL:https://ritms.rutgers.edu
X-WR-CALDESC:Events for Institute for Translational Medicine and Science
REFRESH-INTERVAL;VALUE=DURATION:PT1H
X-Robots-Tag:noindex
X-PUBLISHED-TTL:PT1H
BEGIN:VTIMEZONE
TZID:UTC
BEGIN:STANDARD
TZOFFSETFROM:+0000
TZOFFSETTO:+0000
TZNAME:UTC
DTSTART:20220101T000000
END:STANDARD
END:VTIMEZONE
BEGIN:VEVENT
DTSTART;TZID=UTC:20231030T130000
DTEND;TZID=UTC:20231030T140000
DTSTAMP:20260424T055608
CREATED:20231018T174230Z
LAST-MODIFIED:20231030T213917Z
UID:17884-1698670800-1698674400@ritms.rutgers.edu
SUMMARY:Child Health Institute Science Seminar Series
DESCRIPTION:Child Health Institute Science Seminar Series-The role of innate cells such as basophils and mast cells on the development of protective immunity to helminth parasites\, Mark C. Siracusa\, PhD\, Rutgers NJMS.Virtual or Child Health Insitute\, Room 3209\, 89 French Street\, New Brunswick. View Flyer
URL:https://ritms.rutgers.edu/event/child-health-institute-science-seminar-series-10/
LOCATION:Child Health Institute\, Room 3209\, 89 French Street\, New Brunswick\, 08901\, United States
END:VEVENT
BEGIN:VEVENT
DTSTART;TZID=UTC:20231030T190000
DTEND;TZID=UTC:20231030T200000
DTSTAMP:20260424T055608
CREATED:20231030T213918Z
LAST-MODIFIED:20231030T213918Z
UID:17990-1698692400-1698696000@ritms.rutgers.edu
SUMMARY:Master of Science in Clinical Research Management Virtual Information Session
DESCRIPTION:Master of Science in Clinical Research Management Virtual Information Session-We invite you to explore from the comfort of your home\, how our masters program can advance your job skills. It’s free to register to secure your place. Learn More
URL:https://ritms.rutgers.edu/event/master-of-science-in-clinical-research-management-virtual-information-session/
END:VEVENT
BEGIN:VEVENT
DTSTART;TZID=UTC:20231031T120000
DTEND;TZID=UTC:20231031T130000
DTSTAMP:20260424T055608
CREATED:20231019T123759Z
LAST-MODIFIED:20231019T123759Z
UID:17902-1698753600-1698757200@ritms.rutgers.edu
SUMMARY:Rutgers New Jersey Medical School Invited Speaker Seminar
DESCRIPTION:Rutgers New Jersey Medical School Invited Speaker Seminar-The Genomics Center: Driving Research and Precision Medicine Initiatives\, Milind C. Mahajan\, PhD\, Rutgers. View Flyer. In person at the ICPH Auditorium C-109\, 225 Warren Street\, Newark or Join on Zoom.
URL:https://ritms.rutgers.edu/event/rutgers-new-jersey-medical-school-invited-speaker-seminar/
LOCATION:International Center for Public Health\, 225 Warren Street\, Newark\, New Jersey\, 07103
END:VEVENT
BEGIN:VEVENT
DTSTART;TZID=UTC:20231031T120000
DTEND;TZID=UTC:20231031T130000
DTSTAMP:20260424T055608
CREATED:20231020T174246Z
LAST-MODIFIED:20231031T214436Z
UID:17910-1698753600-1698757200@ritms.rutgers.edu
SUMMARY:Rutgers New Jersey Medical School Invited Speaker Seminar
DESCRIPTION:Rutgers New Jersey Medical School Invited Speaker Seminar-The Genomics Center: Driving Research and Precision Medicine Initiatives\, Milind C. Mahajan\, PhD\, Rutgers. View Flyer. In person at the ICPH Auditorium C-109\, 225 Warren Street\, Newark or Join on Zoom.
URL:https://ritms.rutgers.edu/event/rutgers-new-jersey-medical-school-invited-speaker-seminar-2/
LOCATION:International Center for Public Health\, First Floor Auditorium\, 225 Warren Street\, Newark\, 07103\, United States
END:VEVENT
BEGIN:VEVENT
DTSTART;TZID=UTC:20231031T120000
DTEND;TZID=UTC:20231031T133000
DTSTAMP:20260424T055608
CREATED:20231018T174230Z
LAST-MODIFIED:20231031T214435Z
UID:17885-1698753600-1698759000@ritms.rutgers.edu
SUMMARY:University Equity and Inclusion Classroom Inclusivity Series
DESCRIPTION:University Equity and Inclusion Classroom Inclusivity Series–Speak Up! Bystander Intervention Workshop\, Virtual – Register Here
URL:https://ritms.rutgers.edu/event/university-equity-and-inclusion-classroom-inclusivity-series-2/
END:VEVENT
BEGIN:VEVENT
DTSTART;TZID=UTC:20231031T130000
DTEND;TZID=UTC:20231031T140000
DTSTAMP:20260424T055608
CREATED:20231018T174231Z
LAST-MODIFIED:20231031T214437Z
UID:17886-1698757200-1698760800@ritms.rutgers.edu
SUMMARY:NJ ACTS Special Populations Seminar Series
DESCRIPTION:NJ ACTS Special Populations Seminar Series-Improving Pain Strategies in the Emergency Department\, Cynthia Santos\, MD\, Rutgers NJMS. Virtual. View Flyer and Join on Zoom.
URL:https://ritms.rutgers.edu/event/nj-acts-special-populations-seminar-series/
END:VEVENT
BEGIN:VEVENT
DTSTART;TZID=UTC:20231101T120000
DTEND;TZID=UTC:20231101T130000
DTSTAMP:20260424T055608
CREATED:20231026T154752Z
LAST-MODIFIED:20231101T224046Z
UID:17964-1698840000-1698843600@ritms.rutgers.edu
SUMMARY:CABM Seminar Series
DESCRIPTION:CABM Seminar Series-Beyond Methylation: How alpha-ketoglutarate Promotes DNA Repair via Histone Acetylation\, Katherine M. Aird\, PhD\, University of Pittsburgh. View Flyer. CABM 010 and Zoom.
URL:https://ritms.rutgers.edu/event/cabm-seminar-series/
LOCATION:CABM\, Seminar Room 010\, 679 Hoes Lane West\, Piscataway\, NJ\, 08854\, United States
END:VEVENT
BEGIN:VEVENT
DTSTART;TZID=UTC:20231101T120000
DTEND;TZID=UTC:20231101T130000
DTSTAMP:20260424T055608
CREATED:20231101T224047Z
LAST-MODIFIED:20231101T224047Z
UID:18019-1698840000-1698843600@ritms.rutgers.edu
SUMMARY:Child Health Institute Science Seminar Series
DESCRIPTION:Child Health Institute Science Seminar Series-Elizabeth C. Engle\, MD Professor of Neurology and Ophthalmology Harvard Medical School Investigator\, Howard Hughes Medical Institute. CHINJ\, Room 3101\, 89 French Street\, New Brunswick.
URL:https://ritms.rutgers.edu/event/child-health-institute-science-seminar-series-11/
LOCATION:Child Health Institute\, Conference Room 3101\, 89 French Street\, New Brunswick\, NJ\, 08901\, United States
END:VEVENT
BEGIN:VEVENT
DTSTART;TZID=UTC:20231102T130000
DTEND;TZID=UTC:20231102T143000
DTSTAMP:20260424T055608
CREATED:20231018T174231Z
LAST-MODIFIED:20231102T224143Z
UID:17887-1698930000-1698935400@ritms.rutgers.edu
SUMMARY:NJ ACTS Workforce Core Clinical Research Management Collaborative Training Series
DESCRIPTION:NJ ACTS Workforce Core Clinical Research Management Collaborative Training Series-Project Optimus and Current Trends in Oncology Dose Selection. View Flyer and Register Here \n 
URL:https://ritms.rutgers.edu/event/nj-acts-workforce-core-clinical-research-management-collaborative-training-series/
END:VEVENT
BEGIN:VEVENT
DTSTART;TZID=UTC:20231103T090000
DTEND;TZID=UTC:20231103T170000
DTSTAMP:20260424T055608
CREATED:20231020T174247Z
LAST-MODIFIED:20231103T224458Z
UID:17912-1699002000-1699030800@ritms.rutgers.edu
SUMMARY:Rutgers Health Inaugural Health Hack 2023
DESCRIPTION:Rutgers Health Inaugural Health Hack 2023-Healthcare Hackathon: Network: Hack\, Feedback\, Iterate\, Pitch. More than $10\,000 in cash prizes. Robert Wood Johnson University Hospital\, New Brunswick. View Flyer and Register Here
URL:https://ritms.rutgers.edu/event/rutgers-health-inaugural-health-hack-2023/
LOCATION:Robert Wood Johnson University Hospital\, New Brunswick\, NJ\, 08901\, United States
END:VEVENT
BEGIN:VEVENT
DTSTART;TZID=UTC:20231103T093000
DTEND;TZID=UTC:20231103T133000
DTSTAMP:20260424T055608
CREATED:20231101T224049Z
LAST-MODIFIED:20231103T224458Z
UID:18021-1699003800-1699018200@ritms.rutgers.edu
SUMMARY:Novus I-Corps Program at Rutgers Camden
DESCRIPTION:Novus I-Corps Program at Rutgers Camden-Learn about the impact your research or innovation could have in solving real-world problems by attending our Novus I-Corps Program at the Rutgers University – Camden Campus\, a half-day introduction to I-Corps. Read More and Get Tickets. Campus Center\, 326 Penn Street\, Camden\, NJ.
URL:https://ritms.rutgers.edu/event/novus-i-corps-program-at-rutgers-camden/
LOCATION:Camden Campus Center\, 326 Penn Street\, Camden\, NJ\, 08102\, United States
END:VEVENT
BEGIN:VEVENT
DTSTART;TZID=UTC:20231103T100000
DTEND;TZID=UTC:20231103T100000
DTSTAMP:20260424T055608
CREATED:20231020T174248Z
LAST-MODIFIED:20231103T224459Z
UID:17913-1699005600-1699005600@ritms.rutgers.edu
SUMMARY:Faculty Diversity ‘Mentoring 101’ Workshop
DESCRIPTION:Faculty Diversity ‘Mentoring 101’ Workshop-The session will debunk traditional mentoring myths and provide tools for expanding your mentoring network to advance your academic career\, open to all current and future faculty. Virtual. Register Here
URL:https://ritms.rutgers.edu/event/faculty-diversity-mentoring-101-workshop/
CATEGORIES:Diversity Equity and Inclusion
END:VEVENT
BEGIN:VEVENT
DTSTART;TZID=UTC:20231104T090000
DTEND;TZID=UTC:20231104T170000
DTSTAMP:20260424T055608
CREATED:20231026T164514Z
LAST-MODIFIED:20231104T234154Z
UID:17966-1699088400-1699117200@ritms.rutgers.edu
SUMMARY:Rutgers Health Inaugural Health Hack 2023
DESCRIPTION:Rutgers Health Inaugural Health Hack 2023-Healthcare Hackathon: Network: Hack\, Feedback\, Iterate\, Pitch. More than $10\,000 in cash prizes. Robert Wood Johnson University Hospital\, New Brunswick. View Flyer and Register Here
URL:https://ritms.rutgers.edu/event/rutgers-health-inaugural-health-hack-2023-2/
LOCATION:Robert Wood Johnson University Hospital\, New Brunswick\, NJ\, 08901\, United States
END:VEVENT
BEGIN:VEVENT
DTSTART;TZID=UTC:20231105T090000
DTEND;TZID=UTC:20231105T170000
DTSTAMP:20260424T055608
CREATED:20231026T164514Z
LAST-MODIFIED:20231105T234337Z
UID:17967-1699174800-1699203600@ritms.rutgers.edu
SUMMARY:Rutgers Health Inaugural Health Hack 2023
DESCRIPTION:Rutgers Health Inaugural Health Hack 2023-Healthcare Hackathon: Network: Hack\, Feedback\, Iterate\, Pitch. More than $10\,000 in cash prizes. Robert Wood Johnson University Hospital\, New Brunswick. View Flyer and Register Here
URL:https://ritms.rutgers.edu/event/rutgers-health-inaugural-health-hack-2023-3/
LOCATION:Robert Wood Johnson University Hospital\, New Brunswick\, NJ\, 08901\, United States
END:VEVENT
BEGIN:VEVENT
DTSTART;TZID=UTC:20231106T120000
DTEND;TZID=UTC:20231106T130000
DTSTAMP:20260424T055608
CREATED:20231026T164515Z
LAST-MODIFIED:20231106T024616Z
UID:17968-1699272000-1699275600@ritms.rutgers.edu
SUMMARY:Trial Innovation Network Collaboration Webinar
DESCRIPTION:Trial Innovation Network Collaboration Webinar-Social Media Recruitment with Meta Restrictions with Brooke Crockett\, BA. Register Here
URL:https://ritms.rutgers.edu/event/trial-innovation-network-collaboration-webinar-5/
END:VEVENT
BEGIN:VEVENT
DTSTART;TZID=UTC:20231107T120000
DTEND;TZID=UTC:20231107T130000
DTSTAMP:20260424T055608
CREATED:20231101T233917Z
LAST-MODIFIED:20231107T174450Z
UID:18022-1699358400-1699362000@ritms.rutgers.edu
SUMMARY:RITMS Visiting Professor Lecture Series
DESCRIPTION:RITMS Visiting Professor Lecture Series-FROM BENCH TO BEDSIDE: Studies with MARCKS Protein\, Kenneth Adler\, PhD\, North Carolina State University College of Veterinary Medicine. Join on Zoom or in person at Child Health Institute\, Room 3101. View Flyer
URL:https://ritms.rutgers.edu/event/ritms-visiting-professor-lecture-series-8/
LOCATION:Child Health Institute\, Conference Room 3101\, 89 French Street\, New Brunswick\, NJ\, 08901\, United States
END:VEVENT
BEGIN:VEVENT
DTSTART;TZID=UTC:20231107T130000
DTEND;TZID=UTC:20231107T140000
DTSTAMP:20260424T055608
CREATED:20231026T164515Z
LAST-MODIFIED:20231107T174451Z
UID:17969-1699362000-1699365600@ritms.rutgers.edu
SUMMARY:University Equity and Inclusion Series
DESCRIPTION:University Equity and Inclusion Series–d/Deaf and Hard of Hearing Inclusion Matters! A Sensitivity Training Workshop. Virtual Event. Register Here.
URL:https://ritms.rutgers.edu/event/university-equity-and-inclusion-series-10/
END:VEVENT
BEGIN:VEVENT
DTSTART;TZID=UTC:20231108T100000
DTEND;TZID=UTC:20231108T110000
DTSTAMP:20260424T055608
CREATED:20231108T174606Z
LAST-MODIFIED:20231108T234826Z
UID:18080-1699437600-1699441200@ritms.rutgers.edu
SUMMARY:Rutgers Princeton Center for Computational Cognitive Neuropsychiatry Seminar
DESCRIPTION:Rutgers Princeton Center for Computational Cognitive Neuropsychiatry Seminar-Neuromodulation and cognitive effort\, Andrew Westbrook\, Rutgers University. ccnp.princeton.edu
URL:https://ritms.rutgers.edu/event/rutgers-princeton-center-for-computational-cognitive-neuropsychiatry-seminar-37/
END:VEVENT
BEGIN:VEVENT
DTSTART;TZID=UTC:20231108T160000
DTEND;TZID=UTC:20231108T170000
DTSTAMP:20260424T055608
CREATED:20231031T013934Z
LAST-MODIFIED:20231108T234827Z
UID:17995-1699459200-1699462800@ritms.rutgers.edu
SUMMARY:Annual Aaron J. Shatkin Memorial Lecture
DESCRIPTION:Annual Aaron J. Shatkin Memorial Lecture-Synthetic Biology: Biology by Design​\, James J. Collins\, PhD\, MIT. Main Lecture Hall – RWJMS\, New Brunswick\, NJ. View Flyer ​
URL:https://ritms.rutgers.edu/event/annual-aaron-j-shatkin-memorial-lecture/
LOCATION:RWJMS Main Lecture Hall\, 675 Hoes Lane West\, Piscataway\, NJ\, 08854\, United States
END:VEVENT
BEGIN:VEVENT
DTSTART;TZID=UTC:20231110T130000
DTEND;TZID=UTC:20231110T143000
DTSTAMP:20260424T055608
CREATED:20231031T013934Z
LAST-MODIFIED:20231110T234516Z
UID:17996-1699621200-1699626600@ritms.rutgers.edu
SUMMARY:NJ ACTS BERD Core Workshop Series
DESCRIPTION:NJ ACTS BERD Core Workshop Series-Detecting Gene-Environment Interactions for Complex Traits: Methodological and Conceptual Challenges (and Some Solutions)\, Sam Trejo\, PhD\, Princeton University. Virtual. View Flyer and Register Here
URL:https://ritms.rutgers.edu/event/nj-acts-berd-core-workshop-series/
END:VEVENT
BEGIN:VEVENT
DTSTART;TZID=UTC:20231113T140000
DTEND;TZID=UTC:20231113T150000
DTSTAMP:20260424T055608
CREATED:20231109T174734Z
LAST-MODIFIED:20231113T164808Z
UID:18094-1699884000-1699887600@ritms.rutgers.edu
SUMMARY:School of Public Health’s Center for Public Health Workforce Development Webinar
DESCRIPTION:School of Public Health’s Center for Public Health Workforce Development Webinar-A discussion focusing on RSV symptoms\, prevention\, and transmission in children and adults\, including an update on the use of the new vaccine and therapeutics\, Diana Finkel\, DO\, Rutgers New Jersey Medical School. Register Here
URL:https://ritms.rutgers.edu/event/school-of-public-healths-center-for-public-health-workforce-development-webinar/
END:VEVENT
BEGIN:VEVENT
DTSTART;TZID=UTC:20231114T083000
DTEND;TZID=UTC:20231114T120000
DTSTAMP:20260424T055608
CREATED:20231113T154218Z
LAST-MODIFIED:20231114T234929Z
UID:18108-1699950600-1699963200@ritms.rutgers.edu
SUMMARY:NOVUS NSF i-Corps Regional Progam
DESCRIPTION:NOVUS NSF i-Corps Regional Progam-Find out what impact your research or innovation could have in solving real-world problems by attending the next Novus I-Corps program\, a half-day introduction to I-Corps followed by optional self-paced coursework. Thomas Laboratory\, room 005\, Princeton University. Read More and Get Tickets Here
URL:https://ritms.rutgers.edu/event/novus-nsf-i-corps-regional-progam/
LOCATION:Princeton University\, Thomas Laboratory\, 119 Lewis Thomas Laboratory\, Washington Road\, Princeton\, NJ\, 08544-1014\, United States
END:VEVENT
BEGIN:VEVENT
DTSTART;TZID=UTC:20231114T110000
DTEND;TZID=UTC:20231114T120000
DTSTAMP:20260424T055608
CREATED:20231113T154219Z
LAST-MODIFIED:20231114T234929Z
UID:18109-1699959600-1699963200@ritms.rutgers.edu
SUMMARY:NSF i-Corps Small Business Innovation Research Program
DESCRIPTION:NSF i-Corps Small Business Innovation Research Program-Entrepreneurship Essentials: Successfully Navigating SBIR/STTR Funding\, Ellen McGeoch\, NeuroFlow. Virtual. Register Here
URL:https://ritms.rutgers.edu/event/nsf-i-corps-small-business-innovation-research-program/
END:VEVENT
BEGIN:VEVENT
DTSTART;TZID=UTC:20231114T120000
DTEND;TZID=UTC:20231114T130000
DTSTAMP:20260424T055608
CREATED:20231031T013934Z
LAST-MODIFIED:20231114T234930Z
UID:17997-1699963200-1699966800@ritms.rutgers.edu
SUMMARY:Clinical Research Management Network Virtual Webinar
DESCRIPTION:Clinical Research Management Network Virtual Webinar-Clinical Trial Diversity – What\, When\, Where\, Why\, How\, Mary Brantner\, MS\, CCRA\, Insmed\, Inc. View Flyer and Register Here
URL:https://ritms.rutgers.edu/event/clinical-research-management-network-virtual-webinar/
END:VEVENT
BEGIN:VEVENT
DTSTART;TZID=UTC:20231114T123000
DTEND;TZID=UTC:20231114T140000
DTSTAMP:20260424T055608
CREATED:20231031T013935Z
LAST-MODIFIED:20231114T234930Z
UID:17998-1699965000-1699970400@ritms.rutgers.edu
SUMMARY:University Equity and Inclusion Classroom Inclusivity Series
DESCRIPTION:University Equity and Inclusion Classroom Inclusivity Series–Incorporating Beliefs\, Mindsets & Belonging in Creating Inclusive Courses\, Virtual – Register Here
URL:https://ritms.rutgers.edu/event/university-equity-and-inclusion-classroom-inclusivity-series-3/
END:VEVENT
BEGIN:VEVENT
DTSTART;TZID=UTC:20231115T093000
DTEND;TZID=UTC:20231115T170000
DTSTAMP:20260424T055608
CREATED:20231104T024035Z
LAST-MODIFIED:20231115T154325Z
UID:18049-1700040600-1700067600@ritms.rutgers.edu
SUMMARY:Diversity Plan Progress Summit
DESCRIPTION:Diversity Plan Progress Summit-Building an Inclusive Academy. Join us to discover how Rutgers is pursuing its commitment to excellence and inclusion deliberately. Hear from university leaders about our institutional goals and how collaboration is driving progress. Learn More
URL:https://ritms.rutgers.edu/event/diversity-plan-progress-summit/
END:VEVENT
BEGIN:VEVENT
DTSTART;TZID=UTC:20231115T100000
DTEND;TZID=UTC:20231115T110000
DTSTAMP:20260424T055608
CREATED:20231115T154326Z
LAST-MODIFIED:20231115T154326Z
UID:18126-1700042400-1700046000@ritms.rutgers.edu
SUMMARY:Rutgers Princeton Center for Computational Cognitive Neuropsychiatry Seminar
DESCRIPTION:Rutgers Princeton Center for Computational Cognitive Neuropsychiatry Seminar-Mathematical and Computational Modeling of Suicidal Thoughts and Behaviors\, Shirley Wang\, Yale University.  https://ccnp.princeton.edu/
URL:https://ritms.rutgers.edu/event/rutgers-princeton-center-for-computational-cognitive-neuropsychiatry-seminar-38/
END:VEVENT
BEGIN:VEVENT
DTSTART;TZID=UTC:20231115T100000
DTEND;TZID=UTC:20231115T113000
DTSTAMP:20260424T055608
CREATED:20231105T004104Z
LAST-MODIFIED:20231115T154325Z
UID:18052-1700042400-1700047800@ritms.rutgers.edu
SUMMARY:University Equity and Inclusion Classroom Inclusivity Series
DESCRIPTION:University Equity and Inclusion Classroom Inclusivity Series–Universal Design for Learning and Inclusive Teaching Strategies\, Virtual – Register Here
URL:https://ritms.rutgers.edu/event/university-equity-and-inclusion-classroom-inclusivity-series-4/
END:VEVENT
BEGIN:VEVENT
DTSTART;TZID=UTC:20231115T103000
DTEND;TZID=UTC:20231115T113000
DTSTAMP:20260424T055608
CREATED:20231108T175117Z
LAST-MODIFIED:20231115T154326Z
UID:18081-1700044200-1700047800@ritms.rutgers.edu
SUMMARY:Department of Kinesiology and Health Fall Seminar Series
DESCRIPTION:Department of Kinesiology and Health Fall Seminar Series-Prioritizing Equity for the Future of Research and Discovery\, Ariangela J Kozik\, PhD\, University of Michigan. View Flyer and Join on Zoom
URL:https://ritms.rutgers.edu/event/department-of-kinesiology-and-health-fall-seminar-series/
END:VEVENT
BEGIN:VEVENT
DTSTART;TZID=UTC:20231115T140000
DTEND;TZID=UTC:20231115T150000
DTSTAMP:20260424T055608
CREATED:20231105T004105Z
LAST-MODIFIED:20231115T154326Z
UID:18053-1700056800-1700060400@ritms.rutgers.edu
SUMMARY:Trial Innovation Network Webinar
DESCRIPTION:Trial Innovation Network Webinar-Adaptive Designs to Improve Recruitment of Diverse Populations into Clinical Trials with Bunmi Ogungbe\, PhD\, MPH\, RN  &  Cassie Lewis-Land\, MS\, CCRP. Read More and Register Here.
URL:https://ritms.rutgers.edu/event/trial-innovation-network-webinar-4/
END:VEVENT
END:VCALENDAR