BEGIN:VCALENDAR
VERSION:2.0
PRODID:-//Institute for Translational Medicine and Science - ECPv6.15.16//NONSGML v1.0//EN
CALSCALE:GREGORIAN
METHOD:PUBLISH
X-WR-CALNAME:Institute for Translational Medicine and Science
X-ORIGINAL-URL:https://ritms.rutgers.edu
X-WR-CALDESC:Events for Institute for Translational Medicine and Science
REFRESH-INTERVAL;VALUE=DURATION:PT1H
X-Robots-Tag:noindex
X-PUBLISHED-TTL:PT1H
BEGIN:VTIMEZONE
TZID:UTC
BEGIN:STANDARD
TZOFFSETFROM:+0000
TZOFFSETTO:+0000
TZNAME:UTC
DTSTART:20220101T000000
END:STANDARD
END:VTIMEZONE
BEGIN:VEVENT
DTSTART;TZID=UTC:20230531T080000
DTEND;TZID=UTC:20230531T170000
DTSTAMP:20260424T051917
CREATED:20230523T194101Z
LAST-MODIFIED:20230531T024107Z
UID:16681-1685520000-1685552400@ritms.rutgers.edu
SUMMARY:Rutgers Biomedical and Health Sciences IDEA Grant Applications Due
DESCRIPTION:Rutgers Biomedical and Health Sciences IDEA Grant Applications Due-Rutgers faculty\, staff\, students\, and trainees are encouraged to apply. Learn more about the RBHS-IDEA grant program and apply here.
URL:https://ritms.rutgers.edu/event/rutgers-biomedical-and-health-sciences-idea-grant-applications-due/
END:VEVENT
BEGIN:VEVENT
DTSTART;TZID=UTC:20230531T100000
DTEND;TZID=UTC:20230531T113000
DTSTAMP:20260424T051917
CREATED:20230523T194102Z
LAST-MODIFIED:20230531T024107Z
UID:16682-1685527200-1685532600@ritms.rutgers.edu
SUMMARY:Teaching the Commercial Determinants of Health
DESCRIPTION:Teaching the Commercial Determinants of Health-A Workshop Webinar. Participants will learn from leading experts about the Commercial Determinants of Health (CDoH) and how schools and programs of public health can apply the CDoH framework to their teaching\, research\, and advocacy. Register at https://bit.ly/May2023CDoH before May 31st to participate!
URL:https://ritms.rutgers.edu/event/teaching-the-commercial-determinants-of-health/
END:VEVENT
BEGIN:VEVENT
DTSTART;TZID=UTC:20230531T100000
DTEND;TZID=UTC:20230531T120000
DTSTAMP:20260424T051917
CREATED:20230504T013956Z
LAST-MODIFIED:20230531T024107Z
UID:16573-1685527200-1685534400@ritms.rutgers.edu
SUMMARY:Program for Early Career Excellence Workshop Series
DESCRIPTION:Program for Early Career Excellence Workshop Series-National Center for Development & Diversity Session\, Every Semester Needs a Plan: How to Boost Your Summer Productivity. Read More and Register Here! 
URL:https://ritms.rutgers.edu/event/program-for-early-career-excellence-workshop-series/
END:VEVENT
BEGIN:VEVENT
DTSTART;TZID=UTC:20230531T160000
DTEND;TZID=UTC:20230531T170000
DTSTAMP:20260424T051917
CREATED:20230518T174022Z
LAST-MODIFIED:20230531T024108Z
UID:16660-1685548800-1685552400@ritms.rutgers.edu
SUMMARY:CINJ Grand Rounds
DESCRIPTION:CINJ Grand Rounds-A Multi-Level Understanding of Cancer Health Disparities Using Molecular Epidemiology Approaches\, Song Yao\, PhD\, Roswell Park Comprehensive Cancer Center. View Flyer and Join in Auditorium A or on Webex.
URL:https://ritms.rutgers.edu/event/cinj-grand-rounds-20/
LOCATION:Rutgers Cancer Institute\, Auditorium A\, 195 Little Albany Street\, New Brunswick\, NJ\, 08901\, United States
END:VEVENT
BEGIN:VEVENT
DTSTART;TZID=UTC:20230601T110000
DTEND;TZID=UTC:20230601T180000
DTSTAMP:20260424T051917
CREATED:20230525T194124Z
LAST-MODIFIED:20230601T204424Z
UID:16692-1685617200-1685642400@ritms.rutgers.edu
SUMMARY:2023 Communications Summit: Connecting Basic Science to Popular Culture
DESCRIPTION:2023 Communications Summit: Connecting Basic Science to Popular Culture-One-day virtual summit will explore the scholarship and practice of sharing federally supported basic research with public audiences. For more information and to register\, please visit the summit webpage: https://web.cvent.com/event/dc1068b0-8bca-4b82-b8a2-1619a3cc7cd7/summary
URL:https://ritms.rutgers.edu/event/2023-communications-summit-connecting-basic-science-to-popular-culture/
END:VEVENT
BEGIN:VEVENT
DTSTART;TZID=UTC:20230602T080000
DTEND;TZID=UTC:20230602T170000
DTSTAMP:20260424T051917
CREATED:20230504T013957Z
LAST-MODIFIED:20230602T213653Z
UID:16575-1685692800-1685725200@ritms.rutgers.edu
SUMMARY:NJ Climate Change Research Symposium 2023
DESCRIPTION:NJ Climate Change Research Symposium 2023-The latest natural and social science\, economics\, engineering\, and policy research furthering climate change understanding\, evaluation\, and response in New Jersey while fostering a community of climate change scholarship. Read More
URL:https://ritms.rutgers.edu/event/nj-climate-change-research-symposium-2023/
LOCATION:Cook Student Center\, 59 Biel Road\, New Brunswick\, NJ\, 08901\, United States
END:VEVENT
BEGIN:VEVENT
DTSTART;TZID=UTC:20230602T080000
DTEND;TZID=UTC:20230602T170000
DTSTAMP:20260424T051917
CREATED:20230525T194125Z
LAST-MODIFIED:20230602T213653Z
UID:16693-1685692800-1685725200@ritms.rutgers.edu
SUMMARY:Rutgers Innovation Ventures Senior Internship Programs Application Deadline
DESCRIPTION:Rutgers Innovation Ventures Senior Internship Programs Application Deadline-These internships are designed for graduate (Masters and PhD) as well as postdoctoral candidates who are interested in pursuing careers in Intellectual Property Law\, Business Development\, and/or Academic Technology Transfer\, as well as for students pursuing Master’s degree in Business who are interested in gaining hands-on experiences in Marketing and Business Development. View Flyer
URL:https://ritms.rutgers.edu/event/rutgers-innovation-ventures-senior-internship-programs-application-deadline/
END:VEVENT
BEGIN:VEVENT
DTSTART;TZID=UTC:20230605T120000
DTEND;TZID=UTC:20230605T130000
DTSTAMP:20260424T051917
CREATED:20230506T024036Z
LAST-MODIFIED:20230605T053347Z
UID:16589-1685966400-1685970000@ritms.rutgers.edu
SUMMARY:Trial Innovation Network Webinar
DESCRIPTION:Trial Innovation Network Webinar-READI for Change: From Consultations to a Challenge Series – Integrating Multimedia\, Interdisciplinary Approaches for EADI Awareness and Implementation in Clinical Trial Program Development\, Gelise Thomas\, JD\, MS  &  Clara Pelfrey\, PhD. Read More and Register Here
URL:https://ritms.rutgers.edu/event/trial-innovation-network-webinar-3/
END:VEVENT
BEGIN:VEVENT
DTSTART;TZID=UTC:20230605T130000
DTEND;TZID=UTC:20230605T140000
DTSTAMP:20260424T051917
CREATED:20230506T024036Z
LAST-MODIFIED:20230605T053348Z
UID:16590-1685970000-1685973600@ritms.rutgers.edu
SUMMARY:Child Health Institute Science Seminar Series
DESCRIPTION:Child Health Institute Science Seminar Series-Pre-birth Immune Education\, Ai Ing Lim\, PhD\, Princeton University. Conference Room 3101\, CHINJ and via Zoom. View Flyer
URL:https://ritms.rutgers.edu/event/child-health-institute-science-seminar-series-9/
LOCATION:Child Health Institute\, Conference Room 3101\, 89 French Street\, New Brunswick\, NJ\, 08901\, United States
END:VEVENT
BEGIN:VEVENT
DTSTART;TZID=UTC:20230606T093000
DTEND;TZID=UTC:20230606T110000
DTSTAMP:20260424T051917
CREATED:20230606T204022Z
LAST-MODIFIED:20230606T204022Z
UID:16785-1686043800-1686049200@ritms.rutgers.edu
SUMMARY:NSF I-Corps Hub Northeast Region Industry Connect
DESCRIPTION:NSF I-Corps Hub Northeast Region Industry Connect-Advancing Innovation at Scale\, Industry Connect will help you engage w/ industry as a group\, identify & evaluate Key Partners to advance your research or innovation! Register Here for this Virtual Event
URL:https://ritms.rutgers.edu/event/nsf-i-corps-hub-northeast-region-industry-connect/
END:VEVENT
BEGIN:VEVENT
DTSTART;TZID=UTC:20230606T100000
DTEND;TZID=UTC:20230606T120000
DTSTAMP:20260424T051917
CREATED:20230526T033810Z
LAST-MODIFIED:20230606T204022Z
UID:16697-1686045600-1686052800@ritms.rutgers.edu
SUMMARY:2023 New Jersey Immunization Conference\, Part 1
DESCRIPTION:2023 New Jersey Immunization Conference\, Part 1-RISE Together: Advancing Childhood Immunization Rates through Collaboration.  The conference will be offered in two-parts and separate registration is required for each part. Conference Details and Registration Part 1: Vaccines for Children
URL:https://ritms.rutgers.edu/event/2023-new-jersey-immunization-conference-part-1/
END:VEVENT
BEGIN:VEVENT
DTSTART;TZID=UTC:20230607T090000
DTEND;TZID=UTC:20230607T100000
DTSTAMP:20260424T051917
CREATED:20230602T033736Z
LAST-MODIFIED:20230607T063658Z
UID:16739-1686128400-1686132000@ritms.rutgers.edu
SUMMARY:Rutgers Princeton Center for Computational Cognitive Neuropsychiatry Seminar
DESCRIPTION:Rutgers Princeton Center for Computational Cognitive Neuropsychiatry Seminar-A white matter pathway for visual configuration learning\, Ahmed Byeh\, Ph.D.\, University College London. ccnp.princeton.edu
URL:https://ritms.rutgers.edu/event/rutgers-princeton-center-for-computational-cognitive-neuropsychiatry-seminar-29/
END:VEVENT
BEGIN:VEVENT
DTSTART;TZID=UTC:20230609T113000
DTEND;TZID=UTC:20230609T123000
DTSTAMP:20260424T051917
CREATED:20230606T204023Z
LAST-MODIFIED:20230609T154141Z
UID:16786-1686310200-1686313800@ritms.rutgers.edu
SUMMARY:NSF I-Corps Hub Northeast Cleantech Propelus
DESCRIPTION:NSF I-Corps Hub Northeast Cleantech Propelus-Info session: Cleantech Propelus regional program\,Learn about the impact your cleantech research could have for societal benefit. Read More and Register Here for the Virtual Event
URL:https://ritms.rutgers.edu/event/nsf-i-corps-hub-northeast-cleantech-propelus/
END:VEVENT
BEGIN:VEVENT
DTSTART;TZID=UTC:20230612T120000
DTEND;TZID=UTC:20230612T130000
DTSTAMP:20260424T051917
CREATED:20230606T204023Z
LAST-MODIFIED:20230612T173834Z
UID:16787-1686571200-1686574800@ritms.rutgers.edu
SUMMARY:POSTPONED – RITMS Visiting Professor Lecture Series
DESCRIPTION:RITMS Visiting Professor Lecture Series-FROM BENCH TO BEDSIDE: Studies with MARCKS Protein\, Kenneth Adler\, PhD\, North Carolina State University College of Veterinary Medicine. View Flyer. In person at Child Health Institute\, 89 French Street\, Room 3101\, New Brunswick and on Zoom.
URL:https://ritms.rutgers.edu/event/ritms-visiting-professor-lecture-series-7/
LOCATION:Child Health Institute\, Conference Room 3101\, 89 French Street\, New Brunswick\, NJ\, 08901\, United States
END:VEVENT
BEGIN:VEVENT
DTSTART;TZID=UTC:20230613T090000
DTEND;TZID=UTC:20230613T110000
DTSTAMP:20260424T051917
CREATED:20230606T204238Z
LAST-MODIFIED:20230613T174020Z
UID:16788-1686646800-1686654000@ritms.rutgers.edu
SUMMARY:NSF I-Corps Hub Northeast Region Industry Connect
DESCRIPTION:NSF I-Corps Hub Northeast Region Industry Connect-Advancing Innovation at Scale\, Industry Connect will help you engage w/ industry as a group\, identify & evaluate Key Partners to advance your research or innovation! Register Here for this Virtual Event
URL:https://ritms.rutgers.edu/event/nsf-i-corps-hub-northeast-region-industry-connect-2/
END:VEVENT
BEGIN:VEVENT
DTSTART;TZID=UTC:20230613T113000
DTEND;TZID=UTC:20230613T150000
DTSTAMP:20260424T051917
CREATED:20230608T043823Z
LAST-MODIFIED:20230613T174020Z
UID:16800-1686655800-1686668400@ritms.rutgers.edu
SUMMARY:I-Corps Regional Novus @ Princeton
DESCRIPTION:I-Corps Regional Novus @ Princeton-Explore the impact that your research or innovation could have on real-world problems by attending the Novus program\, a half-day introduction to I-Corps followed by self-paced coursework that can fast-track you to participating in the Propelus I-Corps four-week program. Engineering Quad D-Wing\, Room 221\, Princeton. Register Here
URL:https://ritms.rutgers.edu/event/i-corps-regional-novus-princeton/
LOCATION:Engineering Quadrangle (E-Quad)\, 41 Olden Street\, Princeton\, NJ\, 08544\, United States
END:VEVENT
BEGIN:VEVENT
DTSTART;TZID=UTC:20230613T120000
DTEND;TZID=UTC:20230613T130000
DTSTAMP:20260424T051917
CREATED:20230602T033736Z
LAST-MODIFIED:20230613T174021Z
UID:16740-1686657600-1686661200@ritms.rutgers.edu
SUMMARY:NJ ACTS Special Populations Core Seminar Series
DESCRIPTION:NJ ACTS Special Populations Core Seminar-The Role of Confidence in the Hard Problem of Addiction\, S. Matthew Liao\, PhD\, New York University. View Flyer and Join on Zoom
URL:https://ritms.rutgers.edu/event/nj-acts-special-populations-core-seminar-series/
END:VEVENT
BEGIN:VEVENT
DTSTART;TZID=UTC:20230614T100000
DTEND;TZID=UTC:20230614T110000
DTSTAMP:20260424T051917
CREATED:20230612T173836Z
LAST-MODIFIED:20230614T184101Z
UID:16828-1686736800-1686740400@ritms.rutgers.edu
SUMMARY:Rutgers Princeton Center for Computational Cognitive Neuropsychiatry Seminar
DESCRIPTION:Rutgers Princeton Center for Computational Cognitive Neuropsychiatry Seminar-How biased beliefs about drug use are maintained\, Manny Alvarez\, Rutgers. ccnp.princeton.edu
URL:https://ritms.rutgers.edu/event/rutgers-princeton-center-for-computational-cognitive-neuropsychiatry-seminar-30/
END:VEVENT
BEGIN:VEVENT
DTSTART;TZID=UTC:20230614T160000
DTEND;TZID=UTC:20230614T170000
DTSTAMP:20260424T051917
CREATED:20230614T184102Z
LAST-MODIFIED:20230614T184102Z
UID:16840-1686758400-1686762000@ritms.rutgers.edu
SUMMARY:CINJ Grand Rounds Seminar
DESCRIPTION:CINJ Grand Rounds Seminar-Hippo/YAP Regulation of Intestinal Homeostasis and Polyposis\, Dr. Junhao Mao\, University of Massachusetts Medical School. CINJ Auditotium A.
URL:https://ritms.rutgers.edu/event/cinj-grand-rounds-seminar/
LOCATION:Rutgers Cancer Institute\, Auditorium A\, 195 Little Albany Street\, New Brunswick\, NJ\, 08901\, United States
END:VEVENT
BEGIN:VEVENT
DTSTART;TZID=UTC:20230615T080000
DTEND;TZID=UTC:20230615T190000
DTSTAMP:20260424T051917
CREATED:20230608T053550Z
LAST-MODIFIED:20230615T223646Z
UID:16802-1686816000-1686855600@ritms.rutgers.edu
SUMMARY:Princeton Neuro Institute Conference
DESCRIPTION:Princeton Neuro Institute Conference-Nueroethics and Future Reality\, the Implications for individuals and society. Princeton Neuroscience Institute\, Princeton\, NJ. Read More and Register Here
URL:https://ritms.rutgers.edu/event/princeton-neuro-institute-conference/
LOCATION:Princeton Neuroscience Institute\, Room 101\, Washington Road\, Princeton\, 08544\, United States
END:VEVENT
BEGIN:VEVENT
DTSTART;TZID=UTC:20230615T093000
DTEND;TZID=UTC:20230615T123000
DTSTAMP:20260424T051917
CREATED:20230516T023925Z
LAST-MODIFIED:20230615T223647Z
UID:16640-1686821400-1686832200@ritms.rutgers.edu
SUMMARY:Program for Early Career Excellence Workshop Series
DESCRIPTION:Program for Early Career Excellence Workshop Series-National Center for Development & Diversity Session\, Writing\, Procrastination and Resistance: How to Identify Your Writing Blocks and Move through Them. Read More and Register Here.
URL:https://ritms.rutgers.edu/event/program-for-early-career-excellence-workshop-series-2/
LOCATION:New Brunswick Theological Seminary\, 35 Seminary Place (College Avenue campus)\, New Brunswick\, NJ\, 08901\, United States
END:VEVENT
BEGIN:VEVENT
DTSTART;TZID=UTC:20230620T090000
DTEND;TZID=UTC:20230620T110000
DTSTAMP:20260424T051917
CREATED:20230606T204239Z
LAST-MODIFIED:20230620T223957Z
UID:16789-1687251600-1687258800@ritms.rutgers.edu
SUMMARY:NSF I-Corps Hub Northeast Region Industry Connect
DESCRIPTION:NSF I-Corps Hub Northeast Region Industry Connect-Advancing Innovation at Scale\, Industry Connect will help you engage w/ industry as a group\, identify & evaluate Key Partners to advance your research or innovation! Register Here for this Virtual Event
URL:https://ritms.rutgers.edu/event/nsf-i-corps-hub-northeast-region-industry-connect-3/
END:VEVENT
BEGIN:VEVENT
DTSTART;TZID=UTC:20230620T100000
DTEND;TZID=UTC:20230620T140000
DTSTAMP:20260424T051917
CREATED:20230602T033737Z
LAST-MODIFIED:20230620T223958Z
UID:16741-1687255200-1687269600@ritms.rutgers.edu
SUMMARY:NJ ACTS Workforce Core Python Training
DESCRIPTION:NJ ACTS Workforce Core Python Training-Machine learning with Python Basic Session. Review Course Description and View Flyer. Finally\, Register Here!
URL:https://ritms.rutgers.edu/event/nj-acts-workforce-core-python-training/
CATEGORIES:Save the Date
END:VEVENT
BEGIN:VEVENT
DTSTART;TZID=UTC:20230620T110000
DTEND;TZID=UTC:20230620T130000
DTSTAMP:20260424T051917
CREATED:20230619T223802Z
LAST-MODIFIED:20230620T223958Z
UID:16868-1687258800-1687266000@ritms.rutgers.edu
SUMMARY:Faculty Development Virtual Symposium
DESCRIPTION:Faculty Development Virtual Symposium-Skills for Better Navigating the Waves of Change\, Frank A. Ghinassi\, PhD\, ABPP\, and Stephanie Marcello\, PhD\, Rutgers. View Flyer and Register Here
URL:https://ritms.rutgers.edu/event/faculty-development-virtual-symposium/
END:VEVENT
BEGIN:VEVENT
DTSTART;TZID=UTC:20230620T150000
DTEND;TZID=UTC:20230620T160000
DTSTAMP:20260424T051917
CREATED:20230612T183803Z
LAST-MODIFIED:20230620T223959Z
UID:16829-1687273200-1687276800@ritms.rutgers.edu
SUMMARY:Decentralized Clinical Trials (DCT) Draft Guidance Workshop Webinar
DESCRIPTION:Decentralized Clinical Trials (DCT) Draft Guidance Workshop Webinar-As part of the FDA’s efforts to be responsive to the rapidly evolving clinical trial landscape and clarify the Agency’s recommendations on the conduct of DCTs\, the FDA will provide an overview of the draft guidance. Read Full Document and Register Here
URL:https://ritms.rutgers.edu/event/decentralized-clinical-trials-dct-draft-guidance-workshop-webinar/
END:VEVENT
BEGIN:VEVENT
DTSTART;TZID=UTC:20230621T083000
DTEND;TZID=UTC:20230621T163000
DTSTAMP:20260424T051917
CREATED:20230615T203912Z
LAST-MODIFIED:20230621T233641Z
UID:16848-1687336200-1687365000@ritms.rutgers.edu
SUMMARY:National Academies of Sciences\, Engineering\, and Medicine Population Health Roundtable
DESCRIPTION:National Academies of Sciences\, Engineering\, and Medicine Population Health Roundtable-The Ecosystem of Health Equity Measures: A Workshop. Read More and Register Here.
URL:https://ritms.rutgers.edu/event/national-academies-of-sciences-engineering-and-medicine-population-health-roundtable/
END:VEVENT
BEGIN:VEVENT
DTSTART;TZID=UTC:20230621T093000
DTEND;TZID=UTC:20230621T134500
DTSTAMP:20260424T051917
CREATED:20230602T033738Z
LAST-MODIFIED:20230621T233642Z
UID:16742-1687339800-1687355100@ritms.rutgers.edu
SUMMARY:2023 New Jersey Immunization Conference\, Part 2
DESCRIPTION:2023 New Jersey Immunization Conference\, Part 2-RISE Together: Advancing Childhood Immunization Rates through Collaboration.  The conference will be offered in two-parts and separate registration is required for each part. Conference Details and Registration Part 2: Rise Together
URL:https://ritms.rutgers.edu/event/2023-new-jersey-immunization-conference-part-2/
END:VEVENT
BEGIN:VEVENT
DTSTART;TZID=UTC:20230621T100000
DTEND;TZID=UTC:20230621T110000
DTSTAMP:20260424T051917
CREATED:20230619T233546Z
LAST-MODIFIED:20230621T233642Z
UID:16869-1687341600-1687345200@ritms.rutgers.edu
SUMMARY:Rutgers Princeton Center for Computational Cognitive Neuropsychiatry Seminar
DESCRIPTION:Rutgers Princeton Center for Computational Cognitive Neuropsychiatry Seminar-Functional Specialization in the Primate Orbitofrontal Cortex\, Shira Lupkin\, Rutgers. ccnp.princeton.edu
URL:https://ritms.rutgers.edu/event/rutgers-princeton-center-for-computational-cognitive-neuropsychiatry-seminar-31/
END:VEVENT
BEGIN:VEVENT
DTSTART;TZID=UTC:20230621T120000
DTEND;TZID=UTC:20230621T130000
DTSTAMP:20260424T051917
CREATED:20230606T043318Z
LAST-MODIFIED:20230621T233642Z
UID:16773-1687348800-1687352400@ritms.rutgers.edu
SUMMARY:Equity Talks: Roadmap to Success: Embracing Identity and Leadership
DESCRIPTION:Equity Talks: Roadmap to Success: Embracing Identity and Leadership-Dr. Jeffrey Robinson\, Provost and Executive Vice Chancellor\, Rutgers Newark. Virtual Event. View Flyer and Register Here
URL:https://ritms.rutgers.edu/event/equity-talks-roadmap-to-success-embracing-identity-and-leadership/
END:VEVENT
BEGIN:VEVENT
DTSTART;TZID=UTC:20230621T120000
DTEND;TZID=UTC:20230621T130000
DTSTAMP:20260424T051917
CREATED:20230614T193615Z
LAST-MODIFIED:20230621T233643Z
UID:16841-1687348800-1687352400@ritms.rutgers.edu
SUMMARY:Propelus I-Corps Virtual Information Session
DESCRIPTION:Propelus I-Corps Virtual Information Session-Transform your technology into a real-world product or service – Propelus four-week program. Earn a $3\,000 NSF Grant. Read More and Register for the Information Session
URL:https://ritms.rutgers.edu/event/propelus-i-corps-virtual-information-session/
END:VEVENT
END:VCALENDAR