BEGIN:VCALENDAR
VERSION:2.0
PRODID:-//Institute for Translational Medicine and Science - ECPv6.15.16//NONSGML v1.0//EN
CALSCALE:GREGORIAN
METHOD:PUBLISH
X-WR-CALNAME:Institute for Translational Medicine and Science
X-ORIGINAL-URL:https://ritms.rutgers.edu
X-WR-CALDESC:Events for Institute for Translational Medicine and Science
REFRESH-INTERVAL;VALUE=DURATION:PT1H
X-Robots-Tag:noindex
X-PUBLISHED-TTL:PT1H
BEGIN:VTIMEZONE
TZID:UTC
BEGIN:STANDARD
TZOFFSETFROM:+0000
TZOFFSETTO:+0000
TZNAME:UTC
DTSTART:20220101T000000
END:STANDARD
END:VTIMEZONE
BEGIN:VEVENT
DTSTART;TZID=UTC:20230421T100000
DTEND;TZID=UTC:20230421T110000
DTSTAMP:20260424T025942
CREATED:20230415T234109Z
LAST-MODIFIED:20230421T224311Z
UID:16368-1682071200-1682074800@ritms.rutgers.edu
SUMMARY:Identity and Leadership Conversations Webinar Series
DESCRIPTION:Identity and Leadership Conversations Webinar Series-How we lead and are recognized as leaders is greatly influenced by our identities\, yet we often have an incomplete understanding of that intersection and influence\, Dr. Enobong “Anna” Branch\, Rutgers. Read more and Register here.
URL:https://ritms.rutgers.edu/event/identity-and-leadership-conversations-webinar-series/
END:VEVENT
BEGIN:VEVENT
DTSTART;TZID=UTC:20230424T160000
DTEND;TZID=UTC:20230424T170000
DTSTAMP:20260424T025942
CREATED:20230418T194341Z
LAST-MODIFIED:20230424T234758Z
UID:16389-1682352000-1682355600@ritms.rutgers.edu
SUMMARY:Child Health Institute of NJ Science Seminar
DESCRIPTION:Child Health Institute of NJ Science Seminar-Monitoring the Monitors: Molecular Control of the Cholinergic Interneurons\, Nathalie Dehorter\, PhD\, The Queensland Brain Institute\, The University of Queensland\, Brisbane\, Australia. View Flyer and Join on Zoom 
URL:https://ritms.rutgers.edu/event/child-health-institute-of-nj-science-seminar-2/
END:VEVENT
BEGIN:VEVENT
DTSTART;TZID=UTC:20230425T120000
DTEND;TZID=UTC:20230425T140000
DTSTAMP:20260424T025942
CREATED:20230415T234110Z
LAST-MODIFIED:20230425T234635Z
UID:16370-1682424000-1682431200@ritms.rutgers.edu
SUMMARY:Rutgers School of Graduate Studies Mentoring Workshop
DESCRIPTION:Rutgers School of Graduate Studies Mentoring Workshop-Effective Mentoring of Undergrads\, an active learning workshop for PhD students\, Postdoctoral Fellows and Faculty will use techniques and case study discussions in breakout sessions to teach tools and skills to better mentor undergraduate students in a research setting. View Flyer and Register Here
URL:https://ritms.rutgers.edu/event/rutgers-school-of-graduate-studies-mentoring-workshop/
LOCATION:Clinical Academic Building\, Room 3403\, 125 Paterson Street\, New Brunswick\, NJ\, 08901\, United States
END:VEVENT
BEGIN:VEVENT
DTSTART;TZID=UTC:20230425T130000
DTEND;TZID=UTC:20230425T140000
DTSTAMP:20260424T025942
CREATED:20230417T184244Z
LAST-MODIFIED:20230425T234636Z
UID:16380-1682427600-1682431200@ritms.rutgers.edu
SUMMARY:NJACTS Special Populations Core Seminar
DESCRIPTION:NJACTS Special Populations Core Seminar-The Role of Resilience in Addressing Biopsychosocial and Neurocognitive Health Outcomes in Older Adults Living with HIV/AIDS\, Kristen Krause\, Rutgers.
URL:https://ritms.rutgers.edu/event/njacts-special-populations-core-seminar-2/
END:VEVENT
BEGIN:VEVENT
DTSTART;TZID=UTC:20230425T153000
DTEND;TZID=UTC:20230425T163000
DTSTAMP:20260424T025942
CREATED:20230418T194342Z
LAST-MODIFIED:20230425T234636Z
UID:16390-1682436600-1682440200@ritms.rutgers.edu
SUMMARY:Spring 2023 Mentor Workshops-What Type of Support Do Youth Need?
DESCRIPTION:Spring 2023 Mentor Workshops-What Type of Support Do Youth Need?  FLYER
URL:https://ritms.rutgers.edu/event/spring-2023-mentor-workshops-what-type-of-support-do-youth-need/
CATEGORIES:Diversity Equity and Inclusion
END:VEVENT
BEGIN:VEVENT
DTSTART;TZID=UTC:20230426T080000
DTEND;TZID=UTC:20230426T090000
DTSTAMP:20260424T025942
CREATED:20230424T214340Z
LAST-MODIFIED:20230426T223817Z
UID:16494-1682496000-1682499600@ritms.rutgers.edu
SUMMARY:Pediatric Grand Rounds
DESCRIPTION:Pediatric Grand Rounds-Supporting Optimal Developmental Health to Promote Equity in Healthcare Settings\, Mauel Jimenez\, Md\, Rutgers RWJMS. Join on Webex
URL:https://ritms.rutgers.edu/event/pediatric-grand-rounds-2/
END:VEVENT
BEGIN:VEVENT
DTSTART;TZID=UTC:20230426T120000
DTEND;TZID=UTC:20230426T180000
DTSTAMP:20260424T025942
CREATED:20230418T194343Z
LAST-MODIFIED:20230426T223817Z
UID:16392-1682510400-1682532000@ritms.rutgers.edu
SUMMARY:Annual Spring Symposium and Healthcare Workshop
DESCRIPTION:Annual Spring Symposium and Healthcare Workshop-Life Sciences and Healthcare Institutions: Partners for Life\, Keynote Tom Hubbard\, Network for Excellence in Health Innovation. View Flyer and Register Here
URL:https://ritms.rutgers.edu/event/annual-spring-symposium-and-healthcare-workshop/
LOCATION:Cook Campus Center\, 59 Biel Road\, New Brunswick\, NJ\, 08901\, United States
END:VEVENT
BEGIN:VEVENT
DTSTART;TZID=UTC:20230426T140000
DTEND;TZID=UTC:20230426T150000
DTSTAMP:20260424T025942
CREATED:20230419T194947Z
LAST-MODIFIED:20230426T223817Z
UID:16410-1682517600-1682521200@ritms.rutgers.edu
SUMMARY:CTSA Program Webinar Series
DESCRIPTION:CTSA Program Webinar Series–Register Here!
URL:https://ritms.rutgers.edu/event/ctsa-program-webinar-series-8/
END:VEVENT
BEGIN:VEVENT
DTSTART;TZID=UTC:20230427T120000
DTEND;TZID=UTC:20230427T130000
DTSTAMP:20260424T025942
CREATED:20230419T204229Z
LAST-MODIFIED:20230427T224339Z
UID:16411-1682596800-1682600400@ritms.rutgers.edu
SUMMARY:Tri-Departmental Seminar Series
DESCRIPTION:Tri-Departmental Seminar Series-Regulating hexosamine biosynthesis\, Dr. Estela Jacinto\, Department of Biochemistry and Molecular Biology\, RWJMS– Rutgers. View Flyer and  Join on Zoom
URL:https://ritms.rutgers.edu/event/tri-departmental-seminar-series/
END:VEVENT
BEGIN:VEVENT
DTSTART;TZID=UTC:20230427T160000
DTEND;TZID=UTC:20230427T180000
DTSTAMP:20260424T025942
CREATED:20230419T204229Z
LAST-MODIFIED:20230427T224340Z
UID:16412-1682611200-1682618400@ritms.rutgers.edu
SUMMARY:Faculty Diversity Social
DESCRIPTION:Faculty Diversity Social-Faculty peers from all backgrounds and ranks engage one another in conversation about the themes raised in The Black Academic’s Guide to Winning Tenure—Without Losing Your Soul”\, Kerry Ann Rockquemore and Tracey Laszloffy. 
URL:https://ritms.rutgers.edu/event/faculty-diversity-social/
LOCATION:Rutgers Club\, 85 Avenue E\, Piscataway\, 08854\, United States
CATEGORIES:Diversity Equity and Inclusion
END:VEVENT
BEGIN:VEVENT
DTSTART;TZID=UTC:20230428T120000
DTEND;TZID=UTC:20230428T130000
DTSTAMP:20260424T025942
CREATED:20230424T214638Z
LAST-MODIFIED:20230428T224138Z
UID:16495-1682683200-1682686800@ritms.rutgers.edu
SUMMARY:CINJ Trainee Seminar Series
DESCRIPTION:CINJ Trainee Seminar Series-Deciphering the Dietary Impact on Cancer Immunotherapy\, Gabriela Reyes Castellanos\, Rutgers. CINJ Auditorium B.
URL:https://ritms.rutgers.edu/event/cinj-trainee-seminar-series-20/
LOCATION:Rutgers Cancer Institute\, Auditorium B\, 1st Floor\, 195 Little Albany Street\, New Brunswick\, NJ\, 08901\, United States
END:VEVENT
BEGIN:VEVENT
DTSTART;TZID=UTC:20230501T130000
DTEND;TZID=UTC:20230501T140000
DTSTAMP:20260424T025942
CREATED:20230427T004355Z
LAST-MODIFIED:20230501T234035Z
UID:16513-1682946000-1682949600@ritms.rutgers.edu
SUMMARY:Child Health Institute of New Jersey Science Seminar
DESCRIPTION:Child Health Institute of New Jersey Science Seminar-Novel Human Neurodevelopmental Disorders: from Families to Cellular Mechanisms\, Eric M. Morrow\, MD\, PhD\, Brown University. View Flyer and Join on Zoom or in person at CHINJ
URL:https://ritms.rutgers.edu/event/child-health-institute-of-new-jersey-science-seminar-3/
LOCATION:Child Health Institute\, Room 3209\, 89 French Street\, New Brunswick\, 08901\, United States
END:VEVENT
BEGIN:VEVENT
DTSTART;TZID=UTC:20230503T160000
DTEND;TZID=UTC:20230503T170000
DTSTAMP:20260424T025942
CREATED:20230426T004141Z
LAST-MODIFIED:20230503T004222Z
UID:16506-1683129600-1683133200@ritms.rutgers.edu
SUMMARY:CINJ Grand Rounds
DESCRIPTION:CINJ Grand Rounds-A Molecular Map of MYC-Induced Replication Stress in the Path to Cancer\, David Dominguez-Sola\, MD\, PhD\, Icahn School of Medicine at Mount Sinai.  CINJ\, Auditorium A.
URL:https://ritms.rutgers.edu/event/cinj-grand-rounds-19/
LOCATION:Rutgers Cancer Institute\, Auditorium A\, 195 Little Albany Street\, New Brunswick\, NJ\, 08901\, United States
END:VEVENT
BEGIN:VEVENT
DTSTART;TZID=UTC:20230504T080000
DTEND;TZID=UTC:20230504T160000
DTSTAMP:20260424T025942
CREATED:20230419T204230Z
LAST-MODIFIED:20230504T004103Z
UID:16414-1683187200-1683216000@ritms.rutgers.edu
SUMMARY:NJ Drug Metabolism and Pharmacology Meeting
DESCRIPTION:NJ Drug Metabolism and Pharmacology Meeting-Evolving Paradigms for Dose Selection and Emerging Predictive Models and Technologies\, Anshu Marathe\, PhD.\, Novartis Institutes for Biomedical Research. View Schedule and Registration Information
URL:https://ritms.rutgers.edu/event/nj-drug-metabolism-and-pharmacology-meeting/
LOCATION:The Palace at Somerset Park\, 333 Davidson Road\, Somerset\, NJ\, 08904\, United States
END:VEVENT
BEGIN:VEVENT
DTSTART;TZID=UTC:20230505T084500
DTEND;TZID=UTC:20230505T160000
DTSTAMP:20260424T025942
CREATED:20230419T204230Z
LAST-MODIFIED:20230505T154148Z
UID:16416-1683276300-1683302400@ritms.rutgers.edu
SUMMARY:RBHS Energizing Equity Symposium
DESCRIPTION:RBHS Energizing Equity Symposium-A forum for faculty and administrative staff (with supervisory/teaching roles) to engage in a deeper dive on topics related to equity and inclusion. View Flyer and Register Here
URL:https://ritms.rutgers.edu/event/rbhs-energizing-equity-symposium/
LOCATION:Hageman Hall\, New Brunswick Seminary\, 35 Seminary Place\, New Brunswick\, NJ\, United States
END:VEVENT
BEGIN:VEVENT
DTSTART;TZID=UTC:20230505T100000
DTEND;TZID=UTC:20230505T120000
DTSTAMP:20260424T025942
CREATED:20230419T204231Z
LAST-MODIFIED:20230505T154149Z
UID:16417-1683280800-1683288000@ritms.rutgers.edu
SUMMARY:Rutgers School of Graduate Studies Mentoring Workshop
DESCRIPTION:Rutgers School of Graduate Studies Mentoring Workshop-Effective Mentoring of Undergrads\, an active learning workshop for PhD students\, Postdoctoral Fellows and Faculty will use techniques and case study discussions in breakout sessions to teach tools and skills to better mentor undergraduate students in a research setting. View Flyer and Register Here
URL:https://ritms.rutgers.edu/event/rutgers-school-of-graduate-studies-mentoring-workshop-2/
END:VEVENT
BEGIN:VEVENT
DTSTART;TZID=UTC:20230505T120000
DTEND;TZID=UTC:20230505T130000
DTSTAMP:20260424T025942
CREATED:20230502T234203Z
LAST-MODIFIED:20230505T154150Z
UID:16548-1683288000-1683291600@ritms.rutgers.edu
SUMMARY:CINJ Trainee Seminar Series
DESCRIPTION:CINJ Trainee Seminar Series-Accumulation of mtDNA Mutations Impacts the Glycolysis­Serine Synthesis Pathway- IC-Metabolism Equilibrium Limiting NSCLC Growth and Malignancy\, Eduardo Cararo Lopes\, PhD\, Rutgers. CINJ\, Auditorium B.
URL:https://ritms.rutgers.edu/event/cinj-trainee-seminar-series-21/
LOCATION:Rutgers Cancer Institute\, Auditorium B\, 1st Floor\, 195 Little Albany Street\, New Brunswick\, NJ\, 08901\, United States
END:VEVENT
BEGIN:VEVENT
DTSTART;TZID=UTC:20230510T100000
DTEND;TZID=UTC:20230510T110000
DTSTAMP:20260424T025942
CREATED:20230510T154452Z
LAST-MODIFIED:20230510T154452Z
UID:16615-1683712800-1683716400@ritms.rutgers.edu
SUMMARY:Rutgers Princeton Center for Computational Cognitive Neuropsychiatry Seminar
DESCRIPTION:Rutgers Princeton Center for Computational Cognitive Neuropsychiatry Seminar-Interactions between neuromodulatory systems and cortex during initiation and switching of behaviour\, Matthew Rushworth\, Department of Experimental Psychology and Wellcome Trust Centre for Integrative Neuroimaging (WIN)\, University of Oxford\, UK. ccnp.princeton.edu
URL:https://ritms.rutgers.edu/event/rutgers-princeton-center-for-computational-cognitive-neuropsychiatry-seminar-27/
END:VEVENT
BEGIN:VEVENT
DTSTART;TZID=UTC:20230511T120000
DTEND;TZID=UTC:20230511T161500
DTSTAMP:20260424T025942
CREATED:20230420T204252Z
LAST-MODIFIED:20230511T014213Z
UID:16463-1683806400-1683821700@ritms.rutgers.edu
SUMMARY:Princeton Research Day
DESCRIPTION:Princeton Research Day-An annual celebration of research and creative endeavors that provides an opportunity for early-career researchers to share their work with audiences outside of their specialized fields. In person and online. Read more about Princeton Research Day
URL:https://ritms.rutgers.edu/event/princeton-research-day/
LOCATION:Princeton Frist Campus Center\, 70 Washington Road\, Princeton\, NJ\, United States
END:VEVENT
BEGIN:VEVENT
DTSTART;TZID=UTC:20230512T130000
DTEND;TZID=UTC:20230512T140000
DTSTAMP:20260424T025942
CREATED:20230502T014146Z
LAST-MODIFIED:20230512T144458Z
UID:16542-1683896400-1683900000@ritms.rutgers.edu
SUMMARY:NJ ACTS Biostatistics and Epidemiology Workshop Series
DESCRIPTION:NJ ACTS Biostatistics and Epidemiology Workshop Series-An Introduction to AI Techniques for Forecasting Epidemic Dynamics\, Lijing Wang\, NJIT. View Flyer and Register Here
URL:https://ritms.rutgers.edu/event/nj-acts-biostatistics-and-epidemiology-workshop-series-5/
END:VEVENT
BEGIN:VEVENT
DTSTART;TZID=UTC:20230515T120000
DTEND;TZID=UTC:20230515T130000
DTSTAMP:20260424T025942
CREATED:20230420T204252Z
LAST-MODIFIED:20230515T154054Z
UID:16464-1684152000-1684155600@ritms.rutgers.edu
SUMMARY:RBHS Clinical Research Workgroup
DESCRIPTION:RBHS Clinical Research Workgroup-Learn about the new Clinical Research Coordinator badging program\, Barbara DeMarco\, Associate Dean for Academic Affairs\, Rutgers School of Public Health. Join on Zoom
URL:https://ritms.rutgers.edu/event/rbhs-clinical-research-workgroup/
END:VEVENT
BEGIN:VEVENT
DTSTART;TZID=UTC:20230518T090000
DTEND;TZID=UTC:20230518T130000
DTSTAMP:20260424T025942
CREATED:20230428T014332Z
LAST-MODIFIED:20230518T164500Z
UID:16521-1684400400-1684414800@ritms.rutgers.edu
SUMMARY:Novus I-Corps Training/Networking Event
DESCRIPTION:Novus I-Corps Training/Networking Event-Introductory workshop/training/networking to learn how to change your focus from the science / technology to the people it benefits! Read more and Get Tickets!
URL:https://ritms.rutgers.edu/event/novus-i-corps-training-networking-event/
LOCATION:The Hatchery Innovation Design Studio – Alexander Library Lower Level\, 169 College Avenue Lower Level\, New Brunswick\, NJ\, 08901\, United States
END:VEVENT
BEGIN:VEVENT
DTSTART;TZID=UTC:20230519T120000
DTEND;TZID=UTC:20230519T130000
DTSTAMP:20260424T025942
CREATED:20230516T154400Z
LAST-MODIFIED:20230519T194133Z
UID:16647-1684497600-1684501200@ritms.rutgers.edu
SUMMARY:CINJ Trainee Seminar Series
DESCRIPTION:CINJ Trainee Seminar Series– TBD\, Angelica Barreto-Galvez\, Rutgers. View Flyer In person Auditorium B.
URL:https://ritms.rutgers.edu/event/cinj-trainee-seminar-series-22/
LOCATION:Rutgers Cancer Institute\, Auditorium B\, 1st Floor\, 195 Little Albany Street\, New Brunswick\, NJ\, 08901\, United States
END:VEVENT
BEGIN:VEVENT
DTSTART;TZID=UTC:20230522T113000
DTEND;TZID=UTC:20230522T130000
DTSTAMP:20260424T025942
CREATED:20230518T164501Z
LAST-MODIFIED:20230522T184545Z
UID:16659-1684755000-1684760400@ritms.rutgers.edu
SUMMARY:CINJ Cancer Genomics Branch Program
DESCRIPTION:CINJ Cancer Genomics Branch Program-Hunting new T-cell receptors to fight human cancer\, Xin Yu\, PhD. Register Here for Zoom
URL:https://ritms.rutgers.edu/event/cinj-cancer-genomics-branch-program/
END:VEVENT
BEGIN:VEVENT
DTSTART;TZID=UTC:20230524T100000
DTEND;TZID=UTC:20230524T110000
DTSTAMP:20260424T025942
CREATED:20230522T184546Z
LAST-MODIFIED:20230524T184255Z
UID:16673-1684922400-1684926000@ritms.rutgers.edu
SUMMARY:Rutgers Princeton Center for Computational Cognitive Neuropsychiatry Seminar
DESCRIPTION:Rutgers Princeton Center for Computational Cognitive Neuropsychiatry Seminar-Removing thoughts via replacement\, suppression\, and clearing\, Hyojeong Kim\, University of Colorado Boulder. ccnp.princeton.edu
URL:https://ritms.rutgers.edu/event/rutgers-princeton-center-for-computational-cognitive-neuropsychiatry-seminar-28/
END:VEVENT
BEGIN:VEVENT
DTSTART;TZID=UTC:20230524T130000
DTEND;TZID=UTC:20230524T140000
DTSTAMP:20260424T025942
CREATED:20230428T014332Z
LAST-MODIFIED:20230524T184255Z
UID:16522-1684933200-1684936800@ritms.rutgers.edu
SUMMARY:NJACTS Special Populations Core Seminar
DESCRIPTION:NJACTS Special Populations Core Seminar-Incarceration\, Health\, and the Life Course\, Nathan Link\, PhD\, Rutgers. View Flyer and Join on Zoom
URL:https://ritms.rutgers.edu/event/njacts-special-populations-core-seminar-3/
END:VEVENT
BEGIN:VEVENT
DTSTART;TZID=UTC:20230524T130000
DTEND;TZID=UTC:20230524T150000
DTSTAMP:20260424T025942
CREATED:20230523T184455Z
LAST-MODIFIED:20230524T184255Z
UID:16680-1684933200-1684940400@ritms.rutgers.edu
SUMMARY:RADx-UP Community Health Worker Symposium
DESCRIPTION:RADx-UP Community Health Worker Symposium-A program to support the understanding of the Community Health Worker (CHW) model. Please see attached for more information. Register for the symposium here.
URL:https://ritms.rutgers.edu/event/radx-up-community-health-worker-symposium/
END:VEVENT
BEGIN:VEVENT
DTSTART;TZID=UTC:20230524T140000
DTEND;TZID=UTC:20230524T150000
DTSTAMP:20260424T025942
CREATED:20230501T004003Z
LAST-MODIFIED:20230524T184256Z
UID:16532-1684936800-1684940400@ritms.rutgers.edu
SUMMARY:CTSA Program Webinar Series
DESCRIPTION:CTSA Program Webinar Series–Register Here!
URL:https://ritms.rutgers.edu/event/ctsa-program-webinar-series-9/
END:VEVENT
BEGIN:VEVENT
DTSTART;TZID=UTC:20230525T111500
DTEND;TZID=UTC:20230525T121500
DTSTAMP:20260424T025942
CREATED:20230522T184547Z
LAST-MODIFIED:20230525T214058Z
UID:16674-1685013300-1685016900@ritms.rutgers.edu
SUMMARY:CINJ Virtual Lecture
DESCRIPTION:CINJ Virtual Lecture–Image-Guided Radiation Therapy for Pancreatic Cancer: A Review\,Dr. Ahmad Amoush\, PhD\, DABR. Join on Zoom
URL:https://ritms.rutgers.edu/event/cinj-virtual-lecture-2/
END:VEVENT
BEGIN:VEVENT
DTSTART;TZID=UTC:20230525T120000
DTEND;TZID=UTC:20230525T130000
DTSTAMP:20260424T025942
CREATED:20230516T014511Z
LAST-MODIFIED:20230525T214058Z
UID:16638-1685016000-1685019600@ritms.rutgers.edu
SUMMARY:RWJMS Tri-Departmental Seminar Series
DESCRIPTION:RWJMS Tri-Departmental Seminar Series-Holographic Optogenetic Dissection of Cortical Microcircuits\, Dr. Ian Oldenburg\, RWJMS\, Rutgers. View Flyer and Join on Zoom
URL:https://ritms.rutgers.edu/event/rwjms-tri-departmental-seminar-series/
END:VEVENT
END:VCALENDAR