BEGIN:VCALENDAR
VERSION:2.0
PRODID:-//Institute for Translational Medicine and Science - ECPv6.15.16//NONSGML v1.0//EN
CALSCALE:GREGORIAN
METHOD:PUBLISH
X-WR-CALNAME:Institute for Translational Medicine and Science
X-ORIGINAL-URL:https://ritms.rutgers.edu
X-WR-CALDESC:Events for Institute for Translational Medicine and Science
REFRESH-INTERVAL;VALUE=DURATION:PT1H
X-Robots-Tag:noindex
X-PUBLISHED-TTL:PT1H
BEGIN:VTIMEZONE
TZID:UTC
BEGIN:STANDARD
TZOFFSETFROM:+0000
TZOFFSETTO:+0000
TZNAME:UTC
DTSTART:20210101T000000
END:STANDARD
END:VTIMEZONE
BEGIN:VTIMEZONE
TZID:America/New_York
BEGIN:DAYLIGHT
TZOFFSETFROM:-0500
TZOFFSETTO:-0400
TZNAME:EDT
DTSTART:20220313T070000
END:DAYLIGHT
BEGIN:STANDARD
TZOFFSETFROM:-0400
TZOFFSETTO:-0500
TZNAME:EST
DTSTART:20221106T060000
END:STANDARD
BEGIN:DAYLIGHT
TZOFFSETFROM:-0500
TZOFFSETTO:-0400
TZNAME:EDT
DTSTART:20230312T070000
END:DAYLIGHT
BEGIN:STANDARD
TZOFFSETFROM:-0400
TZOFFSETTO:-0500
TZNAME:EST
DTSTART:20231105T060000
END:STANDARD
BEGIN:DAYLIGHT
TZOFFSETFROM:-0500
TZOFFSETTO:-0400
TZNAME:EDT
DTSTART:20240310T070000
END:DAYLIGHT
BEGIN:STANDARD
TZOFFSETFROM:-0400
TZOFFSETTO:-0500
TZNAME:EST
DTSTART:20241103T060000
END:STANDARD
END:VTIMEZONE
BEGIN:VEVENT
DTSTART;TZID=UTC:20220621T120000
DTEND;TZID=UTC:20220621T130000
DTSTAMP:20260423T035002
CREATED:20220504T151444Z
LAST-MODIFIED:20220504T151444Z
UID:14458-1655812800-1655816400@ritms.rutgers.edu
SUMMARY:CHINJ Research in Progress Meeting
DESCRIPTION:CHINJ Research in Progress Meeting – Join Zoom Call! \nPresenter: Stephania Guzman (Bhattacharya Lab)
URL:https://ritms.rutgers.edu/event/chinj-research-in-progress-meeting-4/
END:VEVENT
BEGIN:VEVENT
DTSTART;TZID=UTC:20220719T120000
DTEND;TZID=UTC:20220719T130000
DTSTAMP:20260423T035002
CREATED:20220504T151556Z
LAST-MODIFIED:20220504T151556Z
UID:14460-1658232000-1658235600@ritms.rutgers.edu
SUMMARY:CHINJ Research in Progress Meeting
DESCRIPTION:CHINJ Research in Progress Meeting – Join Zoom Call! \nPresenter: Brittany Karas\, PhD (Manzini Lab)
URL:https://ritms.rutgers.edu/event/chinj-research-in-progress-meeting-5/
END:VEVENT
BEGIN:VEVENT
DTSTART;TZID=UTC:20221006T130000
DTEND;TZID=UTC:20221006T140000
DTSTAMP:20260423T035002
CREATED:20220712T162229Z
LAST-MODIFIED:20220712T162229Z
UID:14692-1665061200-1665064800@ritms.rutgers.edu
SUMMARY:RITMS Visiting Lecture Professor Series
DESCRIPTION:RITMS Visiting Lecture Professor Series-Topic TBD\, Dr. Kenneth J. Pienta\, Donald S. Coffey Professor of Urology and professor of oncology and pharmacology and molecular sciences at the Johns Hopkins University School of Medicine.
URL:https://ritms.rutgers.edu/event/ritms-visiting-lecture-professor-series/
END:VEVENT
BEGIN:VEVENT
DTSTART;TZID=UTC:20221208T080000
DTEND;TZID=UTC:20221208T090000
DTSTAMP:20260423T035002
CREATED:20221208T144421Z
LAST-MODIFIED:20221208T224344Z
UID:15375-1670486400-1670490000@ritms.rutgers.edu
SUMMARY:NJ ACTS Team Science Seminar Series
DESCRIPTION:NJ ACTS Team Science Seminar Series-The Corona Cohort.This event is not live – it will recorded and posted on the the Team Science YouTube Playlist
URL:https://ritms.rutgers.edu/event/nj-acts-team-science-seminar-series/
END:VEVENT
BEGIN:VEVENT
DTSTART;TZID=UTC:20221208T103000
DTEND;TZID=UTC:20221208T133000
DTSTAMP:20260423T035002
CREATED:20221208T144422Z
LAST-MODIFIED:20221208T224344Z
UID:15376-1670495400-1670506200@ritms.rutgers.edu
SUMMARY:DEIA Events
DESCRIPTION:DEIA Event – LGBT Issues and the Law.  This webinar will address what the helping professional needs to know when it comes to the New Jersey civil union and domestic partnership statutes\, adoption law\, the Law Against Discrimination and Hate Crimes Act\, as well as the impact of Federal laws such as The Civil Rights Act\, the Defense of Marriage Act\, and the Employment Nondiscrimination Act\, among other things. View Flyer
URL:https://ritms.rutgers.edu/event/deia-events/
CATEGORIES:Diversity Equity and Inclusion
END:VEVENT
BEGIN:VEVENT
DTSTART;TZID=UTC:20221208T140000
DTEND;TZID=UTC:20221208T150000
DTSTAMP:20260423T035002
CREATED:20221208T144422Z
LAST-MODIFIED:20221208T224344Z
UID:15377-1670508000-1670511600@ritms.rutgers.edu
SUMMARY:NJ ACTS Biostatistics and Epidemiology Workshop Series
DESCRIPTION:NJ ACTS Biostatistics and Epidemiology Workshop Series-Strategies for Engaging Communities in Research\,Kristen Krause\, Ph.D.\, MPH. Register Here and View Flyer.
URL:https://ritms.rutgers.edu/event/nj-acts-biostatistics-and-epidemiology-workshop-series-4/
END:VEVENT
BEGIN:VEVENT
DTSTART;TZID=UTC:20221209T100000
DTEND;TZID=UTC:20221209T120000
DTSTAMP:20260423T035002
CREATED:20221208T144423Z
LAST-MODIFIED:20221209T234359Z
UID:15378-1670580000-1670587200@ritms.rutgers.edu
SUMMARY:DEIA Events
DESCRIPTION:DEIA Events – ‘Get Recognized’ Workshop -Open to all faculty and postdocs that aims to help them advance their academic identity\, promote their work\, and envision the next steps in their career trajectory. Register Here and View Flyer.
URL:https://ritms.rutgers.edu/event/deia-events-2/
CATEGORIES:Diversity Equity and Inclusion
END:VEVENT
BEGIN:VEVENT
DTSTART;TZID=UTC:20221209T120000
DTEND;TZID=UTC:20221209T130000
DTSTAMP:20260423T035002
CREATED:20221208T144423Z
LAST-MODIFIED:20221209T234359Z
UID:15380-1670587200-1670590800@ritms.rutgers.edu
SUMMARY:CINJ Trainee Seminar Series
DESCRIPTION:CINJ Trainee Seminar Series-the Comprehensive Genomics Shared Resource\, Patricia Soteropoulos\, PhD\, Rutgers.
URL:https://ritms.rutgers.edu/event/cinj-trainee-seminar-series-14/
LOCATION:Rutgers Cancer Institute\, Auditorium B\, 1st Floor\, 195 Little Albany Street\, New Brunswick\, NJ\, 08901\, United States
END:VEVENT
BEGIN:VEVENT
DTSTART;TZID=UTC:20221212T130000
DTEND;TZID=UTC:20221212T140000
DTSTAMP:20260423T035002
CREATED:20221208T144855Z
LAST-MODIFIED:20221212T164429Z
UID:15381-1670850000-1670853600@ritms.rutgers.edu
SUMMARY:Child Health Institute Science Seminar Series
DESCRIPTION:Child Health Institute Science Seminar Series-“Immune iron trafficking in bacteria colonization and intestinal inflammation.”  Speaker:  Nicholas J. Bessman\, PhD\, Rutgers New Jersey Medical School. View Flyer
URL:https://ritms.rutgers.edu/event/child-health-institute-science-seminar-series-2/
END:VEVENT
BEGIN:VEVENT
DTSTART;TZID=UTC:20221212T130000
DTEND;TZID=UTC:20221212T140000
DTSTAMP:20260423T035002
CREATED:20221208T144855Z
LAST-MODIFIED:20221212T164430Z
UID:15382-1670850000-1670853600@ritms.rutgers.edu
SUMMARY:Rutgers Classroom Inclusivity Series
DESCRIPTION:Rutgers Classroom Inclusivity Series – “How to Use Ally to Improve Canvas Course Accessibility”.  We’ll explore key features of Ally\, including the Instructor Feedback Tool\, the Course Accessibility Report\, and the Alternative Formats  tool.  View Flyer
URL:https://ritms.rutgers.edu/event/rutgers-classroom-inclusivity-series/
CATEGORIES:Diversity Equity and Inclusion
END:VEVENT
BEGIN:VEVENT
DTSTART;TZID=UTC:20221213T110000
DTEND;TZID=UTC:20221213T120000
DTSTAMP:20260423T035002
CREATED:20221208T234304Z
LAST-MODIFIED:20221213T164319Z
UID:15401-1670929200-1670932800@ritms.rutgers.edu
SUMMARY:NJ ACTS BERD Special Guest Lecture Series
DESCRIPTION:NJ ACTS BERD Special Guest Lecture Series-Dimension Reduction in Observational Studies of Alzheimer’s Disease\, Sarah Weinstein\, MS\, University of Pennsylvania. Register Here and View Flyer
URL:https://ritms.rutgers.edu/event/nj-acts-berd-special-guest-lecture-series/
END:VEVENT
BEGIN:VEVENT
DTSTART;TZID=UTC:20221213T110000
DTEND;TZID=UTC:20221213T130000
DTSTAMP:20260423T035002
CREATED:20221208T144856Z
LAST-MODIFIED:20221213T164319Z
UID:15384-1670929200-1670936400@ritms.rutgers.edu
SUMMARY:Fall 2022 Mentor Workshops
DESCRIPTION:Fall 2022 Mentor Workshops-Cultural Diversity Awareness.  Speaker:  Crystal Bedley\, Ph.D.\, Rutgers University View Flyer
URL:https://ritms.rutgers.edu/event/fall-2022-mentor-workshops/
LOCATION:Hardenbergh Hall
CATEGORIES:Diversity Equity and Inclusion
END:VEVENT
BEGIN:VEVENT
DTSTART;TZID=UTC:20221213T140000
DTEND;TZID=UTC:20221213T160000
DTSTAMP:20260423T035002
CREATED:20221208T144856Z
LAST-MODIFIED:20221213T164320Z
UID:15385-1670940000-1670947200@ritms.rutgers.edu
SUMMARY:Rutgers Classroom Inclusivity Series
DESCRIPTION:Rutgers Classroom Inclusivity Series – “Creating Accessible Online Content: Text\, Documents\, Images\, and Video”.  This workshop is designed to explore how to design courses and materials that are accessible to all students. We will cover the basics of online accessibility\, focusing on best practices for creating accessible course materials such as text documents (Word/PDF)\, images\, and videos with captions.  View Flyer
URL:https://ritms.rutgers.edu/event/rutgers-classroom-inclusivity-series-2/
CATEGORIES:Diversity Equity and Inclusion
END:VEVENT
BEGIN:VEVENT
DTSTART;TZID=UTC:20221214T091500
DTEND;TZID=UTC:20221214T120000
DTSTAMP:20260423T035002
CREATED:20221214T164909Z
LAST-MODIFIED:20221214T164909Z
UID:15457-1671009300-1671019200@ritms.rutgers.edu
SUMMARY:Dr. Alan Saltiel’s Grand Rounds
DESCRIPTION:Dr. Alan Saltiel’s Grand Rounds-Mini Symposium of Endocrinology Research.  Presented by Rutgers RWJMS Department of Medicine Division of Endocrinology.
URL:https://ritms.rutgers.edu/event/dr-alan-saltiels-grand-rounds/
END:VEVENT
BEGIN:VEVENT
DTSTART;TZID=UTC:20221214T100000
DTEND;TZID=UTC:20221214T110000
DTSTAMP:20260423T035002
CREATED:20221212T174037Z
LAST-MODIFIED:20221214T164910Z
UID:15438-1671012000-1671015600@ritms.rutgers.edu
SUMMARY:Rutgers Princeton Center for Computational Cognitive Neuropsychiatry Seminar
DESCRIPTION:Rutgers Princeton Center for Computational Cognitive Neuropsychiatry Seminar-Too Much of a Good Thing? Modeling Excess Goal Pursuit in Anorexia Nervosa\, Ann Haynos\, Virginia Commonwealth University. Read More
URL:https://ritms.rutgers.edu/event/rutgers-princeton-center-for-computational-cognitive-neuropsychiatry-seminar-19/
END:VEVENT
BEGIN:VEVENT
DTSTART;TZID=UTC:20221215T120000
DTEND;TZID=UTC:20221215T130000
DTSTAMP:20260423T035002
CREATED:20221213T034323Z
LAST-MODIFIED:20221215T174212Z
UID:15441-1671105600-1671109200@ritms.rutgers.edu
SUMMARY:RWJMS Tri-Departmental Research Discussion
DESCRIPTION:RWJMS Tri-Departmental Research Discussion-Master regulator transcription factors that control effector functions of T cell subsets\,  Derek Sant’Angelo\, Ph.D\, Rutgers RWJ Medical School. Join via Zoom.
URL:https://ritms.rutgers.edu/event/rwjms-tri-departmental-research-discussion/
END:VEVENT
BEGIN:VEVENT
DTSTART;TZID=UTC:20221216T120000
DTEND;TZID=UTC:20221216T130000
DTSTAMP:20260423T035002
CREATED:20221215T174212Z
LAST-MODIFIED:20221216T174706Z
UID:15470-1671192000-1671195600@ritms.rutgers.edu
SUMMARY:CINJ Trainee Seminar Series
DESCRIPTION:CINJ Trainee Seminar Series-Investigation of Clonal Hematopoiesis of Indeterminate Potential (CHIP) in Solid Tumor Microenvironments\, Christopher Thai\, Rutgers.
URL:https://ritms.rutgers.edu/event/cinj-trainee-seminar-series-15/
LOCATION:Rutgers Cancer Institute\, Auditorium B\, 1st Floor\, 195 Little Albany Street\, New Brunswick\, NJ\, 08901\, United States
END:VEVENT
BEGIN:VEVENT
DTSTART;TZID=UTC:20221219T110000
DTEND;TZID=UTC:20221219T120000
DTSTAMP:20260423T035002
CREATED:20221215T174213Z
LAST-MODIFIED:20221219T184452Z
UID:15471-1671447600-1671451200@ritms.rutgers.edu
SUMMARY:NJ ACTS BERD Special Guest Lecture Series
DESCRIPTION:NJ ACTS BERD Special Guest Lecture Series-Online statistical inference in streaming data: renewability\, dependence\, and dynamics\, Lan Luo\, PhD\, University of Iowa. View Flyer and Register Here
URL:https://ritms.rutgers.edu/event/nj-acts-berd-special-guest-lecture-series-2/
END:VEVENT
BEGIN:VEVENT
DTSTART;TZID=UTC:20221221T120000
DTEND;TZID=UTC:20221221T130000
DTSTAMP:20260423T035002
CREATED:20221220T194242Z
LAST-MODIFIED:20221220T194242Z
UID:15532-1671624000-1671627600@ritms.rutgers.edu
SUMMARY:CINJ Event
DESCRIPTION:CINJ Event-“Medical Decision-Making in Cancer Care”. Dr. Van Nghiem Thi Ha\, PhD\, MSPH\, University of Alabama at Birmingham. View Flyer 
URL:https://ritms.rutgers.edu/event/cinj-event/
END:VEVENT
BEGIN:VEVENT
DTSTART;TZID=UTC:20221228T140000
DTEND;TZID=UTC:20221228T150000
DTSTAMP:20260423T035002
CREATED:20221208T144857Z
LAST-MODIFIED:20221228T164107Z
UID:15386-1672236000-1672239600@ritms.rutgers.edu
SUMMARY:CTSA Program Webinar Series
DESCRIPTION:CTSA Program Webinar Series–Register Here!
URL:https://ritms.rutgers.edu/event/ctsa-program-webinar-series-4/
END:VEVENT
BEGIN:VEVENT
DTSTART;TZID=UTC:20230104T130000
DTEND;TZID=UTC:20230104T170000
DTSTAMP:20260423T035002
CREATED:20221214T034409Z
LAST-MODIFIED:20230104T194353Z
UID:15448-1672837200-1672851600@ritms.rutgers.edu
SUMMARY:Rutgers iJOBS SciPhD Workshop
DESCRIPTION:Rutgers iJOBS SciPhD Workshop-Leadership and Business Skills for Scientists – Register for the workshop that will help you transition to either an industry or academic job! Read More and Register Here
URL:https://ritms.rutgers.edu/event/rutgers-ijobs-sciphd-workshop/
LOCATION:Busch Student Center\, 604 Bartholomew Road\, Piscataway\, NJ\, 08854\, United States
END:VEVENT
BEGIN:VEVENT
DTSTART;TZID=UTC:20230105T090000
DTEND;TZID=UTC:20230105T170000
DTSTAMP:20260423T035002
CREATED:20221214T034409Z
LAST-MODIFIED:20230105T194350Z
UID:15450-1672909200-1672938000@ritms.rutgers.edu
SUMMARY:Rutgers iJOBS SciPhD Workshop
DESCRIPTION:Rutgers iJOBS SciPhD Workshop-Leadership and Business Skills for Scientists – Register for the workshop that will help you transition to either an industry or academic job! Read More and Register Here
URL:https://ritms.rutgers.edu/event/rutgers-ijobs-sciphd-workshop-2/
LOCATION:Busch Student Center\, 604 Bartholomew Road\, Piscataway\, NJ\, 08854\, United States
END:VEVENT
BEGIN:VEVENT
DTSTART;TZID=UTC:20230106T090000
DTEND;TZID=UTC:20230106T170000
DTSTAMP:20260423T035002
CREATED:20221214T043818Z
LAST-MODIFIED:20230106T194228Z
UID:15451-1672995600-1673024400@ritms.rutgers.edu
SUMMARY:Rutgers iJOBS SciPhD Workshop
DESCRIPTION:Rutgers iJOBS SciPhD Workshop-Leadership and Business Skills for Scientists – Register for the workshop that will help you transition to either an industry or academic job! Read More and Register Here
URL:https://ritms.rutgers.edu/event/rutgers-ijobs-sciphd-workshop-3/
LOCATION:Busch Student Center\, 604 Bartholomew Road\, Piscataway\, NJ\, 08854\, United States
END:VEVENT
BEGIN:VEVENT
DTSTART;TZID=UTC:20230110T110000
DTEND;TZID=UTC:20230110T123000
DTSTAMP:20260423T035002
CREATED:20230109T204333Z
LAST-MODIFIED:20230110T224311Z
UID:15617-1673348400-1673353800@ritms.rutgers.edu
SUMMARY:Department of Biostatistics and Epidemiology – Special Guest Lecture
DESCRIPTION:Department of Biostatistics and Epidemiology – Special Guest Lecture– “Model-robust and efficient covariate adjustment for cluster-randomized trials” by Bingkai Wang.\nView Flyer and Register
URL:https://ritms.rutgers.edu/event/department-of-biostatistics-and-epidemiology-special-guest-lecture/
END:VEVENT
BEGIN:VEVENT
DTSTART;TZID=UTC:20230112T120000
DTEND;TZID=UTC:20230112T170000
DTSTAMP:20260423T035002
CREATED:20221214T043818Z
LAST-MODIFIED:20230112T114114Z
UID:15452-1673524800-1673542800@ritms.rutgers.edu
SUMMARY:NJ ACTS Biostatistics\, Epidemiology\, Research Design (BERD) Workshop Series
DESCRIPTION:NJ ACTS Biostatistics\, Epidemiology\, Research Design (BERD) Workshop Series-Opioid Analgesic Reduction Study (OARS): Driving Quality Improvement in Clinical Trials\, speakers Janine Fredericks-Younger and Cecile Feldman. View Flyer and Register Here
URL:https://ritms.rutgers.edu/event/nj-acts-biostatistics-epidemiology-research-design-berd-workshop-series/
END:VEVENT
BEGIN:VEVENT
DTSTART;TZID=America/New_York:20230113T090000
DTEND;TZID=America/New_York:20230113T130000
DTSTAMP:20260423T035002
CREATED:20230110T204747Z
LAST-MODIFIED:20230113T163947Z
UID:15634-1673600400-1673614800@ritms.rutgers.edu
SUMMARY:Novus I-Corps Program at Rutgers University
DESCRIPTION:Novus I-Corps Program at Rutgers University – In-Person Training Workshop / Networking co-sponsored by Rutgers Innovation Ventures and the Northeast I-Corps Hub.  View Flyer and Register
URL:https://ritms.rutgers.edu/event/novus-i-corps-program-at-rutgers-university/
LOCATION:The Hatchery Innovation Design Studio – Alexander Library Lower Level\, 169 College Avenue Lower Level\, New Brunswick\, NJ\, 08901\, United States
END:VEVENT
BEGIN:VEVENT
DTSTART;TZID=UTC:20230117T000000
DTEND;TZID=UTC:20230117T235900
DTSTAMP:20260423T035002
CREATED:20230110T204748Z
LAST-MODIFIED:20230117T174456Z
UID:15635-1673913600-1673999940@ritms.rutgers.edu
SUMMARY:Propelus I-Corps Cohort 7 Applications Due
DESCRIPTION:Propelus I-Corps Cohort 7 – NSF I-Corps Hub Northeast Region Applications Due. FLYER
URL:https://ritms.rutgers.edu/event/propelus-i-corps-cohort-7-applications-due/
END:VEVENT
BEGIN:VEVENT
DTSTART;TZID=UTC:20230118T140000
DTEND;TZID=UTC:20230118T153000
DTSTAMP:20260423T035002
CREATED:20221228T093648Z
LAST-MODIFIED:20230118T174319Z
UID:15565-1674050400-1674055800@ritms.rutgers.edu
SUMMARY:Rutgers Center for State Health Policy Virtual Discussion
DESCRIPTION:Rutgers Center for State Health Policy Virtual Discussion-Exploring Interstate Licensure Compacts: Implications for NJ’s Healthcare Workforce. Ann M. Nguyen\, PhD\, MPH\, Rutgers.  View Flyer and Register
URL:https://ritms.rutgers.edu/event/rutgers-center-for-state-health-policy-virtual-discussion/
END:VEVENT
BEGIN:VEVENT
DTSTART;TZID=UTC:20230124T120000
DTEND;TZID=UTC:20230124T130000
DTSTAMP:20260423T035002
CREATED:20221225T083802Z
LAST-MODIFIED:20230118T174320Z
UID:15553-1674561600-1674565200@ritms.rutgers.edu
SUMMARY:NJACTS Special Populations Seminar Series
DESCRIPTION:Special Populations Seminar Series-TBD
URL:https://ritms.rutgers.edu/event/njacts-special-populations-seminar-series/
END:VEVENT
BEGIN:VEVENT
DTSTART;TZID=UTC:20230124T150000
DTEND;TZID=UTC:20230124T160000
DTSTAMP:20260423T035002
CREATED:20230124T174853Z
LAST-MODIFIED:20230124T204226Z
UID:15696-1674572400-1674576000@ritms.rutgers.edu
SUMMARY:CINJ Virtual Lecture
DESCRIPTION:CINJ Virtual Lecture-Design & analysis of cross-sectional stepped wedge cluster randomized trials with time-to-event endpoints\, Mary Ryan\, PhD\, Yale School of Public Health.  Join with Webex.
URL:https://ritms.rutgers.edu/event/cinj-virtual-lecture/
END:VEVENT
END:VCALENDAR