BEGIN:VCALENDAR
VERSION:2.0
PRODID:-//Institute for Translational Medicine and Science - ECPv6.15.16//NONSGML v1.0//EN
CALSCALE:GREGORIAN
METHOD:PUBLISH
X-WR-CALNAME:Institute for Translational Medicine and Science
X-ORIGINAL-URL:https://ritms.rutgers.edu
X-WR-CALDESC:Events for Institute for Translational Medicine and Science
REFRESH-INTERVAL;VALUE=DURATION:PT1H
X-Robots-Tag:noindex
X-PUBLISHED-TTL:PT1H
BEGIN:VTIMEZONE
TZID:UTC
BEGIN:STANDARD
TZOFFSETFROM:+0000
TZOFFSETTO:+0000
TZNAME:UTC
DTSTART:20210101T000000
END:STANDARD
END:VTIMEZONE
BEGIN:VEVENT
DTSTART;TZID=UTC:20220304T120000
DTEND;TZID=UTC:20220304T130000
DTSTAMP:20260423T030710
CREATED:20220218T121102Z
LAST-MODIFIED:20220304T122800Z
UID:13985-1646395200-1646398800@ritms.rutgers.edu
SUMMARY:CINJ Trainee Seminar Series
DESCRIPTION:CINJ Trainee Seminar Series- Register Here!
URL:https://ritms.rutgers.edu/event/cinj-trainee-seminar-series-10/
END:VEVENT
BEGIN:VEVENT
DTSTART;TZID=UTC:20220305T080000
DTEND;TZID=UTC:20220305T170000
DTSTAMP:20260423T030710
CREATED:20220203T112725Z
LAST-MODIFIED:20220305T122658Z
UID:13814-1646467200-1646499600@ritms.rutgers.edu
SUMMARY:9th Annual Update on Liver Disease: A Multidisciplinary Approach
DESCRIPTION:9th Annual Update on Liver Disease: A Multidisciplinary Approach\nThis activity will provide learners with a comprehensive overview of the state-of-the-art advances in the diagnostic\, therapeutic and preventive modalities of liver disease based on the latest evidence\, literature\, and clinical research. \nMORE INFO TO FOLLOW.
URL:https://ritms.rutgers.edu/event/9th-annual-update-on-liver-disease-a-multidisciplinary-approach/
END:VEVENT
BEGIN:VEVENT
DTSTART;TZID=UTC:20220308T080000
DTEND;TZID=UTC:20220308T090000
DTSTAMP:20260423T030710
CREATED:20220308T122806Z
LAST-MODIFIED:20220308T122812Z
UID:14113-1646726400-1646730000@ritms.rutgers.edu
SUMMARY:Rutgers Project ECHO Maternal Health Innovation Session
DESCRIPTION:Rutgers Project ECHO Maternal Health Innovation Session-Implicit Bias Training for Providers\,Maria Soto-Greene\, Rutgers New Jersey Medical School and James Hill\, Rutgers New Jersey Medical School. Register Here!
URL:https://ritms.rutgers.edu/event/rutgers-project-echo-maternal-health-innovation-session/
END:VEVENT
BEGIN:VEVENT
DTSTART;TZID=UTC:20220308T120000
DTEND;TZID=UTC:20220308T130000
DTSTAMP:20260423T030710
CREATED:20220308T122806Z
LAST-MODIFIED:20220308T122812Z
UID:14114-1646740800-1646744400@ritms.rutgers.edu
SUMMARY:CINJ Recruitment Lecture
DESCRIPTION:CINJ Recruitment Lecture-Integrative Studies of Genomic and Epidemiological Factors in Breast and Ovarian Cancers\,Clara Bodelon\, Division of Cancer Epidemiology and Genetics\, NCI.  Join via Webex.
URL:https://ritms.rutgers.edu/event/cinj-recruitment-lecture-12/
END:VEVENT
BEGIN:VEVENT
DTSTART;TZID=UTC:20220308T130000
DTEND;TZID=UTC:20220308T140000
DTSTAMP:20260423T030710
CREATED:20220215T115535Z
LAST-MODIFIED:20220308T122812Z
UID:13950-1646744400-1646748000@ritms.rutgers.edu
SUMMARY:NJ ACTS Special Populations Core 2022 Seminar Series: “Engaging Underserved Communities in Clinical Trials”
DESCRIPTION:NJ ACTS Special Populations Core 2022 Seminar Series: “Engaging Underserved Communities in Clinical Trials” – Join ZOOM here!\nThis seminar provides an overview of the HIV and COVID-19 Clinical Trials conducted at Rutgers New Jersey Medical School Research With a Heart. Content provided includes the importance of strategic engagement and their learned successes and challenges during the pandemic. \nPresented By \nShobha Swaminathan\, MD\nAssociate Professor\, Division of Infectious Diseases\, Clinical Research Site Leader \nChristie Lyn Costanza\, MPH\, BSN\, RN\nAssociate Director\, Clinical Research Operations \nJamir Tuten\, BA\nCommunity Engagement Coordinator \n 
URL:https://ritms.rutgers.edu/event/nj-acts-special-populations-core-2022-seminar-series-engaging-underserved-communities-in-clinical-trials/
END:VEVENT
BEGIN:VEVENT
DTSTART;TZID=UTC:20220309T080000
DTEND;TZID=UTC:20220309T090000
DTSTAMP:20260423T030710
CREATED:20220303T122736Z
LAST-MODIFIED:20220309T124657Z
UID:14083-1646812800-1646816400@ritms.rutgers.edu
SUMMARY:RWJMS Pediatric Grand Rounds
DESCRIPTION:RWJMS Pediatric Grand Rounds–
URL:https://ritms.rutgers.edu/event/rwjms-pediatric-grand-rounds-2/
END:VEVENT
BEGIN:VEVENT
DTSTART;TZID=UTC:20220309T110000
DTEND;TZID=UTC:20220309T120000
DTSTAMP:20260423T030710
CREATED:20220207T112531Z
LAST-MODIFIED:20220309T124657Z
UID:13849-1646823600-1646827200@ritms.rutgers.edu
SUMMARY:CINJ – Cancer Health Equity Center of Excellence Distinguished Lecturer Series: Amelie G. Ramirez\, PhD
DESCRIPTION:CINJ – Cancer Health Equity Center of Excellence Distinguished Lecturer Series: \nInvited Speaker: Amelie G. Ramirez\, PhD\, Chair\, Department of Population Health Sciences; Director\, Institute for Health Promotion Research; Associate Director\, Mays Cancer Center; Community Outreach and Engagement Dielmann Chair in Health Disparities Research & Community Outreach; Max and Minnie Tomerlin Voelcker Endowed Chair in Cancer Health Care Disparities; Professor of Epidemiology & Biostatistics Institute for health Promotion Research \nREGISTER HERE
URL:https://ritms.rutgers.edu/event/cinj-cancer-health-equity-center-of-excellence-distinguished-lecturer-series-amelie-g-ramirez-phd/
END:VEVENT
BEGIN:VEVENT
DTSTART;TZID=UTC:20220309T160000
DTEND;TZID=UTC:20220309T170000
DTSTAMP:20260423T030710
CREATED:20220301T122629Z
LAST-MODIFIED:20220309T124657Z
UID:14058-1646841600-1646845200@ritms.rutgers.edu
SUMMARY:CINJ Grand Rounds: “Advancing Cancer Health Equity: Lessons from the Last 25 Years and a Vision for the Years to Come”
DESCRIPTION:CINJ Grand Rounds: “Advancing Cancer Health Equity: Lessons from the Last 25 Years and a Vision for the Years to Come” – Pre-register HERE!\n \nInvited Speaker \nMonica L. Baskin\, PhD\nProfessor of Preventive Medicine\nInaugural Vice Chair for Culture and Diversity Department of Medicine\nInaugural Associate Director for Community Outreach and Engagement\nO’Neal Comprehensive Cancer Center\nUniversity of Alabama at Birmingham \n 
URL:https://ritms.rutgers.edu/event/cinj-grand-rounds-advancing-cancer-health-equity-lessons-from-the-last-25-years-and-a-vision-for-the-years-to-come/
END:VEVENT
BEGIN:VEVENT
DTSTART;TZID=UTC:20220309T163000
DTEND;TZID=UTC:20220309T170000
DTSTAMP:20260423T030710
CREATED:20220207T112532Z
LAST-MODIFIED:20220309T124658Z
UID:13850-1646843400-1646845200@ritms.rutgers.edu
SUMMARY:Research Resources Workshop Wednesday (R2W2) Series: Rutgers Brain Imaging
DESCRIPTION:Research Resources Workshop Wednesday (R2W2) Series: Rutgers Brain Imaging\, Speakers: Stephen Jose Hanson\, PhD\, Director\, Rutgers University Brain Imaging Center & David Zald\, PhD\, Director\, Center for Advanced Human Brain Imaging Research Rutgers University. Join via Zoom.
URL:https://ritms.rutgers.edu/event/research-resources-workshop-wednesday-r2w2-series-rutgers-brain-imaging/
END:VEVENT
BEGIN:VEVENT
DTSTART;TZID=UTC:20220311T120000
DTEND;TZID=UTC:20220311T130000
DTSTAMP:20260423T030710
CREATED:20220218T121102Z
LAST-MODIFIED:20220311T131548Z
UID:13986-1647000000-1647003600@ritms.rutgers.edu
SUMMARY:CINJ Trainee Seminar Series
DESCRIPTION:CINJ Trainee Seminar Series- Register Here!
URL:https://ritms.rutgers.edu/event/cinj-trainee-seminar-series-11/
END:VEVENT
BEGIN:VEVENT
DTSTART;VALUE=DATE:20220314
DTEND;VALUE=DATE:20220315
DTSTAMP:20260423T030710
CREATED:20220217T121058Z
LAST-MODIFIED:20220314T132703Z
UID:13974-1647216000-1647302399@ritms.rutgers.edu
SUMMARY:Rutgers Online Learning Conference (Virtual) “Reflect and Transform”
DESCRIPTION:Rutgers Online Learning Conference (Virtual) “Reflect and Transform” – Register Free! \nWhat is it? #RUOnlineCon is all about focusing on improving teaching and learning with technology. It brings together the best minds in online\, hybrid\, and EdTech with 30+ sessions\, interactive networking\, and a chance to reflect and transform. \nWho is it for? Last year over 1\,000 educators\, technologists\, and industry leaders registered\, including: \n\nFaculty and instructors\nAcademic leaders\nInstructional designers\nAnyone interested in technology-assisted education\n\n 
URL:https://ritms.rutgers.edu/event/rutgers-online-learning-conference-virtual-reflect-and-transform/
END:VEVENT
BEGIN:VEVENT
DTSTART;TZID=UTC:20220316T080000
DTEND;TZID=UTC:20220316T090000
DTSTAMP:20260423T030710
CREATED:20220303T122738Z
LAST-MODIFIED:20220316T134031Z
UID:14084-1647417600-1647421200@ritms.rutgers.edu
SUMMARY:RWJMS Pediatric Grand Rounds
DESCRIPTION:RWJMS Pediatric Grand Rounds–
URL:https://ritms.rutgers.edu/event/rwjms-pediatric-grand-rounds-3/
END:VEVENT
BEGIN:VEVENT
DTSTART;TZID=UTC:20220316T100000
DTEND;TZID=UTC:20220316T110000
DTSTAMP:20260423T030710
CREATED:20220316T134032Z
LAST-MODIFIED:20220316T134032Z
UID:14203-1647424800-1647428400@ritms.rutgers.edu
SUMMARY:Rutgers Princeton Center for Computational Cognitive Neuropsychiatry Seminar
DESCRIPTION:Rutgers Princeton Center for Computational Cognitive Neuropsychiatry Seminar-Decisions under the influence of TMS and augmented reality: Opportunities for computational modeling\, Travis Baker\, Center for Molecular and Behavioral Neuroscience \, Rutgers University.  Join via Zoom.
URL:https://ritms.rutgers.edu/event/rutgers-princeton-center-for-computational-cognitive-neuropsychiatry-seminar-18/
END:VEVENT
BEGIN:VEVENT
DTSTART;TZID=UTC:20220316T140000
DTEND;TZID=UTC:20220316T150000
DTSTAMP:20260423T030710
CREATED:20220315T132705Z
LAST-MODIFIED:20220316T134032Z
UID:14166-1647439200-1647442800@ritms.rutgers.edu
SUMMARY:CHI Postdoc Candidate Seminar: “Dynamic Control of Behavior by Hypothalamic Hunger Neurons”
DESCRIPTION:CHI Postdoc Candidate Seminar: “Dynamic Control of Behavior by Hypothalamic Hunger Neurons”\n\nSpeaker \nNitsam Goldstein\nPhD Candidate in Neuroscience\nUniversity of Pennsylvania \nJoin Zoom Meeting \nJoin by SIP \nMeeting ID: 984 1606 7536\nPassword: 278733
URL:https://ritms.rutgers.edu/event/chi-postdoc-candidate-seminar-dynamic-control-of-behavior-by-hypothalamic-hunger-neurons/
END:VEVENT
BEGIN:VEVENT
DTSTART;TZID=UTC:20220316T140000
DTEND;TZID=UTC:20220316T150000
DTSTAMP:20260423T030710
CREATED:20220315T132706Z
LAST-MODIFIED:20220316T134032Z
UID:14167-1647439200-1647442800@ritms.rutgers.edu
SUMMARY:Rutgers Global Health Institute Guest Faculty Seminar Series: “Which U.S. Children Are Being Diagnosed and Treated for Disabilities? Population-based Estimates of Health Disparities”
DESCRIPTION:Rutgers Global Health Institute Guest Faculty Seminar Series: “Which U.S. Children Are Being Diagnosed and Treated for Disabilities? Population-based Estimates of Health Disparities” \nSpeaker\n\nPaul Morgan\nCenter for Educational Disparities Research\, Pennsylvania State University \nREGISTER
URL:https://ritms.rutgers.edu/event/rutgers-global-health-institute-guest-faculty-seminar-series-which-u-s-children-are-being-diagnosed-and-treated-for-disabilities-population-based-estimates-of-health-disparities/
END:VEVENT
BEGIN:VEVENT
DTSTART;TZID=UTC:20220317T150000
DTEND;TZID=UTC:20220317T160000
DTSTAMP:20260423T030710
CREATED:20220215T115536Z
LAST-MODIFIED:20220317T134354Z
UID:13951-1647529200-1647532800@ritms.rutgers.edu
SUMMARY:NJ ACTS BERD Core Spring Workshop Series
DESCRIPTION:NJ ACTS BERD Core Spring Workshop Series-Causal Mediation Analysis\, Jason Roy\, PhD\, Chair\, Department of Biostatistics and Epidemiology & RUBIES Director. Register Here!
URL:https://ritms.rutgers.edu/event/nj-acts-berd-core-spring-workshop-series-2/
END:VEVENT
BEGIN:VEVENT
DTSTART;TZID=UTC:20220317T150000
DTEND;TZID=UTC:20220317T160000
DTSTAMP:20260423T030710
CREATED:20220315T132706Z
LAST-MODIFIED:20220317T134355Z
UID:14168-1647529200-1647532800@ritms.rutgers.edu
SUMMARY:Rutgers Global Health Institute Guest Faculty Seminar Series: “Health Disparities and Mental Health Outcomes Among Underserved Populations Living in Air-Polluted Neighborhoods”
DESCRIPTION:Rutgers Global Health Institute Guest Faculty Seminar Series: “Health Disparities and Mental Health Outcomes Among Underserved Populations Living in Air-Polluted Neighborhoods” \nSpeaker \nShir Lerman Ginzburg Department of Public Health Sciences\, UConn Health \nREGISTER
URL:https://ritms.rutgers.edu/event/rutgers-global-health-institute-guest-faculty-seminar-series-health-disparities-and-mental-health-outcomes-among-underserved-populations-living-in-air-polluted-neighborhoods/
END:VEVENT
BEGIN:VEVENT
DTSTART;TZID=UTC:20220318T120000
DTEND;TZID=UTC:20220318T130000
DTSTAMP:20260423T030710
CREATED:20220218T121103Z
LAST-MODIFIED:20220318T134055Z
UID:13987-1647604800-1647608400@ritms.rutgers.edu
SUMMARY:CINJ Trainee Seminar Series
DESCRIPTION:CINJ Trainee Seminar Series- Register Here!
URL:https://ritms.rutgers.edu/event/cinj-trainee-seminar-series-12/
END:VEVENT
BEGIN:VEVENT
DTSTART;TZID=UTC:20220321T130000
DTEND;TZID=UTC:20220321T140000
DTSTAMP:20260423T030710
CREATED:20220314T132658Z
LAST-MODIFIED:20220318T134055Z
UID:14151-1647867600-1647871200@ritms.rutgers.edu
SUMMARY:CINJ Recruitment Lecture
DESCRIPTION:CINJ Recruitment Lecture-Investigating Microbiome and Host Multi-omics Data to Identify Cancer Risk Factors\, Yaohua Yang\, PhD\, Vanderbilt University Medical Center. Join via Webex.
URL:https://ritms.rutgers.edu/event/cinj-recruitment-lecture-13/
END:VEVENT
BEGIN:VEVENT
DTSTART;TZID=UTC:20220322T120000
DTEND;TZID=UTC:20220322T130000
DTSTAMP:20260423T030710
CREATED:20220303T122739Z
LAST-MODIFIED:20220318T134055Z
UID:14085-1647950400-1647954000@ritms.rutgers.edu
SUMMARY:RWJMS Annual Mates David and Hinna Stahl Memorial Lecture in Bioethics: A Doctor Thinking about Inequality and Rationing of Care\, from Ethiopia to Norway and WHO
DESCRIPTION:RWJMS Annual Mates David and Hinna Stahl Memorial Lecture in Bioethics: A Doctor Thinking about Inequality and Rationing of Care\, from Ethiopia to Norway and WHO \nInvited Speaker \nOle F. Norheim\nProfessor and Director of Bergen Centre for Ethics and Priority Setting \n\nRegister Here for Zoom Link!
URL:https://ritms.rutgers.edu/event/rwjms-annual-mates-david-and-hinna-stahl-memorial-lecture-in-bioethics-a-doctor-thinking-about-inequality-and-rationing-of-care-from-ethiopia-to-norway-and-who/
END:VEVENT
BEGIN:VEVENT
DTSTART;TZID=UTC:20220323T080000
DTEND;TZID=UTC:20220323T090000
DTSTAMP:20260423T030710
CREATED:20220303T122739Z
LAST-MODIFIED:20220318T134055Z
UID:14086-1648022400-1648026000@ritms.rutgers.edu
SUMMARY:RWJMS Pediatric Grand Rounds
DESCRIPTION:RWJMS Pediatric Grand Rounds–
URL:https://ritms.rutgers.edu/event/rwjms-pediatric-grand-rounds-4/
END:VEVENT
BEGIN:VEVENT
DTSTART;TZID=UTC:20220323T140000
DTEND;TZID=UTC:20220323T150000
DTSTAMP:20260423T030710
CREATED:20220221T121242Z
LAST-MODIFIED:20220318T134055Z
UID:14005-1648044000-1648047600@ritms.rutgers.edu
SUMMARY:CTSA Program Webinar Series
DESCRIPTION:CTSA Program Webinar Series–Register Here!
URL:https://ritms.rutgers.edu/event/ctsa-program-webinar-series-3/
END:VEVENT
BEGIN:VEVENT
DTSTART;TZID=UTC:20220324T100000
DTEND;TZID=UTC:20220324T110000
DTSTAMP:20260423T030710
CREATED:20220212T114041Z
LAST-MODIFIED:20220318T134056Z
UID:13917-1648116000-1648119600@ritms.rutgers.edu
SUMMARY:NJ ACTS Regulatory Consult Cafés
DESCRIPTION:Do you need help regarding any facet of human subjects protection\, FDA requirements or other regulatory issues? Join the Regulatory Knowledge and Support Core Staff at its cafés. \nJoin via Zoom\nMeeting ID: 925 1379 9432\nPassword: 752512 \n  \nQuestions? Contact Anthony Gonzalez
URL:https://ritms.rutgers.edu/event/nj-acts-regulatory-consult-cafes-5/
END:VEVENT
BEGIN:VEVENT
DTSTART;TZID=UTC:20220325T120000
DTEND;TZID=UTC:20220325T130000
DTSTAMP:20260423T030710
CREATED:20220223T122702Z
LAST-MODIFIED:20220318T134056Z
UID:14026-1648209600-1648213200@ritms.rutgers.edu
SUMMARY:CINJ Trainee Seminar Series
DESCRIPTION:CINJ Trainee Seminar Series- Register Here!
URL:https://ritms.rutgers.edu/event/cinj-trainee-seminar-series-13/
END:VEVENT
BEGIN:VEVENT
DTSTART;TZID=UTC:20220325T120000
DTEND;TZID=UTC:20220325T133000
DTSTAMP:20260423T030710
CREATED:20220318T134051Z
LAST-MODIFIED:20220318T134056Z
UID:14217-1648209600-1648215000@ritms.rutgers.edu
SUMMARY:Global Health at Princeton Health Colloquium
DESCRIPTION:Global Health at Princeton Health Colloquium-COVID-19 Vaccine Policy-Making—Evidence\, Values\, and Expert Advice\, Jason Schwartz\, Yale University. Read More and Register Here!
URL:https://ritms.rutgers.edu/event/global-health-at-princeton-health-colloquium/
END:VEVENT
BEGIN:VEVENT
DTSTART;TZID=UTC:20220328T130000
DTEND;TZID=UTC:20220328T140000
DTSTAMP:20260423T030710
CREATED:20220226T122946Z
LAST-MODIFIED:20220318T134056Z
UID:14046-1648472400-1648476000@ritms.rutgers.edu
SUMMARY:Child Health Institute of NJ Science Seminar Series 2022:  Kevin M. Wright\, PhD
DESCRIPTION:Child Health Institute of NJ Science Seminar Series 2022 \nInvited Speaker\n \nKevin M. Wright\, PhD\nAssociate Professor and Scientist Vollum Institute Oregon Health and Sciences University\nPrimary Research Interests: Sensory circuit development\, transcription\, axon guidance\, neuronal migration\, synaptogenesis\, genetics. \nSeminars will take place via Zoom Meeting\nCoordinator: Stephanie Peeters\nTel: 732-235-3397\nEmail: speeters@rwjms.rutgers.edu
URL:https://ritms.rutgers.edu/event/child-health-institute-of-nj-science-seminar-series-2022-kevin-m-wright-phd/
END:VEVENT
BEGIN:VEVENT
DTSTART;TZID=UTC:20220328T130000
DTEND;TZID=UTC:20220328T140000
DTSTAMP:20260423T030710
CREATED:20220226T122946Z
LAST-MODIFIED:20220318T134056Z
UID:14045-1648472400-1648476000@ritms.rutgers.edu
SUMMARY:CHI Science Seminar Series 2021-2022: Neurodevelopment; Axon guidance; Neuronal migration; Synaptogenesis; and Neural circuitry
DESCRIPTION:CHI Science Seminar Series 2021-2022: Neurodevelopment; Axon guidance; Neuronal migration; Synaptogenesis; and Neural circuitry (Virtual)\nSpeaker: Kevin M. Wright\, PhD Associate Professor and Scientist\, Vollum Institute Neuroscience Graduate Program; Molecular and Medical Genetics Graduate Program; and Molecular and Cellular Biosciences Program\, Oregon Health and Sciences University School of Med.
URL:https://ritms.rutgers.edu/event/chi-science-seminar-series-2021-2022-neurodevelopment-axon-guidance-neuronal-migration-synaptogenesis-and-neural-circuitry/
END:VEVENT
BEGIN:VEVENT
DTSTART;TZID=UTC:20220330T080000
DTEND;TZID=UTC:20220330T090000
DTSTAMP:20260423T030710
CREATED:20220303T122740Z
LAST-MODIFIED:20220318T134056Z
UID:14087-1648627200-1648630800@ritms.rutgers.edu
SUMMARY:RWJMS Pediatric Grand Rounds
DESCRIPTION:RWJMS Pediatric Grand Rounds–
URL:https://ritms.rutgers.edu/event/rwjms-pediatric-grand-rounds-5/
END:VEVENT
BEGIN:VEVENT
DTSTART;TZID=UTC:20220331T140000
DTEND;TZID=UTC:20220331T150000
DTSTAMP:20260423T030710
CREATED:20220301T122632Z
LAST-MODIFIED:20220308T122816Z
UID:14059-1648735200-1648738800@ritms.rutgers.edu
SUMMARY:NJ ACTS Regulatory Consult Cafés
DESCRIPTION:Do you need help regarding any facet of human subjects protection\, FDA requirements or other regulatory issues? Join the Regulatory Knowledge and Support Core Staff at its cafés. \nJoin via Zoom\nMeeting ID: 964 4107 5926\nPassword: 043311 \nQuestions? Contact Anthony Gonzalez
URL:https://ritms.rutgers.edu/event/nj-acts-regulatory-consult-cafes-6/
END:VEVENT
BEGIN:VEVENT
DTSTART;TZID=UTC:20220404T130000
DTEND;TZID=UTC:20220404T140000
DTSTAMP:20260423T030710
CREATED:20220318T134052Z
LAST-MODIFIED:20220318T134057Z
UID:14218-1649077200-1649080800@ritms.rutgers.edu
SUMMARY:CHI Science Seminar Series 2022
DESCRIPTION:CHI Science Seminar Series 2022-Hypoxic-ischemic brain injury and mechanisms of white matter damage in premature infants\, Vadim S. Ten MD\, PhD\, RWJMS.
URL:https://ritms.rutgers.edu/event/chi-science-seminar-series-2022/
END:VEVENT
END:VCALENDAR