BEGIN:VCALENDAR
VERSION:2.0
PRODID:-//Institute for Translational Medicine and Science - ECPv6.15.16//NONSGML v1.0//EN
CALSCALE:GREGORIAN
METHOD:PUBLISH
X-WR-CALNAME:Institute for Translational Medicine and Science
X-ORIGINAL-URL:https://ritms.rutgers.edu
X-WR-CALDESC:Events for Institute for Translational Medicine and Science
REFRESH-INTERVAL;VALUE=DURATION:PT1H
X-Robots-Tag:noindex
X-PUBLISHED-TTL:PT1H
BEGIN:VTIMEZONE
TZID:UTC
BEGIN:STANDARD
TZOFFSETFROM:+0000
TZOFFSETTO:+0000
TZNAME:UTC
DTSTART:20210101T000000
END:STANDARD
END:VTIMEZONE
BEGIN:VEVENT
DTSTART;TZID=UTC:20220128T080000
DTEND;TZID=UTC:20220128T170000
DTSTAMP:20260422T174223
CREATED:20211229T095729Z
LAST-MODIFIED:20220128T111057Z
UID:13507-1643356800-1643389200@ritms.rutgers.edu
SUMMARY:Global Health Seed Grant Proposal Due Today
DESCRIPTION:Global Health Seed Grant Proposal Due-Faculty from all Rutgers locations and academic disciplines are invited to apply for the 2022 grant cycle. Five projects of up to $10\,000 each will be awarded in either of the following two categories: 1) Education\, Training\, and Capacity Building or 2) Research. These projects must involve partnerships that directly impact the community experiencing inequity. Read More Here
URL:https://ritms.rutgers.edu/event/global-health-seed-grant-proposal-due-today/
END:VEVENT
BEGIN:VEVENT
DTSTART;TZID=UTC:20220128T150000
DTEND;TZID=UTC:20220128T160000
DTSTAMP:20260422T174223
CREATED:20220126T111024Z
LAST-MODIFIED:20220128T111057Z
UID:13754-1643382000-1643385600@ritms.rutgers.edu
SUMMARY:CINJ Recruitment Lecture
DESCRIPTION:CINJ Recruitment Lecture– Combination Therapy in Kidney Cancer: Shifting Clinical Paradigms” Speaker: Dr. Chung-Han Lee\, Memorial Sloan Kettering Cancer Center. Join via Webex. Meeting number (access code): 2623 562 0285\, Meeting password: P46DuFnpny3\, Join by phone: 1-650-429-3300
URL:https://ritms.rutgers.edu/event/cinj-recruitment-lecture-9/
END:VEVENT
BEGIN:VEVENT
DTSTART;TZID=UTC:20220131T133000
DTEND;TZID=UTC:20220131T143000
DTSTAMP:20260422T174223
CREATED:20220128T111056Z
LAST-MODIFIED:20220131T111328Z
UID:13776-1643635800-1643639400@ritms.rutgers.edu
SUMMARY:CINJ Recruitment Lecture
DESCRIPTION:CINJ Recruitment Lecture-Methods for Risk Prediction Using Integrative Multi-ethnic Genetic and Genomic Datasets\, Dr. Haoyu Zhang\, Harvard T.H. Chan School of Public Health. Join via Webex. Meeting number (access code): 2621 788 7299\, Meeting password: yMJ6PdNw5n7\, Join by phone: 1-650-429-3300.
URL:https://ritms.rutgers.edu/event/cinj-recruitment-lecture-10/
END:VEVENT
BEGIN:VEVENT
DTSTART;TZID=UTC:20220201T120000
DTEND;TZID=UTC:20220201T130000
DTSTAMP:20260422T174223
CREATED:20220113T102548Z
LAST-MODIFIED:20220201T112708Z
UID:13654-1643716800-1643720400@ritms.rutgers.edu
SUMMARY:NJ ACTS Special Populations Core 2022 Seminar Series
DESCRIPTION:NJ ACTS Special Populations Core 2022 Seminar Series-Working with the News Media\, Megan Schumann\, Senior Public Relations Specialist\, R-Comm and Patti Verbanas\, R-Comm Assistant Director\, Public & Media Relations\, Rutgers.  View Flyer.  Join via Zoom.
URL:https://ritms.rutgers.edu/event/nj-acts-special-populations-core-2022-seminar-series/
END:VEVENT
BEGIN:VEVENT
DTSTART;TZID=UTC:20220202T100000
DTEND;TZID=UTC:20220202T110000
DTSTAMP:20260422T174223
CREATED:20220201T112706Z
LAST-MODIFIED:20220202T112904Z
UID:13797-1643796000-1643799600@ritms.rutgers.edu
SUMMARY:Rutgers Princeton Center for Computational Cognitive Neuropsychiatry Seminar
DESCRIPTION:Rutgers Princeton Center for Computational Cognitive Neuropsychiatry Seminar-Understanding and Treating Learning Dysfunctions in Anxiety\, Vanessa Brown\, University of Pittsburgh.  Join via Zoom.
URL:https://ritms.rutgers.edu/event/rutgers-princeton-center-for-computational-cognitive-neuropsychiatry-seminar-16/
END:VEVENT
BEGIN:VEVENT
DTSTART;TZID=UTC:20220202T120000
DTEND;TZID=UTC:20220202T133000
DTSTAMP:20260422T174223
CREATED:20220119T104140Z
LAST-MODIFIED:20220202T112904Z
UID:13694-1643803200-1643808600@ritms.rutgers.edu
SUMMARY:Mentoring Biomedical PhD Students and Dealing with Students in Distress
DESCRIPTION:Mentoring PhD Students and Dealing with Students in Distress\n \n\nJanet Alder and Jim Millonig from the School of Graduate Studies will present a new document from the AAMC on Appropriate Treatment of Research Trainees for faculty to learn about best practices in mentoring\nThis will be followed by an interactive session run by CAPS counselors for faculty to learn about approaches and resources for dealing with students in distress.\nFinally\, we will discuss a case study and share experiences and advice in mentoring biomedical PhD students\n\nRSVP by EventBrite. \nView AAMC Guide \nJoin via Zoom!\nPasscode: Janet
URL:https://ritms.rutgers.edu/event/mentoring-biomedical-phd-students-and-dealing-with-students-in-distress/
END:VEVENT
BEGIN:VEVENT
DTSTART;TZID=UTC:20220202T160000
DTEND;TZID=UTC:20220202T170000
DTSTAMP:20260422T174223
CREATED:20220201T112707Z
LAST-MODIFIED:20220202T112904Z
UID:13798-1643817600-1643821200@ritms.rutgers.edu
SUMMARY:CINJ Grand Rounds: “Lung Cancer Screening\, Where Are We And Where Are We Going Next?”
DESCRIPTION:CINJ Grand Rounds: “Lung Cancer Screening\, Where Are We And Where Are We Going Next?” \nInvited Speaker\n\nRafael Meza\, PhD\nProfessor of Epidemiology\, Department of Epidemiology\nProfessor of Global Public Health\, University of Michigan\nCo-Leader\, Cancer Control and Population Sciences Program UM Rogel Cancer Center \nPre-register here! 
URL:https://ritms.rutgers.edu/event/cinj-grand-rounds-lung-cancer-screening-where-are-we-and-where-are-we-going-next/
END:VEVENT
BEGIN:VEVENT
DTSTART;TZID=UTC:20220208T130000
DTEND;TZID=UTC:20220208T140000
DTSTAMP:20260422T174223
CREATED:20220113T102548Z
LAST-MODIFIED:20220208T112558Z
UID:13655-1644325200-1644328800@ritms.rutgers.edu
SUMMARY:NJ ACTS Special Populations Core 2022 Seminar Series
DESCRIPTION:NJ ACTS Special Populations Core 2022 Seminar Series-Supervised Consumption Sites and Overdose Prevention in the United States: Possibilities\, Prospects\, and Challenges\, Brandon D. L. Marshall\, PhD Associate Professor of Epidemiology Brown University.  View Flyer and Join via Zoom.
URL:https://ritms.rutgers.edu/event/nj-acts-special-populations-core-2022-seminar-series-2/
END:VEVENT
BEGIN:VEVENT
DTSTART;TZID=UTC:20220208T130000
DTEND;TZID=UTC:20220208T140000
DTSTAMP:20260422T174223
CREATED:20220204T112626Z
LAST-MODIFIED:20220208T112558Z
UID:13827-1644325200-1644328800@ritms.rutgers.edu
SUMMARY:CINJ Lecture: “Car-T Cell Immunotherapy for Pediatric Brain Tumors: Overcoming Therapeutic Challenges by Mitigating the Tumor Microenvironment and Intrinsic T-Cell Limitations”
DESCRIPTION:CINJ Lecture: “Car-T Cell Immunotherapy for Pediatric Brain Tumors: Overcoming Therapeutic Challenges by Mitigating the Tumor Microenvironment and Intrinsic T-Cell Limitations” \nInvited Speaker \nDalia Haydar\, PharmD\, PhD\nPostdoctoral Research Fellow\nDepartment of Bone Marrow Transplantation and Cellular Therapy\nSt. Jude Children’s Research Hospital \nJoin WEBEX! \nMeeting number (access code): 2623 507 4771\nMeeting password: kKWQS52pZQ2 \nJoin by phone: 1-650-429-3300
URL:https://ritms.rutgers.edu/event/cinj-lecture-car-t-cell-immunotherapy-for-pediatric-brain-tumors-overcoming-therapeutic-challenges-by-mitigating-the-tumor-microenvironment-and-intrinsic-t-cell-limitations/
END:VEVENT
BEGIN:VEVENT
DTSTART;TZID=UTC:20220209T160000
DTEND;TZID=UTC:20220209T170000
DTSTAMP:20260422T174223
CREATED:20220110T102707Z
LAST-MODIFIED:20220209T112608Z
UID:13618-1644422400-1644426000@ritms.rutgers.edu
SUMMARY:Research Resources Workshop Wednesday (R2W2) Series: Advanced Research Computing
DESCRIPTION:Research Resources Workshop Wednesday (R2W2) Series-Advanced Research Computing-Speakers: David Foran\, PhD\, Chief Research Informatics Officer\, RBHS & J. Barr von Oehsen\, PhD\, Associate Vice President Advanced Research Computing\, Rutgers University. Join via Zoom.
URL:https://ritms.rutgers.edu/event/research-resources-workshop-wednesday-r2w2-series-advanced-research-computing/
END:VEVENT
BEGIN:VEVENT
DTSTART;TZID=UTC:20220209T180000
DTEND;TZID=UTC:20220209T200000
DTSTAMP:20260422T174223
CREATED:20220208T112556Z
LAST-MODIFIED:20220209T112608Z
UID:13869-1644429600-1644436800@ritms.rutgers.edu
SUMMARY:School of Health Professions Virtual Open House
DESCRIPTION:School of Health Professions Virtual Open House-M.S. in Clinical Research Management – Attain a M.S. in 16 months with the new Academic Clinical Research Track which offers a small scholarship and experiential training threaded throughout and may culminate with an offer to work in one our clinical research units. Register Here!  CRM Program Flyer and Admission Criteria
URL:https://ritms.rutgers.edu/event/school-of-health-professions-virtual-open-house/
END:VEVENT
BEGIN:VEVENT
DTSTART;TZID=UTC:20220210T110000
DTEND;TZID=UTC:20220210T153000
DTSTAMP:20260422T174223
CREATED:20220119T104140Z
LAST-MODIFIED:20220210T113016Z
UID:13695-1644490800-1644507000@ritms.rutgers.edu
SUMMARY:CLIC C2H2 Un-Meeting “Climate Change and Human Health (C2H2): Through a Translational Science Lens”
DESCRIPTION:CLIC C2H2 Un-Meeting “Climate Change and Human Health (C2H2): Through a Translational Science Lens”\nThis event will focus on networking and developing collaborative teams to work towards mitigating the effects of climate change in the area of human health. Full agenda available here!\nView Social Media Toolkit Doc \nRegister now (login required)!
URL:https://ritms.rutgers.edu/event/clic-c2h2-un-meeting-climate-change-and-human-health-c2h2-through-a-translational-science-lens/
END:VEVENT
BEGIN:VEVENT
DTSTART;TZID=UTC:20220211T080000
DTEND;TZID=UTC:20220211T170000
DTSTAMP:20260422T174223
CREATED:20220112T102624Z
LAST-MODIFIED:20220211T114152Z
UID:13640-1644566400-1644598800@ritms.rutgers.edu
SUMMARY:Update in Rheumatology 2022
DESCRIPTION:Update in Rheumatology 2022\nThis activity will educate clinicians on the complexities of evaluating and managing rheumatologic diseases\, current strategies for the early diagnosis of these conditions\, pharmacokinetics and adverse effects of current and new agents to treat these disorders\, and necessity of a strong and communicative relationship between the primary care provider and rheumatologist in order to promote better patient outcomes. \nMORE INFO TO FOLLOW. \n 
URL:https://ritms.rutgers.edu/event/update-in-rheumatology-2022/
END:VEVENT
BEGIN:VEVENT
DTSTART;TZID=UTC:20220211T080000
DTEND;TZID=UTC:20220211T170000
DTSTAMP:20260422T174223
CREATED:20220202T112903Z
LAST-MODIFIED:20220211T114152Z
UID:13808-1644566400-1644598800@ritms.rutgers.edu
SUMMARY:Center for COVID-19 Research and Pandemic Preparedness Pilot Research and Training Grant Program
DESCRIPTION:Center for COVID-19 Research and Pandemic Preparedness Pilot Research and Training Grant Program-NEW DEADLINE TODAY. View Program Details. All applications must be submitted by 5 pm February 11\, 2022.
URL:https://ritms.rutgers.edu/event/center-for-covid-19-research-and-pandemic-preparedness-pilot-research-and-training-grant-program/
END:VEVENT
BEGIN:VEVENT
DTSTART;TZID=UTC:20220214T100000
DTEND;TZID=UTC:20220214T110000
DTSTAMP:20260422T174223
CREATED:20220115T102625Z
LAST-MODIFIED:20220214T114037Z
UID:13672-1644832800-1644836400@ritms.rutgers.edu
SUMMARY:NJ ACTS Regulatory Consult Cafés
DESCRIPTION:Do you need help regarding any facet of human subjects protection\, FDA requirements or other regulatory issues? Join the Regulatory Knowledge and Support Core Staff at its cafés. \nJoin via Zoom\nMeeting ID: 925 1379 9432\nPassword: 752512 \n  \nQuestions? Contact Anthony Gonzalez
URL:https://ritms.rutgers.edu/event/nj-acts-regulatory-consult-cafes-3/
END:VEVENT
BEGIN:VEVENT
DTSTART;TZID=UTC:20220214T110000
DTEND;TZID=UTC:20220214T120000
DTSTAMP:20260422T174223
CREATED:20220212T114039Z
LAST-MODIFIED:20220214T114037Z
UID:13913-1644836400-1644840000@ritms.rutgers.edu
SUMMARY:Rutgers Global Health Institute Seminar: “Exploiting Adaptive Immunity to Detect and Disarm Emerging RNA Viruses”
DESCRIPTION:Rutgers Global Health Institute Seminar: “Exploiting Adaptive Immunity to Detect and Disarm Emerging RNA Viruses” \nInvited speaker \nBobby Brooke Herrera\nE25Bio\, Inc.\nHarvard T.H. Chan School of Public Health \nPre-register HERE
URL:https://ritms.rutgers.edu/event/rutgers-global-health-institute-seminar-exploiting-adaptive-immunity-to-detect-and-disarm-emerging-rna-viruses/
END:VEVENT
BEGIN:VEVENT
DTSTART;TZID=UTC:20220215T120000
DTEND;TZID=UTC:20220215T130000
DTSTAMP:20260422T174223
CREATED:20220215T115533Z
LAST-MODIFIED:20220215T115536Z
UID:13947-1644926400-1644930000@ritms.rutgers.edu
SUMMARY:CINJ Cancer Pharmacology Research Program
DESCRIPTION:CINJ Cancer Pharmacology Research Program-Non-animal models for chemical toxicity evaluations: applying data-driven and mechanistic modeling\,Hao Zhu\, PhD Professor\, Department of Chemistry Rutgers University-Camden.  Register Here!
URL:https://ritms.rutgers.edu/event/cinj-cancer-pharmacology-research-program-3/
END:VEVENT
BEGIN:VEVENT
DTSTART;TZID=UTC:20220215T150000
DTEND;TZID=UTC:20220215T160000
DTSTAMP:20260422T174223
CREATED:20220209T112607Z
LAST-MODIFIED:20220215T115536Z
UID:13881-1644937200-1644940800@ritms.rutgers.edu
SUMMARY:CINJ Recruitment Lecture
DESCRIPTION:CINJ Recruitment Lecture-Early Diagnosis of Chronic Graft versus Host Disease: Exploring New Frontiers\, Dr. Yifan Pang\, National Institute of Health.  Join via Webex.Meeting number (access code): 2624 620 1479\, Meeting password: QPjfvWtM762\, Join by phone: 1-650-429-3300.
URL:https://ritms.rutgers.edu/event/cinj-recruitment-lecture-11/
END:VEVENT
BEGIN:VEVENT
DTSTART;TZID=UTC:20220216T100000
DTEND;TZID=UTC:20220216T110000
DTSTAMP:20260422T174223
CREATED:20220215T115534Z
LAST-MODIFIED:20220216T121043Z
UID:13948-1645005600-1645009200@ritms.rutgers.edu
SUMMARY:Rutgers Princeton Center for Computational Cognitive Neuropsychiatry Seminar
DESCRIPTION:Rutgers Princeton Center for Computational Cognitive Neuropsychiatry Seminar-Rhythmic properties of attention in schizophrenia\, Ivette Planell-Mendez\, Princeton University. View the CCNP Calendar.
URL:https://ritms.rutgers.edu/event/rutgers-princeton-center-for-computational-cognitive-neuropsychiatry-seminar-17/
END:VEVENT
BEGIN:VEVENT
DTSTART;TZID=UTC:20220217T130000
DTEND;TZID=UTC:20220217T140000
DTSTAMP:20260422T174223
CREATED:20220204T112627Z
LAST-MODIFIED:20220217T121059Z
UID:13828-1645102800-1645106400@ritms.rutgers.edu
SUMMARY:CLIC Webinar Series Insights to Inspire 2022
DESCRIPTION:CLIC Webinar Series Insights to Inspire 2022: The Journey Continues – Data Completeness\, Collaboration Brings Corporate and Academic Cultures Together to Achieve Common Goals\, David Foran\, PhD\, James Barr von Oehsen\, PhD\, Frank Sonnenberg\, MD\, Rutgers.  Register Here and Read the Blog Post.
URL:https://ritms.rutgers.edu/event/clic-webinar-series-insights-to-inspire-2022/
END:VEVENT
BEGIN:VEVENT
DTSTART;TZID=UTC:20220217T150000
DTEND;TZID=UTC:20220217T160000
DTSTAMP:20260422T174223
CREATED:20220126T111025Z
LAST-MODIFIED:20220217T121059Z
UID:13755-1645110000-1645113600@ritms.rutgers.edu
SUMMARY:NJ ACTS BERD Core Spring Workshop Series
DESCRIPTION:NJ ACTS BERD Core Spring Workshop Series-Introduction to Causal Inference and Propensity Scores\, Jason Roy\, PhD\, Chair\, Department of Biostatistics and Epidemiology & RUBIES Director\, Register Here and View Flyer
URL:https://ritms.rutgers.edu/event/nj-acts-berd-core-spring-workshop-series/
END:VEVENT
BEGIN:VEVENT
DTSTART;TZID=UTC:20220218T120000
DTEND;TZID=UTC:20220218T130000
DTSTAMP:20260422T174223
CREATED:20220218T121100Z
LAST-MODIFIED:20220218T121103Z
UID:13982-1645185600-1645189200@ritms.rutgers.edu
SUMMARY:CINJ Trainee Seminar Series
DESCRIPTION:CINJ Trainee Seminar Series-The Role of Mitochondrial Functions in the NSCLC Tumorigenesis\, Akshada Sawant\, PhD\, Rutgers. Register Here!
URL:https://ritms.rutgers.edu/event/cinj-trainee-seminar-series-8/
END:VEVENT
BEGIN:VEVENT
DTSTART;TZID=UTC:20220218T140000
DTEND;TZID=UTC:20220218T150000
DTSTAMP:20260422T174223
CREATED:20220212T114039Z
LAST-MODIFIED:20220218T121103Z
UID:13914-1645192800-1645196400@ritms.rutgers.edu
SUMMARY:Rutgers Global Health Institute Seminar: “Child Health Ecosyndemics in Low- and Middle-Income Countries”
DESCRIPTION:Rutgers Global Health Institute Seminar: “Child Health Ecosyndemics in Low- and Middle-Income Countries” \nInvited Speaker \nGwenyth Lee\nUniversity of Michigan\, Department of Epidemiology \nPre-register HERE!
URL:https://ritms.rutgers.edu/event/rutgers-global-health-institute-seminar-child-health-ecosyndemics-in-low-and-middle-income-countries/
END:VEVENT
BEGIN:VEVENT
DTSTART;TZID=UTC:20220222T120000
DTEND;TZID=UTC:20220222T130000
DTSTAMP:20260422T174223
CREATED:20220123T111205Z
LAST-MODIFIED:20220222T122741Z
UID:13728-1645531200-1645534800@ritms.rutgers.edu
SUMMARY:CINJ – Cancer Health Equity Center of Excellence Distinguished Lecturer Series: Vanessa B. Sheppard\, PhD
DESCRIPTION:CINJ – Cancer Health Equity Center of Excellence Distinguished Lecturer Series: \nInvited Speaker: Vanessa B. Sheppard\, PhD\, Professor\, Theresa A. Thomas Memorial Chair in Cancer Prevention and Control; Associate Director\, Community Outreach Engagement and Health Disparities Massey Cancer Center; Department Chair & Professor\, Department of Health Behavior and Policy \nREGISTER HERE
URL:https://ritms.rutgers.edu/event/cinj-cancer-health-equity-center-of-excellence-distinguished-lecturer-series-vanessa-b-sheppard-phd/
END:VEVENT
BEGIN:VEVENT
DTSTART;TZID=UTC:20220222T150000
DTEND;TZID=UTC:20220222T160000
DTSTAMP:20260422T174223
CREATED:20220222T122737Z
LAST-MODIFIED:20220222T122741Z
UID:14013-1645542000-1645545600@ritms.rutgers.edu
SUMMARY:CINJ Cancer Prevention and Control Program
DESCRIPTION:CINJ Cancer Prevention and Control Program-A Scalable Informatics Platform for Data-Mining and Analytics\, David Foran\, PhD\, Chief Informatics Officer\, Rutgers CINJ.  Join via Zoom.
URL:https://ritms.rutgers.edu/event/cinj-cancer-prevention-and-control-program/
END:VEVENT
BEGIN:VEVENT
DTSTART;TZID=UTC:20220223T080000
DTEND;TZID=UTC:20220223T090000
DTSTAMP:20260422T174223
CREATED:20220218T121101Z
LAST-MODIFIED:20220223T122702Z
UID:13983-1645603200-1645606800@ritms.rutgers.edu
SUMMARY:RWJMS Pediatric Grand Rounds
DESCRIPTION:RWJMS Pediatric Grand Rounds-SAY HER NAME – Recognizing the contributions of Anarcha\, Lucy and Betsey to Medicine\,Veronica Maria Pimentel\, MD\, MS\, FACOG Trinity Health Of New England.
URL:https://ritms.rutgers.edu/event/rwjms-pediatric-grand-rounds/
END:VEVENT
BEGIN:VEVENT
DTSTART;TZID=UTC:20220223T090000
DTEND;TZID=UTC:20220223T100000
DTSTAMP:20260422T174223
CREATED:20220212T114039Z
LAST-MODIFIED:20220223T122702Z
UID:13915-1645606800-1645610400@ritms.rutgers.edu
SUMMARY:Rutgers Global Health Institute Seminar: “Solving the Puzzle of Cervical Cancer Control in Africa: Country by Country”
DESCRIPTION:Rutgers Global Health Institute Seminar: “Solving the Puzzle of Cervical Cancer Control in Africa: Country by Country” \nInvited Speaker \nD. Cristina Stefan\nInstitute of Global Health Equity Research\, University of Global Health Equity \nPre-register HERE! \n 
URL:https://ritms.rutgers.edu/event/rutgers-global-health-institute-seminar-solving-the-puzzle-of-cervical-cancer-control-in-africa-country-by-country/
END:VEVENT
BEGIN:VEVENT
DTSTART;TZID=UTC:20220223T100000
DTEND;TZID=UTC:20220223T113000
DTSTAMP:20260422T174223
CREATED:20220124T111059Z
LAST-MODIFIED:20220223T122702Z
UID:13733-1645610400-1645615800@ritms.rutgers.edu
SUMMARY:CEED 4th Annual Environmental Health Summit – Virtual Seminar Series: Climate Change and the Impacts to Maternal and Child Health
DESCRIPTION:CEED 4th Annual Environmental Health Summit – Virtual Seminar Series: Climate Change and the Impacts to Maternal and Child Health\nThis year\, Rutgers Center for Environmental Exposures and Disease in partnership with parents\, nonprofit leaders\, advocates\, policymakers\, academics\, health professionals and researchers is offering a series of webinars exploring the impact of environmental factors on Maternal and Child Health and Justice. This series introduces thought leaders and researchers\, offers the latest substantive information\, provides opportunities for discussion and recommends both policy actions and steps you can take personally to protect your health and the promote the health of your family and community. The sessions begin this Fall and continue through the Winter on select Wednesday’s from 10am-11:30am. \nRegister HERE to join the Conversation!
URL:https://ritms.rutgers.edu/event/ceed-4th-annual-environmental-health-summit-virtual-seminar-series-climate-change-and-the-impacts-to-maternal-and-child-health/
END:VEVENT
BEGIN:VEVENT
DTSTART;TZID=UTC:20220223T140000
DTEND;TZID=UTC:20220223T150000
DTSTAMP:20260422T174223
CREATED:20220126T111025Z
LAST-MODIFIED:20220223T122702Z
UID:13756-1645624800-1645628400@ritms.rutgers.edu
SUMMARY:CTSA Program Webinar Series
DESCRIPTION:CTSA Program Webinar Series–Register Here!
URL:https://ritms.rutgers.edu/event/ctsa-program-webinar-series-2/
END:VEVENT
BEGIN:VEVENT
DTSTART;TZID=UTC:20220223T160000
DTEND;TZID=UTC:20220223T170000
DTSTAMP:20260422T174223
CREATED:20220219T121130Z
LAST-MODIFIED:20220223T122702Z
UID:13999-1645632000-1645635600@ritms.rutgers.edu
SUMMARY:CINJ Grand Rounds “DNA-TG as a Novel and Modifiable Biomarker for Treatment Intensity of ALL Maintenance Therapy”
DESCRIPTION:CINJ Grand Rounds “DNA-TG as a Novel and Modifiable Biomarker for Treatment Intensity of ALL Maintenance Therapy” – Preregister here! \nInvited Speaker \nKjeld Schmiegelow\, MD\, DMSci\nProfessor in Pediatrics and Pediatric Oncology\nUniversity Hospital Rigshospitalet\nCopenhagen\, Denmark
URL:https://ritms.rutgers.edu/event/cinj-grand-rounds-dna-tg-as-a-novel-and-modifiable-biomarker-for-treatment-intensity-of-all-maintenance-therapy/
END:VEVENT
END:VCALENDAR