BEGIN:VCALENDAR
VERSION:2.0
PRODID:-//Institute for Translational Medicine and Science - ECPv6.15.16//NONSGML v1.0//EN
CALSCALE:GREGORIAN
METHOD:PUBLISH
X-WR-CALNAME:Institute for Translational Medicine and Science
X-ORIGINAL-URL:https://ritms.rutgers.edu
X-WR-CALDESC:Events for Institute for Translational Medicine and Science
REFRESH-INTERVAL;VALUE=DURATION:PT1H
X-Robots-Tag:noindex
X-PUBLISHED-TTL:PT1H
BEGIN:VTIMEZONE
TZID:UTC
BEGIN:STANDARD
TZOFFSETFROM:+0000
TZOFFSETTO:+0000
TZNAME:UTC
DTSTART:20210101T000000
END:STANDARD
END:VTIMEZONE
BEGIN:VEVENT
DTSTART;TZID=UTC:20220106T120000
DTEND;TZID=UTC:20220106T130000
DTSTAMP:20260422T163349
CREATED:20211222T095608Z
LAST-MODIFIED:20220106T095728Z
UID:13450-1641470400-1641474000@ritms.rutgers.edu
SUMMARY:CTSA Visiting Scholar Program
DESCRIPTION:CTSA Visiting Scholar Program-Post-traumatic stress disorder in ICU family caregivers: trajectories\, risk\, and association with patient health outcomes\, Blair Wendlandt\, MD\, University of North Carolina Chapel Hill. Register Here!
URL:https://ritms.rutgers.edu/event/ctsa-visiting-scholar-program-2/
END:VEVENT
BEGIN:VEVENT
DTSTART;TZID=UTC:20220107T120000
DTEND;TZID=UTC:20220107T130000
DTSTAMP:20260422T163349
CREATED:20220107T101424Z
LAST-MODIFIED:20220107T101427Z
UID:13602-1641556800-1641560400@ritms.rutgers.edu
SUMMARY:CINJ Trainee Seminar Series: “SOX4 and SMARCA4 Upregulate Glycolysis-driven Tumor Proliferation through HK2 in Triple Negative Breast Cancer”
DESCRIPTION:CINJ Trainee Seminar Series: “SOX4 and SMARCA4 Upregulate Glycolysis-driven Tumor Proliferation through HK2 in Triple Negative Breast Cancer”  – Register HERE!
URL:https://ritms.rutgers.edu/event/cinj-trainee-seminar-series-sox4-and-smarca4-upregulate-glycolysis-driven-tumor-proliferation-through-hk2-in-triple-negative-breast-cancer/
END:VEVENT
BEGIN:VEVENT
DTSTART;TZID=UTC:20220107T123000
DTEND;TZID=UTC:20220107T130000
DTSTAMP:20260422T163349
CREATED:20211208T091651Z
LAST-MODIFIED:20220107T101427Z
UID:13310-1641558600-1641560400@ritms.rutgers.edu
SUMMARY:Campus Communication Cafe – Free Virtual Mini Workshop Series for Rutgers staff\, instructors/faculty & postdocs
DESCRIPTION:Campus Communication Cafe – Free Virtual Mini Workshop Series for Rutgers staff\, instructors/faculty & postdocs \n“Giving & Receiving Feedback” \nREGISTER HERE! 
URL:https://ritms.rutgers.edu/event/campus-communication-cafe-free-virtual-mini-workshop-series-for-rutgers-staff-instructors-faculty-postdocs-4/
END:VEVENT
BEGIN:VEVENT
DTSTART;TZID=UTC:20220110T100000
DTEND;TZID=UTC:20220110T110000
DTSTAMP:20260422T163349
CREATED:20211216T095528Z
LAST-MODIFIED:20220110T102707Z
UID:13410-1641808800-1641812400@ritms.rutgers.edu
SUMMARY:NJ ACTS Regulatory Consult Cafés
DESCRIPTION:Do you need help regarding any facet of human subjects protection\, FDA requirements or other regulatory issues? Join the Regulatory Knowledge and Support Core Staff at its cafés. \nJoin via Zoom\nMeeting ID: 925 1379 9432\nPassword: 752512 \n  \nQuestions? Contact Anthony Gonzalez
URL:https://ritms.rutgers.edu/event/nj-acts-regulatory-consult-cafes/
END:VEVENT
BEGIN:VEVENT
DTSTART;TZID=UTC:20220111T090000
DTEND;TZID=UTC:20220111T170000
DTSTAMP:20260422T163349
CREATED:20211212T094203Z
LAST-MODIFIED:20220111T102524Z
UID:13363-1641891600-1641920400@ritms.rutgers.edu
SUMMARY:CINJ-Princeton University Annual Cancer Research Symposium
DESCRIPTION:CINJ-Princeton University Annual Cancer Research Symposium \nPlease join us for the second annual cancer research symposium jointly sponsored by Rutgers Cancer Institute of New Jersey and Princeton University. The goal of this symposium is to\nfacilitate inter-institutional collaborations between researchers. \nAgenda includes faculty presentations\, trainee talks\, and posters selected from printed abstracts.  Featured sessions focus on Cancer Genomics\, Cancer Metabolism and Tumor Microenvironment\,\nUnderstanding and Addressing Cancer Burden in the Population. \nPlease visit the Joint Annual Cancer Research Symposium for updates.
URL:https://ritms.rutgers.edu/event/cinj-princeton-university-annual-cancer-research-symposium/
END:VEVENT
BEGIN:VEVENT
DTSTART;TZID=UTC:20220111T090000
DTEND;TZID=UTC:20220111T173000
DTSTAMP:20260422T163349
CREATED:20220111T102521Z
LAST-MODIFIED:20220111T102524Z
UID:13625-1641891600-1641922200@ritms.rutgers.edu
SUMMARY:Rutgers CINJ and Princeton University Cancer Research Virtual Symposium
DESCRIPTION:Rutgers CINJ and Princeton University Cancer Research Virtual Symposium – Register here! View flyer for more info!
URL:https://ritms.rutgers.edu/event/rutgers-cinj-and-princeton-university-cancer-research-virtual-symposium/
END:VEVENT
BEGIN:VEVENT
DTSTART;TZID=UTC:20220111T130000
DTEND;TZID=UTC:20220111T140000
DTSTAMP:20260422T163349
CREATED:20211222T095608Z
LAST-MODIFIED:20220111T102524Z
UID:13451-1641906000-1641909600@ritms.rutgers.edu
SUMMARY:CTSA Visiting Scholar Program
DESCRIPTION:CTSA Visiting Scholar Program-Novel roles for L-type calcium channels in the cerebellum\, Aislinn Williams\, Ph.D\, University of Iowa.  Register Here!
URL:https://ritms.rutgers.edu/event/ctsa-visiting-scholar-program-3/
END:VEVENT
BEGIN:VEVENT
DTSTART;TZID=UTC:20220112T100000
DTEND;TZID=UTC:20220112T113000
DTSTAMP:20260422T163349
CREATED:20211213T094422Z
LAST-MODIFIED:20220112T102624Z
UID:13370-1641981600-1641987000@ritms.rutgers.edu
SUMMARY:CEED 4th Annual Environmental Health Summit – Virtual Seminar Series: Healthy Homes Lead Session
DESCRIPTION:CEED 4th Annual Environmental Health Summit – Virtual Seminar Series: Healthy Homes Lead Session\nThis year\, Rutgers Center for Environmental Exposures and Disease in partnership with parents\, nonprofit leaders\, advocates\, policymakers\, academics\, health professionals and researchers is offering a series of webinars exploring the impact of environmental factors on Maternal and Child Health and Justice. This series introduces thought leaders and researchers\, offers the latest substantive information\, provides opportunities for discussion and recommends both policy actions and steps you can take personally to protect your health and the promote the health of your family and community. The sessions begin this Fall and continue through the Winter on select Wednesday’s from 10am-11:30am. \nRegister HERE to join the Conversation!
URL:https://ritms.rutgers.edu/event/ceed-4th-annual-environmental-health-summit-virtual-seminar-series-healthy-homes-lead-session/
END:VEVENT
BEGIN:VEVENT
DTSTART;TZID=UTC:20220112T120000
DTEND;TZID=UTC:20220112T130000
DTSTAMP:20260422T163349
CREATED:20211222T095608Z
LAST-MODIFIED:20220112T102624Z
UID:13452-1641988800-1641992400@ritms.rutgers.edu
SUMMARY:CTSA Visiting Scholar Program
DESCRIPTION:CTSA Visiting Scholar Program-Improving outcomes and expanding the evidence base in acute cardiac care\, Thomas Metkus\, MD\, Johns Hopkins University School of Medicine. Register Here and View Flyer.
URL:https://ritms.rutgers.edu/event/ctsa-visiting-scholar-program-4/
END:VEVENT
BEGIN:VEVENT
DTSTART;TZID=UTC:20220112T160000
DTEND;TZID=UTC:20220112T170000
DTSTAMP:20260422T163349
CREATED:20211213T094422Z
LAST-MODIFIED:20220112T102624Z
UID:13371-1642003200-1642006800@ritms.rutgers.edu
SUMMARY:Research Resources Workshop Wednesday (R2W2) Series: University-Industry Partnerships
DESCRIPTION:Research Resources Workshop Wednesday (R2W2) Series: University-Industry Partnerships\, Speakers: Sacha Patera PhD\, Associate Vice President\, RU Corporate Engagement Center & Najoua Borkadi\, PhD\, Executive Director of Research Business Development – RBHS. Click here for more info. Join via Zoom.
URL:https://ritms.rutgers.edu/event/research-resources-workshop-wednesday-r2w2-series-university-industry-partnerships/
END:VEVENT
BEGIN:VEVENT
DTSTART;TZID=UTC:20220118T120000
DTEND;TZID=UTC:20220118T130000
DTSTAMP:20260422T163349
CREATED:20211221T095551Z
LAST-MODIFIED:20220118T104027Z
UID:13443-1642507200-1642510800@ritms.rutgers.edu
SUMMARY:Rutgers Center for Tobacco Studies Webinar
DESCRIPTION:Rutgers Center for Tobacco Studies Webinar-New Year\, New Products: How the e-cigarette and tobacco product landscape is changing in 2022. Panelists include: Julia Chen-Sankey\, PhD\, MPP\, Mary Hrywna\, PhD\, MPH\, Kevin R.J. Schroth\, JD\, Michael Steinberg\, MD\, MPH\, FACP. Register Here!
URL:https://ritms.rutgers.edu/event/rutgers-center-for-tobacco-studies-webinar/
END:VEVENT
BEGIN:VEVENT
DTSTART;TZID=UTC:20220118T120000
DTEND;TZID=UTC:20220118T130000
DTSTAMP:20260422T163349
CREATED:20220107T101425Z
LAST-MODIFIED:20220118T104027Z
UID:13603-1642507200-1642510800@ritms.rutgers.edu
SUMMARY:NJ ACTS Academy of Mentors Training Event
DESCRIPTION:NJ ACTS Academy of Mentors Training Event-How to Make the Most of a Mentoring Relationship\, M. Maral Mouradian\, MD\, Vice Chancellor for Faculty Development and Paul F. Weber\, MD\, RPh\, MBA – Associate Dean\, Continuing Medical Education\, RWJMS & NJMS. Register Here and View Flyer. Note: This event is open to faculty up to and including Associate Professors
URL:https://ritms.rutgers.edu/event/nj-acts-academy-of-mentors-training-event/
END:VEVENT
BEGIN:VEVENT
DTSTART;TZID=UTC:20220118T120000
DTEND;TZID=UTC:20220118T130000
DTSTAMP:20260422T163349
CREATED:20220113T102546Z
LAST-MODIFIED:20220118T104027Z
UID:13651-1642507200-1642510800@ritms.rutgers.edu
SUMMARY:RITMS Special Seminar – “Casual Inference in Human Genetics via Mendelian Randomization: Prospects and Challenges”
DESCRIPTION:RITMS Special Seminar – “Casual Inference in Human Genetics via Mendelian Randomization: Prospects and Challenges”\n \nInvited Speaker \nBenjamin F. Voight\, PhD\nAssociate Professor\nDepartment of Systems Pharmacology and Translational Therapeutics\nDepartment of Genetics\nUniversity of Pennsylvania – Perelman School of Medicine \nJOIN ZOOM CALL!\nMeeting ID: 349 225 0653\nPasscode: AnLab
URL:https://ritms.rutgers.edu/event/ritms-special-seminar-casual-inference-in-human-genetics-via-mendelian-randomization-prospects-and-challenges/
END:VEVENT
BEGIN:VEVENT
DTSTART;TZID=UTC:20220118T120000
DTEND;TZID=UTC:20220118T130000
DTSTAMP:20260422T163349
CREATED:20220113T102546Z
LAST-MODIFIED:20220118T104027Z
UID:13652-1642507200-1642510800@ritms.rutgers.edu
SUMMARY:RITMS Special Seminar
DESCRIPTION:RITMS Special Seminar-Causal Inference in Human Genetics via Mendelian Randomization: Prospects and Challenges\, Ben Voight\, PhD\,University of Pennsylvania – Perelman School of Medicine. Join via Zoom. View Flyer
URL:https://ritms.rutgers.edu/event/ritms-special-seminar/
END:VEVENT
BEGIN:VEVENT
DTSTART;TZID=UTC:20220119T080000
DTEND;TZID=UTC:20220119T090000
DTSTAMP:20260422T163349
CREATED:20211222T095609Z
LAST-MODIFIED:20220119T104140Z
UID:13453-1642579200-1642582800@ritms.rutgers.edu
SUMMARY:CTSA Visiting Scholar Program
DESCRIPTION:CTSA Visiting Scholar Program-Silent Infarction and Cerebral Small Vessel Disease: The Tip of the Iceberg\, Michelle Lin\, MD\, MPH\, Mayo Clinic Rochester. Register Here!
URL:https://ritms.rutgers.edu/event/ctsa-visiting-scholar-program-5/
END:VEVENT
BEGIN:VEVENT
DTSTART;TZID=UTC:20220119T160000
DTEND;TZID=UTC:20220119T170000
DTSTAMP:20260422T163349
CREATED:20220113T102546Z
LAST-MODIFIED:20220119T104141Z
UID:13653-1642608000-1642611600@ritms.rutgers.edu
SUMMARY:CINJ Grand Rounds: “Alcohol as a Carcinogen We Aren’t Discussing: Data Review and Policy Considerations”
DESCRIPTION:CINJ Grand Rounds: “Alcohol as a Carcinogen We Aren’t Discussing: Data Review and Policy Considerations” \nInvited Speaker \nNoelle LoConte\, MD\nAssociate Professor of Medicine\nUniversity of Wisconsin School of Medicine and Public Health and Carbone Cancer Center \nPre-register here!
URL:https://ritms.rutgers.edu/event/cinj-grand-rounds-alcohol-as-a-carcinogen-we-arent-discussing-data-review-and-policy-considerations/
END:VEVENT
BEGIN:VEVENT
DTSTART;TZID=UTC:20220120T150000
DTEND;TZID=UTC:20220120T160000
DTSTAMP:20260422T163349
CREATED:20220119T104138Z
LAST-MODIFIED:20220120T104157Z
UID:13690-1642690800-1642694400@ritms.rutgers.edu
SUMMARY:NJ ACTS Biostatistics and Epidemiology Workshop Series
DESCRIPTION:NJ ACTS Biostatistics and Epidemiology Workshop Series-Preparing for Research: An Introduction to QI & Research Study Designs and Sample Size Calculations\, Patricia Greenberg\, Rutgers. View Flyer and Register Here!
URL:https://ritms.rutgers.edu/event/nj-acts-biostatistics-and-epidemiology-workshop-series-3/
END:VEVENT
BEGIN:VEVENT
DTSTART;TZID=UTC:20220121T123000
DTEND;TZID=UTC:20220121T130000
DTSTAMP:20260422T163349
CREATED:20211222T095609Z
LAST-MODIFIED:20220121T105526Z
UID:13454-1642768200-1642770000@ritms.rutgers.edu
SUMMARY:Campus Communication Cafe – Free Virtual Mini Workshop Series for Rutgers staff\, instructors/faculty & postdocs
DESCRIPTION:Campus Communication Cafe – Free Virtual Mini Workshop Series for Rutgers staff\, instructors/faculty & postdocs \nTOPIC TBD\n \nREGISTER HERE! 
URL:https://ritms.rutgers.edu/event/campus-communication-cafe-free-virtual-mini-workshop-series-for-rutgers-staff-instructors-faculty-postdocs-5/
END:VEVENT
BEGIN:VEVENT
DTSTART;TZID=UTC:20220122T083000
DTEND;TZID=UTC:20220122T123000
DTSTAMP:20260422T163349
CREATED:20220119T104138Z
LAST-MODIFIED:20220122T105811Z
UID:13691-1642840200-1642854600@ritms.rutgers.edu
SUMMARY:COVID-19 Vaccine Clinic in Perth Amboy
DESCRIPTION:Rutgers Global Health Institute is collaborating with partner organizations to hold a COVID-19 vaccine clinic on Saturday\, January 22\, 2022\, from 8:30 a.m. to 12:30 p.m. in Perth Amboy\, New Jersey. \nThe clinic will offer Pfizer\, Moderna\, and Johnson & Johnson vaccines for individuals aged 5 and older. Booster doses are available for adults\, and booster recipients should bring their vaccination card. Minors must be accompanied by a parent or legal guardian. \nIglesia Ciudad de Refugio\, 436 Market Street\, Perth Amboy\, NJ\nAdvance registration is requested\, but walk-ins are welcome. Register online at tinyurl.com/IglesiaVaxClinic or call 732-672-7405. \nThis clinic is administered by Visiting Nurses Association of Central Jersey with the support of the New Jersey Department of Health\, City of Perth Amboy\, Iglesia Ciudad de Refugio\, and Rutgers Global Health Institute. The clinic is a component of the institute’s Equitable Recovery for New Jersey’s Small Businesses.
URL:https://ritms.rutgers.edu/event/covid-19-vaccine-clinic-in-perth-amboy/
END:VEVENT
BEGIN:VEVENT
DTSTART;TZID=UTC:20220122T133000
DTEND;TZID=UTC:20220122T140000
DTSTAMP:20260422T163349
CREATED:20211223T095536Z
LAST-MODIFIED:20220122T105811Z
UID:13468-1642858200-1642860000@ritms.rutgers.edu
SUMMARY:Center for Leading Innovation & Collaboration: Facilitating Clinical Research Through an Academic – Community Partnership: The Johns Hopkins Clinical Research Network (JHCRN)
DESCRIPTION:Join Dr. Adrian Sandra Dobs\, director of the Johns Hopkins Clinical Research Network and professor of Medicine and Oncology\, for a 20-minute live Zoom webinar on the topic of “Facilitating Clinical Research Through an Academic – Community Hospital Partnership: The Johns Hopkins Clinical Research Network”. This webinar is a follow-up to the 2021 spring CLIC-hosted Un-Meeting:\nExploring the Inclusion of Community Hospitals in Clinical Research. \nA 10-minute Q&A session will follow the presentation. \nEstablished in 2009\, the Johns Hopkins Clinical Research Network is a partnership between academic and community hospitals in the mid-Atlantic states. Their mission is to engage investigators and patients from health care systems in urban\, suburban\, and rural sites. \nPlease register in advance\, attendance is limited to 1000 registrants.
URL:https://ritms.rutgers.edu/event/center-for-leading-innovation-collaboration-facilitating-clinical-research-through-an-academic-community-partnership-the-johns-hopkins-clinical-research-network-jhcrn/
END:VEVENT
BEGIN:VEVENT
DTSTART;TZID=UTC:20220124T160000
DTEND;TZID=UTC:20220124T170000
DTSTAMP:20260422T163349
CREATED:20220119T104139Z
LAST-MODIFIED:20220124T111059Z
UID:13692-1643040000-1643043600@ritms.rutgers.edu
SUMMARY:CINJ Recruitment Lecture: “Safe Policy Learning through Extrapolation”
DESCRIPTION:CINJ Recruitment Lecture: “Safe Policy Learning through Extrapolation”   \nSpeaker\nEli Ben-Michael\, PhD\nPostdoctoral Fellow\nDepartment of Statistics and the Institute for Quantitative Social Science\nHarvard University \n JOIN CALL HERE! \nMeeting number (access code): 2622 838 5981\nMeeting password: NEvtMMcP665 \nJoin by phone: 1-650-429-3300
URL:https://ritms.rutgers.edu/event/cinj-recruitment-lecture-safe-policy-learning-through-extrapolation/
END:VEVENT
BEGIN:VEVENT
DTSTART;TZID=UTC:20220124T160000
DTEND;TZID=UTC:20220124T170000
DTSTAMP:20260422T163349
CREATED:20220121T105524Z
LAST-MODIFIED:20220124T111059Z
UID:13717-1643040000-1643043600@ritms.rutgers.edu
SUMMARY:NJ ACTS Team Science Core Seminar Series
DESCRIPTION:NJ ACTS Team Science Core Seminar Series-Strength in Numbers: Team Science and the CTSA\, John Buse MD\, PhD\, Director of the North Carolina Translational and Clinical Sciences Institute. Register Here!
URL:https://ritms.rutgers.edu/event/nj-acts-team-science-core-seminar-series/
END:VEVENT
BEGIN:VEVENT
DTSTART;TZID=UTC:20220126T100000
DTEND;TZID=UTC:20220126T113000
DTSTAMP:20260422T163349
CREATED:20211227T095535Z
LAST-MODIFIED:20220126T111026Z
UID:13489-1643191200-1643196600@ritms.rutgers.edu
SUMMARY:CEED 4th Annual Environmental Health Summit – Virtual Seminar Series: Air Pollution
DESCRIPTION:CEED 4th Annual Environmental Health Summit – Virtual Seminar Series: Air Pollution\nThis year\, Rutgers Center for Environmental Exposures and Disease in partnership with parents\, nonprofit leaders\, advocates\, policymakers\, academics\, health professionals and researchers is offering a series of webinars exploring the impact of environmental factors on Maternal and Child Health and Justice. This series introduces thought leaders and researchers\, offers the latest substantive information\, provides opportunities for discussion and recommends both policy actions and steps you can take personally to protect your health and the promote the health of your family and community. The sessions begin this Fall and continue through the Winter on select Wednesday’s from 10am-11:30am. \nRegister HERE to join the Conversation!
URL:https://ritms.rutgers.edu/event/ceed-4th-annual-environmental-health-summit-virtual-seminar-series-air-pollution/
END:VEVENT
BEGIN:VEVENT
DTSTART;TZID=UTC:20220126T130000
DTEND;TZID=UTC:20220126T143000
DTSTAMP:20260422T163349
CREATED:20211227T095535Z
LAST-MODIFIED:20220126T111026Z
UID:13490-1643202000-1643207400@ritms.rutgers.edu
SUMMARY:NJ ACTS Clinical Research Webinar Series
DESCRIPTION:NJ ACTS Clinical Research Webinar Series-Demystifying Decentralized Clinical Trials in Academic Research Centers\, Nadina Jose\, MD and Craig Lipset\, MBA\, Rutgers. View Flyer. Register Here.
URL:https://ritms.rutgers.edu/event/nj-acts-clinical-research-webinar-series-3/
END:VEVENT
BEGIN:VEVENT
DTSTART;TZID=UTC:20220126T140000
DTEND;TZID=UTC:20220126T150000
DTSTAMP:20260422T163349
CREATED:20220126T111023Z
LAST-MODIFIED:20220126T111026Z
UID:13753-1643205600-1643209200@ritms.rutgers.edu
SUMMARY:CTSA Program Webinar Series
DESCRIPTION:CTSA Program Webinar Series-Inlcuding NCTSA/CTSA Updates\, Common Metrics Intiative\, Climate Change Un-Meeting and CLIC Updates.  Register Here!
URL:https://ritms.rutgers.edu/event/ctsa-program-webinar-series/
END:VEVENT
BEGIN:VEVENT
DTSTART;TZID=UTC:20220126T160000
DTEND;TZID=UTC:20220126T170000
DTSTAMP:20260422T163349
CREATED:20211227T095535Z
LAST-MODIFIED:20220126T111026Z
UID:13491-1643212800-1643216400@ritms.rutgers.edu
SUMMARY:CINJ – Cancer Health Equity Center of Excellence Distinguished Lecturer Series: Mariana C. Stern\, PhD
DESCRIPTION:CINJ – Cancer Health Equity Center of Excellence Distinguished Lecturer Series \nInvited Speaker: Mariana C. Stern\, PhD\, Professor Population and Public Health Sciences & Urology\, Ira Goodman Chair in Cancer Research; Associate Director of Population Sciences\, Norris Comprehensive Cancer Center; Program Director\, Master degree Programs in Epidemiology; Program Director\, CaRE2 Health Equity Center \nREGISTER HERE
URL:https://ritms.rutgers.edu/event/cinj-cancer-health-equity-center-of-excellence-distinguished-lecturer-series-mariana-c-stern-phd/
END:VEVENT
BEGIN:VEVENT
DTSTART;TZID=UTC:20220127T113000
DTEND;TZID=UTC:20220127T124500
DTSTAMP:20260422T163349
CREATED:20220119T104139Z
LAST-MODIFIED:20220127T111345Z
UID:13693-1643283000-1643287500@ritms.rutgers.edu
SUMMARY:Using Genomic and Environmental Methods to Unravel Hypertension Health Disparities
DESCRIPTION:The School of Public Health is hosting a webinar at 11:30 a.m. on January 27\, 2022\, as part of its 21PHirst Signature Series\, for which the theme is “Racism Is A Public Health Crisis: A Call to Action.” \nThe webinar\, titled “Using Genomic and Environmental Methods to Unravel Hypertension Health Disparities\,” will feature a presentation by Jacquelyn Taylor\, a faculty member and researcher at Columbia University School of Nursing. Taylor is the Helen F. Petit Professor of Nursing as well as the founder and executive director of the school’s Center for Research on People of Color. She will discuss an unconventional research trajectory in hypertension genomics. She will highlight how mentorship\, pilot funding\, and interdisciplinary contributions to advancing science can lead to a career that helps determine important impacts and contributions to reducing health disparities. \nOnline via Zoom\nFree and open to the public. Advance registration required. For more information\, email sphinfo@sph.rutgers.edu.
URL:https://ritms.rutgers.edu/event/using-genomic-and-environmental-methods-to-unravel-hypertension-health-disparities/
END:VEVENT
BEGIN:VEVENT
DTSTART;TZID=UTC:20220127T140000
DTEND;TZID=UTC:20220127T150000
DTSTAMP:20260422T163349
CREATED:20211228T095554Z
LAST-MODIFIED:20220127T111345Z
UID:13501-1643292000-1643295600@ritms.rutgers.edu
SUMMARY:CTSA Visiting Scholar Program
DESCRIPTION:CTSA Visiting Scholar Program-Characterizing Chromatin Dynamics in Colorectal Cell Transformation\, Brooke R. Druliner\, Ph.D.\, Mayo Clinic Rochester. Register Here!
URL:https://ritms.rutgers.edu/event/ctsa-visiting-scholar-program-6/
END:VEVENT
BEGIN:VEVENT
DTSTART;TZID=UTC:20220127T140000
DTEND;TZID=UTC:20220127T150000
DTSTAMP:20260422T163349
CREATED:20211228T095554Z
LAST-MODIFIED:20220127T111345Z
UID:13500-1643292000-1643295600@ritms.rutgers.edu
SUMMARY:NJ ACTS Regulatory Consult Cafés
DESCRIPTION:Do you need help regarding any facet of human subjects protection\, FDA requirements or other regulatory issues? Join the Regulatory Knowledge and Support Core Staff at its cafés. \nJoin via Zoom\nMeeting ID: 964 4107 5926\nPassword: 043311 \nQuestions? Contact Anthony Gonzalez
URL:https://ritms.rutgers.edu/event/nj-acts-regulatory-consult-cafes-2/
END:VEVENT
BEGIN:VEVENT
DTSTART;TZID=UTC:20220128T080000
DTEND;TZID=UTC:20220128T170000
DTSTAMP:20260422T163349
CREATED:20211229T095729Z
LAST-MODIFIED:20220128T111057Z
UID:13507-1643356800-1643389200@ritms.rutgers.edu
SUMMARY:Global Health Seed Grant Proposal Due Today
DESCRIPTION:Global Health Seed Grant Proposal Due-Faculty from all Rutgers locations and academic disciplines are invited to apply for the 2022 grant cycle. Five projects of up to $10\,000 each will be awarded in either of the following two categories: 1) Education\, Training\, and Capacity Building or 2) Research. These projects must involve partnerships that directly impact the community experiencing inequity. Read More Here
URL:https://ritms.rutgers.edu/event/global-health-seed-grant-proposal-due-today/
END:VEVENT
END:VCALENDAR