BEGIN:VCALENDAR
VERSION:2.0
PRODID:-//Institute for Translational Medicine and Science - ECPv6.15.16//NONSGML v1.0//EN
CALSCALE:GREGORIAN
METHOD:PUBLISH
X-WR-CALNAME:Institute for Translational Medicine and Science
X-ORIGINAL-URL:https://ritms.rutgers.edu
X-WR-CALDESC:Events for Institute for Translational Medicine and Science
REFRESH-INTERVAL;VALUE=DURATION:PT1H
X-Robots-Tag:noindex
X-PUBLISHED-TTL:PT1H
BEGIN:VTIMEZONE
TZID:UTC
BEGIN:STANDARD
TZOFFSETFROM:+0000
TZOFFSETTO:+0000
TZNAME:UTC
DTSTART:20200101T000000
END:STANDARD
END:VTIMEZONE
BEGIN:VEVENT
DTSTART;VALUE=DATE:20211015
DTEND;VALUE=DATE:20211016
DTSTAMP:20260424T013703
CREATED:20210929T044233Z
LAST-MODIFIED:20211015T064115Z
UID:12360-1634256000-1634342399@ritms.rutgers.edu
SUMMARY:Rutgers Institute for Health\, Health Care Policy\, and Aging Research – IFH Grant Writing Workshop: Mobile/Digital Health Assessment & Intervention
DESCRIPTION:Rutgers Institute for Health\, Health Care Policy\, and Aging Research – IFH Grant Writing Workshop: Mobile/Digital Health Assessment & Intervention\nThe Institute for Health\, Health Care Policy\, and Aging Research (IFH) is pleased to announce a grant writing workshop targeted to talented faculty who are committed to developing and submitting an R-level funding application to NIH or similar agencies/foundations focused on mobile/digital health assessment and/or intervention. The workshop sessions will engage panels of Institute-affiliated\, RBHS and Rutgers faculty with experience in grant writing and peer review involving diverse research topics\, funding agencies\, and study sections\, in providing feedback on specific challenges for successfully negotiating the peer-reviewed grant system\, and crafting compelling applications\, targeted to workshop participants who are actively engaged in developing their own grant applications. \nSeminar Series Application Deadline: Friday\, October 15th\nDecision by: Friday\, October 22nd\nWorkshop Starts by: Wednesday\, November 3rd \nFor more information\, view flyer!
URL:https://ritms.rutgers.edu/event/rutgers-institute-for-health-health-care-policy-and-aging-research-ifh-grant-writing-workshop-mobile-digital-health-assessment-intervention/
END:VEVENT
BEGIN:VEVENT
DTSTART;TZID=UTC:20211018T130000
DTEND;TZID=UTC:20211018T140000
DTSTAMP:20260424T013703
CREATED:20211012T062700Z
LAST-MODIFIED:20211018T064317Z
UID:12551-1634562000-1634565600@ritms.rutgers.edu
SUMMARY:Child Health Institute of NJ Science Seminar
DESCRIPTION:Child Health Institute of NJ Science Seminar-Autism Spectrum Disorder: from Genetics to Mechanisms\, Maria Chahrour\, PhD\, Brain Institute University of Texas Southwestern Medical Center.  Join via Zoom.
URL:https://ritms.rutgers.edu/event/child-health-institute-of-nj-science-seminar/
END:VEVENT
BEGIN:VEVENT
DTSTART;TZID=UTC:20211018T170000
DTEND;TZID=UTC:20211018T183000
DTSTAMP:20260424T013703
CREATED:20210923T042822Z
LAST-MODIFIED:20211018T064317Z
UID:12280-1634576400-1634581800@ritms.rutgers.edu
SUMMARY:NJ ACTS Workforce Core Professional Training
DESCRIPTION:NJ ACTS Workforce Core Professional Training-Standing Out with an Engaging LinkedIn Profile. View Flyer and Register Here!
URL:https://ritms.rutgers.edu/event/nj-acts-workforce-core-professional-training-2/
END:VEVENT
BEGIN:VEVENT
DTSTART;TZID=UTC:20211019T120000
DTEND;TZID=UTC:20211019T130000
DTSTAMP:20260424T013703
CREATED:20201019T130530Z
LAST-MODIFIED:20201019T130530Z
UID:9827-1634644800-1634648400@ritms.rutgers.edu
SUMMARY:Center for COVID-19 Response and Pandemic Preparedness (CCRP2) Biomedical Research-In-Progress Series
DESCRIPTION:Center for COVID-19 Response and Pandemic Preparedness (CCRP2) Biomedical Research-In-Progress Series-Basic Science Project(s). Join via Webex.
URL:https://ritms.rutgers.edu/event/center-for-covid-19-response-and-pandemic-preparedness-ccrp2-biomedical-research-in-progress-series-14/
END:VEVENT
BEGIN:VEVENT
DTSTART;TZID=UTC:20211019T120000
DTEND;TZID=UTC:20211019T130000
DTSTAMP:20260424T013703
CREATED:20210919T035851Z
LAST-MODIFIED:20211019T064052Z
UID:12230-1634644800-1634648400@ritms.rutgers.edu
SUMMARY:Center for COVID-19 Response and Pandemic Preparedness (CCRP2) Biomedical Research-In-Progress Series
DESCRIPTION:Center for COVID-19 Response and Pandemic Preparedness (CCRP2) Biomedical Research-In-Progress Series-Basic Science Project(s). Join via Webex.
URL:https://ritms.rutgers.edu/event/center-for-covid-19-response-and-pandemic-preparedness-ccrp2-biomedical-research-in-progress-series-21/
END:VEVENT
BEGIN:VEVENT
DTSTART;TZID=UTC:20211019T160000
DTEND;TZID=UTC:20211019T170000
DTSTAMP:20260424T013703
CREATED:20211006T055630Z
LAST-MODIFIED:20211019T064053Z
UID:12456-1634659200-1634662800@ritms.rutgers.edu
SUMMARY:The Daniel Gorenstein Memorial Award and Lecture
DESCRIPTION:The Daniel Gorenstein Memorial Award and Lecture via Zoom  \nDr. Mark Gregory Robson\nBoard of Governors Distinguished Service Professor\nSchool of Environmental and Biological Sciences \n“Rutgers – A Public University in the Land Grant Tradition that Provides Opportunities: How We Can Teach Our Students to Address Critical Global Issues” \nRegister in advance: https://rutgers.zoom.us/webinar/register/WN_IwshU8CgSZONiM-QYFy1FA \nFor more information about the award and lecture\, please click here. \n 
URL:https://ritms.rutgers.edu/event/the-daniel-gorenstein-memorial-award-and-lecture/
END:VEVENT
BEGIN:VEVENT
DTSTART;TZID=UTC:20211020T120000
DTEND;TZID=UTC:20211020T140000
DTSTAMP:20260424T013703
CREATED:20210920T040306Z
LAST-MODIFIED:20211020T064123Z
UID:12233-1634731200-1634738400@ritms.rutgers.edu
SUMMARY:RBHS Office of Diversity and Inclusion: Implicit Bias & “Othering” Workshop
DESCRIPTION:RBHS Office of Diversity and Inclusion: Implicit Bias & “Othering” Workshop – Online Event View Flyer. Register HERE. \n \nSpeakers: James Hill\, Ph.D.\, New Jersey Medical School and Maria Soto-Greene\, M.D.\, MS-HPEd\, New Jersey Medical School \nDates: Wednesday\, June 30th\, 12-2pm & Wednesday\, October 20th\, 12-2pm
URL:https://ritms.rutgers.edu/event/rbhs-office-of-diversity-and-inclusion-implicit-bias-othering-workshop-2/
END:VEVENT
BEGIN:VEVENT
DTSTART;TZID=UTC:20211020T143000
DTEND;TZID=UTC:20211020T153000
DTSTAMP:20260424T013703
CREATED:20211015T064113Z
LAST-MODIFIED:20211020T064123Z
UID:12619-1634740200-1634743800@ritms.rutgers.edu
SUMMARY:CINJ Lecture: “Breast Cancer-It’s Personal: Personalizing Breast Oncologic Treatments”
DESCRIPTION:CINJ Lecture: “Breast Cancer-It’s Personal: Personalizing Breast Oncologic Treatments” – Join Webex! (Webex details below)\nSpeaker: Natalie Klar\, MD\, Hematology-Oncology Fellowship\, NYU Langone Medical Center \nJoin WEBEX\nMeeting number (access code): 2622 286 5719\nMeeting password: EDbc6x8EZD9 \nJoin by phone: 1-650-429-3300
URL:https://ritms.rutgers.edu/event/cinj-lecture-breast-cancer-its-personal-personalizing-breast-oncologic-treatments/
END:VEVENT
BEGIN:VEVENT
DTSTART;TZID=UTC:20211020T160000
DTEND;TZID=UTC:20211020T170000
DTSTAMP:20260424T013703
CREATED:20211015T064113Z
LAST-MODIFIED:20211020T064123Z
UID:12620-1634745600-1634749200@ritms.rutgers.edu
SUMMARY:Research Resources Workshop Wednesday Series: The Genomics Center
DESCRIPTION:Research Resources Workshop Wednesday Series: The Genomics Center – Join Zoom call here!\nSpeaker: Patricia Soteropoulos\, PhD\, Director\, The Genomics Center & Associate Professor\, Dept. of Microbiology\, Biochemistry and Molecular Genetics; New Jersey Medical School
URL:https://ritms.rutgers.edu/event/research-resources-workshop-wednesday-series-the-genomics-center/
END:VEVENT
BEGIN:VEVENT
DTSTART;TZID=UTC:20211021T093000
DTEND;TZID=UTC:20211021T102000
DTSTAMP:20260424T013703
CREATED:20211020T064120Z
LAST-MODIFIED:20211021T064150Z
UID:12683-1634808600-1634811600@ritms.rutgers.edu
SUMMARY:CHI Postoc Candidate Seminar: “Age Dependent Effects of Acute High Fat Exposure on Prefrontal and Amygdala Plasticity; Role of Neuromodulators.”
DESCRIPTION:CHI Postoc Candidate Seminar: “Age Dependent Effects of Acute High Fat Exposure on Prefrontal and Amygdala Plasticity; Role of Neuromodulators.”\nSpeaker: Kuldeep Shrivastava\, PhD Student in Neurobiology\, University of Haifa\, Israel \nJoin Zoom Meeting\nhttps://rutgers.zoom.us/j/92073402428?pwd=cU9Tb2tDTS9idXRVOUJhRzQ4TFgwUT09 \nMeeting ID: 920 7340 2428\nPassword: 703134 \n 
URL:https://ritms.rutgers.edu/event/chi-postoc-candidate-seminar-age-dependent-effects-of-acute-high-fat-exposure-on-prefrontal-and-amygdala-plasticity-role-of-neuromodulators/
END:VEVENT
BEGIN:VEVENT
DTSTART;TZID=UTC:20211021T130000
DTEND;TZID=UTC:20211021T140000
DTSTAMP:20260424T013703
CREATED:20210921T041607Z
LAST-MODIFIED:20211021T064150Z
UID:12244-1634821200-1634824800@ritms.rutgers.edu
SUMMARY:NJ ACTS Workforce Core\, NIH Fellowship Grant Writing Training Group
DESCRIPTION:NJ ACTS Workforce Core\, NIH Fellowship Grant Writing Training Group-Each week (9/23 through 12/2)\, fellows submit drafts of specific grant application components for peer review and comments by the grant coach. View Flyer and Register Here!
URL:https://ritms.rutgers.edu/event/nj-acts-workforce-core-nih-fellowship-grant-writing-training-group-5/
END:VEVENT
BEGIN:VEVENT
DTSTART;TZID=UTC:20211025T120000
DTEND;TZID=UTC:20211025T130000
DTSTAMP:20260424T013703
CREATED:20210522T182149Z
LAST-MODIFIED:20211025T065640Z
UID:11288-1635163200-1635166800@ritms.rutgers.edu
SUMMARY:NJ ACTS Special Populations 2021 Webinar Series
DESCRIPTION:NJ ACTS Special Populations 2021 Webinar Series-Theory\, Methods\, and Data Resources for Research onMitigation of Structural Racism and Discrimination inHealth Care and Social Policy\, Olga Jarrin Montaner. View Flyer and Join via Zoom.
URL:https://ritms.rutgers.edu/event/nj-acts-special-populations-2021-webinar-series-3/
END:VEVENT
BEGIN:VEVENT
DTSTART;TZID=UTC:20211025T120000
DTEND;TZID=UTC:20211025T130000
DTSTAMP:20260424T013703
CREATED:20210925T042700Z
LAST-MODIFIED:20211025T065640Z
UID:12295-1635163200-1635166800@ritms.rutgers.edu
SUMMARY:CINJ Recruitment Lecture
DESCRIPTION:CINJ Recruitment Lecture-Identifying Modifiable Exposures and Biomarkers for Reducing\, Dr. Tengteng Wang\, Harvard T.H. Chan School of Public Health. Join via Webex.
URL:https://ritms.rutgers.edu/event/cinj-recruitment-lecture-5/
END:VEVENT
BEGIN:VEVENT
DTSTART;TZID=UTC:20211026T140000
DTEND;TZID=UTC:20211026T150000
DTSTAMP:20260424T013703
CREATED:20211026T065533Z
LAST-MODIFIED:20211026T065537Z
UID:12925-1635256800-1635260400@ritms.rutgers.edu
SUMMARY:CINJ Recruitment Lecture: “When Covering and Discovering Are at Odds: How the Logic of Private Health Insurance Undercuts the Promise of Precision Medicine for People with Hereditary Cancer Risks”
DESCRIPTION:CINJ Recruitment Lecture: “When Covering and Discovering Are at Odds: How the Logic of Private Health Insurance Undercuts the Promise of Precision Medicine for People with Hereditary Cancer Risks”\nSpeaker: Emily Hammad Mrig\, PhD\, MA – Postdoctoral Fellow\, Department of Health Policy & Management\, Yale University \nWebex information: https://rutgers.webex.com/rutgers/j.php?MTID=m0a1994df4d113b429649e67f44e94111\nMeeting number (access code): 2622 185 0128\nMeeting password: ETreZpgm235 \nJoin by phone: 1-650-429-3300
URL:https://ritms.rutgers.edu/event/cinj-recruitment-lecture-when-covering-and-discovering-are-at-odds-how-the-logic-of-private-health-insurance-undercuts-the-promise-of-precision-medicine-for-people-with-hereditary-cancer-risk/
END:VEVENT
BEGIN:VEVENT
DTSTART;TZID=UTC:20211027T080000
DTEND;TZID=UTC:20211028T170000
DTSTAMP:20260424T013703
CREATED:20210928T042732Z
LAST-MODIFIED:20211027T065543Z
UID:12330-1635321600-1635440400@ritms.rutgers.edu
SUMMARY:Pathways to Success in Biopharma: Virtual Graduate Summit and Career Expo
DESCRIPTION:Pathways to Success in Biopharma: Virtual Graduate Summit and Career Expo – Want to hear from biopharmaceutical leaders and learn more about what it’s like to work in the industry? PhRMA will be hosting a two-day\, free virtual summit for graduate students\, postdoctoral trainees\, faculty\, PhRMA member companies and other community partners to learn about career pathways and increasing diverse talent within the industry. View flyer. \nSpace is limited. Register here!  \n 
URL:https://ritms.rutgers.edu/event/pathways-to-success-in-biopharma-virtual-graduate-summit-and-career-expo/
END:VEVENT
BEGIN:VEVENT
DTSTART;TZID=UTC:20211027T100000
DTEND;TZID=UTC:20211027T110000
DTSTAMP:20260424T013703
CREATED:20211015T064113Z
LAST-MODIFIED:20211027T065543Z
UID:12622-1635328800-1635332400@ritms.rutgers.edu
SUMMARY:Rutgers Princeton Center for Computational Cognitive Neuropsychiatry Seminar
DESCRIPTION:Rutgers Princeton Center for Computational Cognitive Neuropsychiatry Seminar – Speaker: Christopher Summerfield \nCCNP seminars are focused on discussing papers\, projects\, and ideas in computational cognitive neuropsychiatry\, in an informal\, collaborative atmosphere. Seminars typically are held every two weeks on Wednesdays from 10-11 am in Room D-203\, Psychiatry/UBHC building\, 671 Hoes Lane West\, Piscataway\, NJ. For those who cannot attend in person\, videoconferencing is available.
URL:https://ritms.rutgers.edu/event/rutgers-princeton-center-for-computational-cognitive-neuropsychiatry-seminar-12/
LOCATION:University Behavioral Healthcare\, 671 Hoes Lane\, Piscataway\, NJ\, 08854\, United States
END:VEVENT
BEGIN:VEVENT
DTSTART;TZID=UTC:20211027T100000
DTEND;TZID=UTC:20211027T113000
DTSTAMP:20260424T013703
CREATED:20211020T064121Z
LAST-MODIFIED:20211027T065543Z
UID:12684-1635328800-1635334200@ritms.rutgers.edu
SUMMARY:CEED 4th Annual Environmental Health Summit – Virtual Seminar Series: Food Choices for Healthy Babies
DESCRIPTION:CEED 4th Annual Environmental Health Summit – Virtual Seminar Series: Food Choices for Healthy Babies.\nThis year\, Rutgers Center for Environmental Exposures and Disease in partnership with parents\, nonprofit leaders\, advocates\, policymakers\, academics\, health professionals and researchers is offering a series of webinars exploring the impact of environmental factors on Maternal and Child Health and Justice. This series introduces thought leaders and researchers\, offers the latest substantive information\, provides opportunities for discussion and recommends both policy actions and steps you can take personally to protect your health and the promote the health of your family and community. The sessions begin this Fall and continue through the Winter on select Wednesday’s from 10am-11:30am. \nRegister HERE to join the Conversation!
URL:https://ritms.rutgers.edu/event/ceed-4th-annual-environmental-health-summit-virtual-seminar-series-food-choices-for-healthy-babies/
END:VEVENT
BEGIN:VEVENT
DTSTART;TZID=UTC:20211027T153000
DTEND;TZID=UTC:20211027T170000
DTSTAMP:20260424T013703
CREATED:20211026T065533Z
LAST-MODIFIED:20211027T065544Z
UID:12926-1635348600-1635354000@ritms.rutgers.edu
SUMMARY:CINJ Grand Rounds
DESCRIPTION:CINJ Grand Rounds\nRegister HERE!
URL:https://ritms.rutgers.edu/event/cinj-grand-rounds-6/
END:VEVENT
BEGIN:VEVENT
DTSTART;TZID=UTC:20211028T100000
DTEND;TZID=UTC:20211028T143000
DTSTAMP:20260424T013703
CREATED:20211028T065653Z
LAST-MODIFIED:20211028T065657Z
UID:12960-1635415200-1635431400@ritms.rutgers.edu
SUMMARY:INSPIRE Postdoctoral Annual Fall Training Event
DESCRIPTION:INSPIRE Postdoctoral Annual Fall Training Event-Transformative initiatives to diversify Rutgers faculty\, Dr. Henry Turner and Dr. Corinne Castro and INSPIRE Alumni\, now established faculty: “How the INSPIRE Program prepared me for success in academia.” View Flyer and Register Here!
URL:https://ritms.rutgers.edu/event/inspire-postdoctoral-annual-fall-training-event/
END:VEVENT
BEGIN:VEVENT
DTSTART;TZID=UTC:20211028T120000
DTEND;TZID=UTC:20211028T133000
DTSTAMP:20260424T013703
CREATED:20211015T064114Z
LAST-MODIFIED:20211028T065657Z
UID:12623-1635422400-1635427800@ritms.rutgers.edu
SUMMARY:Evaluating the Impact of Medicaid Waiver Policies on Safety Net and Disabled Populations
DESCRIPTION:The Institute for Health\, Health Care Policy\, and Aging Research is hosting a seminar at 12 p.m. on Thursday\, October 28\, as part of its Brown Bag Seminar Series. \n“Evaluating the Impact of Medicaid Waiver Policies on Safety Net and Disabled Populations” \nPresented by Sujoy Chakravarty\, Rutgers Center for State Health Policy \nSujoy Chakravarty is an associate research professor and health economist at the Rutgers Center for State Health Policy\, where his primary emphasis is on health economics and policy. His research examines the impact of state and federal policies relating to health care delivery and financing on patient access\, efficiency\, and quality of care. He also studies hospital markets\, focusing on the impact of changes in market structure\, competition policy\, and ownership mix on provider behavior and patient care. His recent research includes identifying hospital utilization patterns that indicate gaps in patient care and how such findings may inform the implementation of the New Jersey Medicaid ACO Demonstration program; examining the effect of Medicare Part D prescription drug policy on coverage and access with focus on racial disparities in access; and assessing and evaluating care management initiatives for patients with complex conditions who have high hospital utilization. He is also leading the evaluation of the ongoing New Jersey Comprehensive Waiver Demonstration that introduces significant changes in delivery of behavioral health services\, long-term services and supports\, and hospital payment structure aimed at improving patient care and population health. \nOnline via Zoom\nFree and open to the public. Click here to join via Zoom (meeting ID: 951 8141 4494; passcode: 636653). For more information\, contact Natalie Tuseth\, Institute for Health\, at 848-932-8413 or ntuseth@ifh.rutgers.edu.
URL:https://ritms.rutgers.edu/event/evaluating-the-impact-of-medicaid-waiver-policies-on-safety-net-and-disabled-populations/
END:VEVENT
BEGIN:VEVENT
DTSTART;TZID=UTC:20211028T130000
DTEND;TZID=UTC:20211028T140000
DTSTAMP:20260424T013703
CREATED:20210928T042733Z
LAST-MODIFIED:20211028T065657Z
UID:12331-1635426000-1635429600@ritms.rutgers.edu
SUMMARY:NJ ACTS Workforce Core\, NIH Fellowship Grant Writing Training Group
DESCRIPTION:NJ ACTS Workforce Core\, NIH Fellowship Grant Writing Training Group-Each week (9/23 through 12/2)\, fellows submit drafts of specific grant application components for peer review and comments by the grant coach. View Flyer and Register Here!
URL:https://ritms.rutgers.edu/event/nj-acts-workforce-core-nih-fellowship-grant-writing-training-group-6/
END:VEVENT
BEGIN:VEVENT
DTSTART;TZID=UTC:20211029T073000
DTEND;TZID=UTC:20211029T134500
DTSTAMP:20260424T013703
CREATED:20210929T044234Z
LAST-MODIFIED:20211029T071029Z
UID:12361-1635492600-1635515100@ritms.rutgers.edu
SUMMARY:27th GI Symposium: Gastrointestinal and Liver Disorders – Developments in the Last Year
DESCRIPTION:27th GI Symposium: Gastrointestinal and Liver Disorders – Developments in the Last Year – Live Online\nThis activity will highlight the latest diagnostic techniques\, management strategies and research developments that impact the care of patients with gastrointestinal and liver disorders. \nFor more info\, click HERE. \nFor event schedule\, click here!
URL:https://ritms.rutgers.edu/event/27th-gi-symposium-gastrointestinal-and-liver-disorders-developments-in-the-last-year/
END:VEVENT
BEGIN:VEVENT
DTSTART;TZID=UTC:20211029T090000
DTEND;TZID=UTC:20211029T150000
DTSTAMP:20260424T013703
CREATED:20211026T065534Z
LAST-MODIFIED:20211029T071029Z
UID:12927-1635498000-1635519600@ritms.rutgers.edu
SUMMARY:New Jersey Healthy Kids Initiative: Lessons Learned\, Future Opportunities Virtual Symposium
DESCRIPTION:Join a Symposium sponsored by the New Jersey Healthy Kids Initiative (a joint program of the Rutgers Institute for Food Nutrition and Health and the CHINJ)  on Friday\, October 29th\, 9AM-3PM. Register HERE! \nPlenary Speakers include: \nAnne Barnhill\, PhD\,  Berman Institute of Bioethics at Johns Hopkins University\nPamela Koch\, PhD\, Laurie M. Tisch Center for Food\, Education & Policy and Teachers College\, Columbia University\nChristina Economos\, PhD\, Friedman School of Nutrition Science and Policy\, Tufts Uinveristy \nAnd Panels on: \n“Child Health & Nutrition in the Community” (including our own Manny Jimenez\, MD) and “Child Health & Nutrition: Overview and Systems Approaches” \n  \n 
URL:https://ritms.rutgers.edu/event/new-jersey-healthy-kids-initiative-lessons-learned-future-opportunities-virtual-symposium/
END:VEVENT
BEGIN:VEVENT
DTSTART;VALUE=DATE:20211101
DTEND;VALUE=DATE:20211105
DTSTAMP:20260424T013703
CREATED:20211005T054219Z
LAST-MODIFIED:20211101T071148Z
UID:12435-1635724800-1636070399@ritms.rutgers.edu
SUMMARY:NIH Virtual Seminar on Program Funding and Grants Administration
DESCRIPTION:NIH Virtual Seminar on Program Funding and Grants Administration\nThis event is designed to demystify the NIH grant application\, review\, award and post-award processes and policies! Register today and be sure to check out all the networking opportunities taking place during the seminar\, including new ways to chat one on one with NIH and HHS experts\, interact with attendees\, and make the most of the seminar. \nIf you’re new to working with the NIH grants process as an investigator or administrator\, join us as we connect and collaborate! Here’s what to expect: \n\nFree registration!\nFour-day event with live sessions\, as well as an on-demand video library\nThree concurrent sessions designed around grants policies and programs\, including case studies and Q&As\nLive chat opportunities with NIH and HHS experts on the grants process\, policies\, and programs\nDownloadable resources from over 45 booths to reuse and/or share with others at your institution\n\nKeep tabs on the latest registration and agenda updates on the seminar website. \nQuestions? Send to NIHRegionalSeminars@nih.gov.
URL:https://ritms.rutgers.edu/event/nih-virtual-seminar-on-program-funding-and-grants-administration/
END:VEVENT
BEGIN:VEVENT
DTSTART;TZID=UTC:20211101T120000
DTEND;TZID=UTC:20211101T130000
DTSTAMP:20260424T013703
CREATED:20211002T051659Z
LAST-MODIFIED:20211101T071149Z
UID:12407-1635768000-1635771600@ritms.rutgers.edu
SUMMARY:NJ ACTS Special Populations Core 2021 Webinar Series
DESCRIPTION:NJ ACTS Special Populations Core 2021 Webinar Series-Theory\, Methods\, and Data Resources for Research on Mitigation of Structural Racism and Discrimination in Health Care and Social Policy\, Olga F. Jarrin Montaner\, PhD\, RN\, Rutgers School of Nursing. View Flyer and Join via Zoom.
URL:https://ritms.rutgers.edu/event/nj-acts-special-populations-core-2021-webinar-series-4/
END:VEVENT
BEGIN:VEVENT
DTSTART;TZID=UTC:20211101T170000
DTEND;TZID=UTC:20211101T180000
DTSTAMP:20260424T013703
CREATED:20211029T071024Z
LAST-MODIFIED:20211101T071149Z
UID:12971-1635786000-1635789600@ritms.rutgers.edu
SUMMARY:N3Community Forum
DESCRIPTION:N3Community Forum-RADx-UP: Developing an infrastructure to support community engaged research in a pandemic\, Giselle Corbie\, M.D.\, M.Sc.\, UNC.  Register Here! (Times on Registration form are Pacific – the meeting will be at 5pm EST)
URL:https://ritms.rutgers.edu/event/n3community-forum/
END:VEVENT
BEGIN:VEVENT
DTSTART;TZID=UTC:20211101T170000
DTEND;TZID=UTC:20211101T183000
DTSTAMP:20260424T013703
CREATED:20211002T051659Z
LAST-MODIFIED:20211101T071149Z
UID:12408-1635786000-1635791400@ritms.rutgers.edu
SUMMARY:NJ ACTS Workforce Core Professional Training
DESCRIPTION:NJ ACTS Workforce Core Professional Training-Share Your Science – Effective Graphical and Written Abstracts. View Flyer and Register Here!
URL:https://ritms.rutgers.edu/event/nj-acts-workforce-core-professional-training-3/
END:VEVENT
BEGIN:VEVENT
DTSTART;TZID=UTC:20211103T070000
DTEND;TZID=UTC:20211104T150000
DTSTAMP:20260424T013703
CREATED:20211005T054219Z
LAST-MODIFIED:20211103T071023Z
UID:12436-1635922800-1636038000@ritms.rutgers.edu
SUMMARY:2021 Global Neurosurgery Lyceum Series: Global Neurosurgical Update & Educational Summit
DESCRIPTION:2021 Global Neurosurgery Lyceum Series: Global Neurosurgical Update & Educational Summit – A VIRTUAL EVENT featuring presentations by multiple internationally renowned speakers.\nThis summit will provide a comprehensive overview of the current updates and emerging cutting-edge management strategies for multitude of neurosurgical conditions\, delivered by internationally renowned neurosurgeons\, and researchers.\nClick here for additional information.
URL:https://ritms.rutgers.edu/event/2021-global-neurosurgery-lyceum-series-global-neurosurgical-update-educational-summit/
END:VEVENT
BEGIN:VEVENT
DTSTART;TZID=UTC:20211103T153000
DTEND;TZID=UTC:20211103T170000
DTSTAMP:20260424T013703
CREATED:20211026T065534Z
LAST-MODIFIED:20211103T071023Z
UID:12928-1635953400-1635958800@ritms.rutgers.edu
SUMMARY:CINJ Grand Rounds
DESCRIPTION:CINJ Grand Rounds\nRegister HERE!
URL:https://ritms.rutgers.edu/event/cinj-grand-rounds-7/
END:VEVENT
BEGIN:VEVENT
DTSTART;TZID=UTC:20211104T120000
DTEND;TZID=UTC:20211104T130000
DTSTAMP:20260424T013703
CREATED:20211005T054219Z
LAST-MODIFIED:20211104T071118Z
UID:12437-1636027200-1636030800@ritms.rutgers.edu
SUMMARY:RITMS Visiting Professor Lecture Series
DESCRIPTION:RITMS Visiting Professor Lecture Series-Immune responses to SARS-CoV-2\nSpeaker: Akiko Iwasaki\, PhD  – Waldemar Von Zedtwitz Professor of Immunobiology and Molecular\, Cellular and Developmental Biology; Investigator\, Howard Hughes Medical Institute; Yale School of Medicine. \n12:00 – 1:00pm\nThursday\, November 4th\, 2021\nZoom Meeting ID: 349 225 0653\nPasscode: AnLab\n(https://rutgers.zoom.us/my/sa1510)
URL:https://ritms.rutgers.edu/event/ritms-visiting-professor-lecture-series-6/
END:VEVENT
END:VCALENDAR