BEGIN:VCALENDAR
VERSION:2.0
PRODID:-//Institute for Translational Medicine and Science - ECPv6.15.16//NONSGML v1.0//EN
CALSCALE:GREGORIAN
METHOD:PUBLISH
X-WR-CALNAME:Institute for Translational Medicine and Science
X-ORIGINAL-URL:https://ritms.rutgers.edu
X-WR-CALDESC:Events for Institute for Translational Medicine and Science
REFRESH-INTERVAL;VALUE=DURATION:PT1H
X-Robots-Tag:noindex
X-PUBLISHED-TTL:PT1H
BEGIN:VTIMEZONE
TZID:UTC
BEGIN:STANDARD
TZOFFSETFROM:+0000
TZOFFSETTO:+0000
TZNAME:UTC
DTSTART:20200101T000000
END:STANDARD
END:VTIMEZONE
BEGIN:VEVENT
DTSTART;TZID=UTC:20210921T090000
DTEND;TZID=UTC:20210921T140000
DTSTAMP:20260424T122124
CREATED:20210914T031051Z
LAST-MODIFIED:20210921T041607Z
UID:12179-1632214800-1632232800@ritms.rutgers.edu
SUMMARY:Third Annual CHINJ Scientific Retreat (Virtual)
DESCRIPTION:Third Annual CHINJ Scientific Retreat (Virtual)\nThe program will begin promptly at 9:00 AM with a Keynote Talk by Dr. Carlos Pato\, Dr. Michele Pato (Rutgers Univ) and Dr. Tim Bigdeli (SYNY Downstate)\nWe will then have a series of talks by our faculty and trainees and will conclude with a lunch reception on the 2nd floor atrium and patio.\nView flyer for more information. \nJoin via Zoom\nMeeting ID: 966 6947 7465\nPassword: KvwTD4  \n  \n 
URL:https://ritms.rutgers.edu/event/third-annual-chinj-scientific-retreat-virtual/
END:VEVENT
BEGIN:VEVENT
DTSTART;TZID=UTC:20210921T120000
DTEND;TZID=UTC:20210921T130000
DTSTAMP:20260424T122124
CREATED:20201019T130250Z
LAST-MODIFIED:20201019T130250Z
UID:9825-1632225600-1632229200@ritms.rutgers.edu
SUMMARY:Center for COVID-19 Response and Pandemic Preparedness (CCRP2) Biomedical Research-In-Progress Series
DESCRIPTION:Center for COVID-19 Response and Pandemic Preparedness (CCRP2) Biomedical Research-In-Progress Series-Translational Science Project(s). Join via Webex.
URL:https://ritms.rutgers.edu/event/center-for-covid-19-response-and-pandemic-preparedness-ccrp2-biomedical-research-in-progress-series-13/
END:VEVENT
BEGIN:VEVENT
DTSTART;TZID=UTC:20210921T120000
DTEND;TZID=UTC:20210921T130000
DTSTAMP:20260424T122124
CREATED:20210822T012550Z
LAST-MODIFIED:20210921T041607Z
UID:11986-1632225600-1632229200@ritms.rutgers.edu
SUMMARY:Center for COVID-19 Response and Pandemic Preparedness (CCRP2) Biomedical Research-In-Progress Series
DESCRIPTION:Center for COVID-19 Response and Pandemic Preparedness (CCRP2) Biomedical Research-In-Progress Series-Translational Science Project(s). Join via Webex.
URL:https://ritms.rutgers.edu/event/center-for-covid-19-response-and-pandemic-preparedness-ccrp2-biomedical-research-in-progress-series-20/
END:VEVENT
BEGIN:VEVENT
DTSTART;TZID=UTC:20210921T120000
DTEND;TZID=UTC:20210921T130000
DTSTAMP:20260424T122124
CREATED:20210921T041604Z
LAST-MODIFIED:20210921T041607Z
UID:12241-1632225600-1632229200@ritms.rutgers.edu
SUMMARY:Rutgers Princeton Center for Computational Cognitive Neuropsychiatry Faculty Candidate Seminar
DESCRIPTION:Rutgers Princeton Center for Computational Cognitive Neuropsychiatry Faculty Candidate Seminar-Striatal Dopamine and the Costs and Benefits of Cognitive Effort\, Andrew Westbrook\, PhD\, Department of Cognitive\, Linguistic\, and Psychological Sciences\, Brown University. Join via Zoom.
URL:https://ritms.rutgers.edu/event/rutgers-princeton-center-for-computational-cognitive-neuropsychiatry-faculty-candidate-seminar/
END:VEVENT
BEGIN:VEVENT
DTSTART;TZID=UTC:20210921T130000
DTEND;TZID=UTC:20210921T140000
DTSTAMP:20260424T122124
CREATED:20210822T012551Z
LAST-MODIFIED:20210921T041607Z
UID:11987-1632229200-1632232800@ritms.rutgers.edu
SUMMARY:NJ ACTS Special Populations Core 2021 Webinar Series
DESCRIPTION:NJ ACTS Special Populations Core 2021 Webinar Series-Using Genetics to Do Social Science: Inside the Social Genomics Revolution\, Dalton Conley\, PhD\, Princeton University. View Flyer and Join via Zoom.
URL:https://ritms.rutgers.edu/event/nj-acts-special-populations-core-2021-webinar-series-2/
END:VEVENT
BEGIN:VEVENT
DTSTART;TZID=UTC:20210921T140000
DTEND;TZID=UTC:20210921T153000
DTSTAMP:20260424T122124
CREATED:20210914T031052Z
LAST-MODIFIED:20210921T041607Z
UID:12180-1632232800-1632238200@ritms.rutgers.edu
SUMMARY:Office of Cancer Survivorship 25th Anniversary Director Series
DESCRIPTION:Office of Cancer Survivorship 25th Anniversary Director Series-Survivorship Healthcare Delivery: Challenges and Opportunities Integrating Primary Care\, Shawna Hudson\, PhD\, Rutgers.  Read more and Register Here.
URL:https://ritms.rutgers.edu/event/office-of-cancer-survivorship-25th-anniversary-director-series/
END:VEVENT
BEGIN:VEVENT
DTSTART;TZID=UTC:20210922T100000
DTEND;TZID=UTC:20210922T110000
DTSTAMP:20260424T122124
CREATED:20210921T041605Z
LAST-MODIFIED:20210922T042630Z
UID:12243-1632304800-1632308400@ritms.rutgers.edu
SUMMARY:Rutgers Princeton Center for Computational Cognitive Neuropsychiatry Seminar
DESCRIPTION:Rutgers Princeton Center for Computational Cognitive Neuropsychiatry Seminar-Cognitive dysfunction in depression: implications for risk\, maintenance\, and treatment\, Kean Hsu\, Georgetown University.*This will be a hybrid meeting. We will be meeting in person at Rutgers and also over Zoom* (Parking: You must register your car at this link in order to park at Rutgers – https://rudots.nupark.com/events/Events/Register/e9fedd25-ce95-4e76-99b9-1c0fa96efdfc)
URL:https://ritms.rutgers.edu/event/rutgers-princeton-center-for-computational-cognitive-neuropsychiatry-seminar-9/
LOCATION:Dean’s Conference Room\, 671 Hoes Lane West\, Piscataway\, NJ\, 08854
END:VEVENT
BEGIN:VEVENT
DTSTART;TZID=UTC:20210922T120000
DTEND;TZID=UTC:20210922T180000
DTSTAMP:20260424T122124
CREATED:20210823T012954Z
LAST-MODIFIED:20210922T042631Z
UID:11991-1632312000-1632333600@ritms.rutgers.edu
SUMMARY:NJ ACTS First Annual Scientific Symposium
DESCRIPTION:NJ ACTS First Annual Scientific Symposium-Translational Medicine and Science. The Symposium is open to all interested faculty\, postdocs\, students and others at Rutgers\, Princeton and NJIT. To register\, follow these links: https://redcap.rwjms.rutgers.edu/surveys/?s=JEMLRDFLC8    OR  https://redcap.link/u5e4bgcu \nThe two-day conference will feature sessions on four hot topics: \n\n\n\nInclusion\, Diversity ad Equity in AI and Machine Learning\nSocial and Environmental Determinants of Health in the Urban Setting\nClinical Trial Science after a Pandemic\nBiomarker Exploration in the Heterogeneity of Disease\n\n\n\nEach session will include a keynote by an internationally recognized researcher and two presentations from within the NJ ACTS community. Additional NJ ACTS research will be presented at the poster session. There will be additional opportunities for networking\, and for learning about the NJ ACTS cores and the resources and services they can provide. \nAbstracts: We invite abstracts from the Rutgers\, Princeton and NJIT research communities. Abstracts will be reviewed by the session co-chairs and two abstracts will be selected for presentations and others for the poster session.\nDeadline: The Abstract must be submitted by August 6 at midnight\, using the on-line form available at: \nhttps://redcap.rwjms.rutgers.edu/surveys/?s=WYAFNDLXER      OR    https://redcap.link/egzymo9t. \nQuestions? Email NJACTS@rbhs.rutgers.edu
URL:https://ritms.rutgers.edu/event/nj-acts-first-annual-symposium/
END:VEVENT
BEGIN:VEVENT
DTSTART;TZID=UTC:20210923T080000
DTEND;TZID=UTC:20210923T130000
DTSTAMP:20260424T122124
CREATED:20210824T014039Z
LAST-MODIFIED:20210923T042822Z
UID:12000-1632384000-1632402000@ritms.rutgers.edu
SUMMARY:NJ ACTS First Annual Symposium
DESCRIPTION:NJ ACTS First Annual Symposium-Translational Medicine and Science. The Symposium is open to all interested faculty\, postdocs\, students and others at Rutgers\, Princeton and NJIT. To register\, follow these links: https://redcap.rwjms.rutgers.edu/surveys/?s=JEMLRDFLC8    OR  https://redcap.link/u5e4bgcu \nThe two-day conference will feature sessions on four hot topics: \n\n\n\nInclusion\, Diversity ad Equity in AI and Machine Learning\nSocial and Environmental Determinants of Health in the Urban Setting\nClinical Trial Science after a Pandemic\nBiomarker Exploration in the Heterogeneity of Disease\n\n\n\nEach session will include a keynote by an internationally recognized researcher and two presentations from within the NJ ACTS community. Additional NJ ACTS research will be presented at the poster session. There will be additional opportunities for networking\, and for learning about the NJ ACTS cores and the resources and services they can provide. \nAbstracts: We invite abstracts from the Rutgers\, Princeton and NJIT research communities. Abstracts will be reviewed by the session co-chairs and two abstracts will be selected for presentations and others for the poster session.\nDeadline: The Abstract must be submitted by August 6 at midnight\, using the on-line form available at: \nhttps://redcap.rwjms.rutgers.edu/surveys/?s=WYAFNDLXER      OR    https://redcap.link/egzymo9t. \nQuestions? Email NJACTS@rbhs.rutgers.edu
URL:https://ritms.rutgers.edu/event/nj-acts-first-annual-symposium-2/
END:VEVENT
BEGIN:VEVENT
DTSTART;TZID=UTC:20210923T130000
DTEND;TZID=UTC:20210923T140000
DTSTAMP:20260424T122124
CREATED:20210824T014040Z
LAST-MODIFIED:20210923T042822Z
UID:12001-1632402000-1632405600@ritms.rutgers.edu
SUMMARY:NJ ACTS Workforce Core\, NIH Fellowship grant Writing Training Group
DESCRIPTION:NJ ACTS Workforce Core\, NIH Fellowship grant Writing Training Group-Each week (9/23 through 12/2)\, fellows submit drafts of specific grant application components for peer review and comments by the grant coach. View Flyer and Register Here!
URL:https://ritms.rutgers.edu/event/nj-acts-workforce-core-nih-fellowship-grant-writing-training-group/
END:VEVENT
BEGIN:VEVENT
DTSTART;TZID=UTC:20210928T130000
DTEND;TZID=UTC:20210928T143000
DTSTAMP:20260424T122124
CREATED:20210831T022628Z
LAST-MODIFIED:20210928T042733Z
UID:12066-1632834000-1632839400@ritms.rutgers.edu
SUMMARY:NJ ACTS Clinical Research Management Webinar Series “Increase your Scholarly Productivity: Tools and Skills for Academic Researchers”
DESCRIPTION:NJ ACTS Clinical Research Management Webinar Series “Increase your Scholarly Productivity: Tools and Skills for Academic Researchers”\nInterested in Expanding your Research Activities and Scholarship? Join an interactive session and learn how to adapt strategies to increase your scholarly productivity. This is part of a three-part training series geared to the advancement of clinical and translational research within our diverse workforce. \nFeatured Speakers\nLisa Palladino Kim\, MS – RBHS Lecturer\, MS in Clinical Research Management Program\nPamela M. Rothplez-Puglia\, EDD – Assistant Professor\, Department of Interdisciplinary Studies\nJ. Scott Parrott\, PhD – Director of SHP Methodology and Statistical Support Team\nYuane Jia\, PhD – Assistant Professor\, Department of Interdisciplinary Studies \nTO REGISTER\, CLICK HERE 
URL:https://ritms.rutgers.edu/event/nj-acts-clinical-research-webinar-series/
END:VEVENT
BEGIN:VEVENT
DTSTART;TZID=UTC:20210929T100000
DTEND;TZID=UTC:20210929T110000
DTSTAMP:20260424T122124
CREATED:20210929T044232Z
LAST-MODIFIED:20210929T044234Z
UID:12359-1632909600-1632913200@ritms.rutgers.edu
SUMMARY:Rutgers Princeton Center for Computational Cognitive Neuropsychiatry Seminar
DESCRIPTION:Rutgers Princeton Center for Computational Cognitive Neuropsychiatry Seminar-Executive contributions to reinforcement learning computations in humans\, Anne Collins\, University of California\, Berkeley. Join via Zoom.
URL:https://ritms.rutgers.edu/event/rutgers-princeton-center-for-computational-cognitive-neuropsychiatry-seminar-10/
END:VEVENT
BEGIN:VEVENT
DTSTART;TZID=UTC:20210929T120000
DTEND;TZID=UTC:20210929T140000
DTSTAMP:20260424T122124
CREATED:20210923T042820Z
LAST-MODIFIED:20210929T044234Z
UID:12277-1632916800-1632924000@ritms.rutgers.edu
SUMMARY:NJ ACTS Faculty Workshop
DESCRIPTION:NJ ACTS Faculty Workshop-Mentoring Biomedical PhD Students\, Topics and Case Studies led by Jim Millonig and Janet Adler\, Rutgers. View Flyer and Register Here!
URL:https://ritms.rutgers.edu/event/nj-acts-faculty-workshop/
END:VEVENT
BEGIN:VEVENT
DTSTART;TZID=UTC:20210930T130000
DTEND;TZID=UTC:20210930T140000
DTSTAMP:20260424T122124
CREATED:20210831T022628Z
LAST-MODIFIED:20210930T050104Z
UID:12067-1633006800-1633010400@ritms.rutgers.edu
SUMMARY:NJ ACTS Workforce Core\, NIH Fellowship grant Writing Training Group
DESCRIPTION:NJ ACTS Workforce Core\, NIH Fellowship grant Writing Training Group-Each week (9/23 through 12/2)\, fellows submit drafts of specific grant application components for peer review and comments by the grant coach. View Flyer and Register Here!
URL:https://ritms.rutgers.edu/event/nj-acts-workforce-core-nih-fellowship-grant-writing-training-group-2/
END:VEVENT
BEGIN:VEVENT
DTSTART;TZID=UTC:20210930T180000
DTEND;TZID=UTC:20210930T193000
DTSTAMP:20260424T122124
CREATED:20210914T031052Z
LAST-MODIFIED:20210930T050104Z
UID:12181-1633024800-1633030200@ritms.rutgers.edu
SUMMARY:The Rutgers Microbiome Program
DESCRIPTION:The Rutgers Microbiome Program-Despite 20th-century medical breakthroughs\, many diseases have increased alarmingly\, including obesity\, diabetes\, asthma\, allergies\, autism\, and autoimmune diseases\, with causes unknown and cures unavailable. Now\, it is clear that our microbiome\, the group of diverse microorganisms that lives in and on us\, plays a critical role in our health\, affecting metabolism\, immunity\, and even our brains. View Online Flyer and Register Here!
URL:https://ritms.rutgers.edu/event/the-rutgers-microbiome-program/
END:VEVENT
BEGIN:VEVENT
DTSTART;TZID=UTC:20211005T120000
DTEND;TZID=UTC:20211005T130000
DTSTAMP:20260424T122124
CREATED:20210910T025526Z
LAST-MODIFIED:20211005T054220Z
UID:12153-1633435200-1633438800@ritms.rutgers.edu
SUMMARY:NJ ACTS Special Populations Core Webinar Series
DESCRIPTION:NJ ACTS Special Populations Core Webinar Series-COVID Vaccine Prioritization In Low- and MiddleIncome Countries May Justifiably Depart From HighIncome Countries’ Age Priorities\, Nir Eyal\, Rutgers. View Flyer and Join via Zoom.
URL:https://ritms.rutgers.edu/event/nj-acts-special-populations-core-webinar-series/
END:VEVENT
BEGIN:VEVENT
DTSTART;TZID=UTC:20211005T170000
DTEND;TZID=UTC:20211005T183000
DTSTAMP:20260424T122124
CREATED:20210923T042820Z
LAST-MODIFIED:20211005T054220Z
UID:12278-1633453200-1633458600@ritms.rutgers.edu
SUMMARY:NJ ACTS Workforce Core Professional Training
DESCRIPTION:NJ ACTS Workforce Core Professional Training-Translational Research: Focus on Early Career Professionals. View Flyer for Event\, View Flyer for Training Series and Register Here!
URL:https://ritms.rutgers.edu/event/nj-acts-workforce-core-professional-training/
END:VEVENT
BEGIN:VEVENT
DTSTART;TZID=UTC:20211007T130000
DTEND;TZID=UTC:20211007T140000
DTSTAMP:20260424T122124
CREATED:20210907T024036Z
LAST-MODIFIED:20211006T055631Z
UID:12131-1633611600-1633615200@ritms.rutgers.edu
SUMMARY:NJ ACTS Workforce Core\, NIH Fellowship Grant Writing Training Group
DESCRIPTION:NJ ACTS Workforce Core\, NIH Fellowship Grant Writing Training Group-Each week (9/23 through 12/2)\, fellows submit drafts of specific grant application components for peer review and comments by the grant coach. View Flyer and Register Here!
URL:https://ritms.rutgers.edu/event/nj-acts-workforce-core-nih-fellowship-grant-writing-training-group-3/
END:VEVENT
BEGIN:VEVENT
DTSTART;TZID=UTC:20211008T074500
DTEND;TZID=UTC:20211008T163000
DTSTAMP:20260424T122124
CREATED:20210922T042629Z
LAST-MODIFIED:20211008T061249Z
UID:12264-1633679100-1633710600@ritms.rutgers.edu
SUMMARY:3rd Annual Stroke and Neurocritical Care Symposium: Extending the Windows and Saving Lives Beyond Expectation
DESCRIPTION:3rd Annual Stroke and Neurocritical Care Symposium: Extending the Windows and Saving Lives Beyond Expectation – A Virtual Event\nThis symposium will provide physicians and allied healthcare professionals with a comprehensive overview on the cutting-edge management for cerebrovascular diseases and neurocritical care including useful information on recognition and treatment of neurological emergencies. Topics to be covered include neurovascular surgery\, cerebrovascular emergencies and neurocritical care. In addition\, medical crossfire debates\, consisting of experts in the field\, will provide spirited discussions and debates on a particular clinical issue. \nClick HERE for more info and to register.\nFor the event schedule\, click here! \n  \n  \n 
URL:https://ritms.rutgers.edu/event/3rd-annual-stroke-and-neurocritical-care-symposium-extending-the-windows-and-saving-lives-beyond-expectation/
END:VEVENT
BEGIN:VEVENT
DTSTART;TZID=UTC:20211008T120000
DTEND;TZID=UTC:20211008T133000
DTSTAMP:20260424T122124
CREATED:20211008T061246Z
LAST-MODIFIED:20211008T061249Z
UID:12522-1633694400-1633699800@ritms.rutgers.edu
SUMMARY:Princeton Global Health Colloquium Fall 2021
DESCRIPTION:Princeton Global Health Colloquium Fall 2021-Pandemic and social inequalities: challenges for global health\, Dr. Nísia Trindade Lima\, President\, Oswaldo Cruz Foundation\, Ministry of Health\, Brazil. Register Here!
URL:https://ritms.rutgers.edu/event/princeton-global-health-colloquium-fall-2021/
END:VEVENT
BEGIN:VEVENT
DTSTART;TZID=UTC:20211011T110000
DTEND;TZID=UTC:20211011T140000
DTSTAMP:20260424T122124
CREATED:20211008T061246Z
LAST-MODIFIED:20211011T062522Z
UID:12523-1633950000-1633960800@ritms.rutgers.edu
SUMMARY:Inaugural TL1 Symposium – COVID-19: Innovation and Evolution of Research in the Pandemic
DESCRIPTION:Inaugural TL1 Symposium – COVID-19: Innovation and Evolution of Research in the Pandemic (Virtual)\nThis inaugural event will feature presentations from 10 pre and postdoctoral TL1 fellows from across the CTSA Program and will highlight fellows’ stories of innovation\, creativity and adaptability through the pandemic\, including the development of new research questions and adaptation of ongoing research.\nRegister Now! \n 
URL:https://ritms.rutgers.edu/event/inaugural-tl1-symposium-covid-19-innovation-and-evolution-of-research-in-the-pandemic/
END:VEVENT
BEGIN:VEVENT
DTSTART;TZID=UTC:20211011T120000
DTEND;TZID=UTC:20211011T130000
DTSTAMP:20260424T122124
CREATED:20211001T051347Z
LAST-MODIFIED:20211011T062522Z
UID:12399-1633953600-1633957200@ritms.rutgers.edu
SUMMARY:CINJ Recruitment Lecture
DESCRIPTION:CINJ Recruitment Lecture-Uncertainty in Illness: What We Know and How to Cope\, Ting Guan\, MS\, University of North Carolina at Chapel Hill School of Social Work.  Join via Webex. \n 
URL:https://ritms.rutgers.edu/event/cinj-recruitment-lecture-6/
END:VEVENT
BEGIN:VEVENT
DTSTART;TZID=UTC:20211012T110000
DTEND;TZID=UTC:20211012T160000
DTSTAMP:20260424T122124
CREATED:20210912T025837Z
LAST-MODIFIED:20211012T062702Z
UID:12168-1634036400-1634054400@ritms.rutgers.edu
SUMMARY:Pathways to Prevention (P2P) Workshop
DESCRIPTION:Pathways to Prevention (P2P) Workshop: Improving Rural Health Through Telehealth-Guided Provider-to-Provider Communication October 12-14\, 2021 (Virtual). Click HERE for more information and to register!
URL:https://ritms.rutgers.edu/event/pathways-to-prevention-p2p-workshop/
END:VEVENT
BEGIN:VEVENT
DTSTART;TZID=UTC:20211012T120000
DTEND;TZID=UTC:20211012T130000
DTSTAMP:20260424T122124
CREATED:20210912T025838Z
LAST-MODIFIED:20211012T062702Z
UID:12169-1634040000-1634043600@ritms.rutgers.edu
SUMMARY:NJ ACTS Special Populations Core 2021 Webinar Series
DESCRIPTION:NJ ACTS Special Populations Core 2021 Webinar Series-Environmental and Community Determinants of Health: Exploring Health Outcomes Using Area-Level Data\, Soko Setoguchi\, Rutgers RWJMS\, Bo Qin\, RWJMS\, Jennifer Miles\, Rutgers. View Flyer and Join via Zoom.
URL:https://ritms.rutgers.edu/event/nj-acts-special-populations-core-2021-webinar-series-3/
END:VEVENT
BEGIN:VEVENT
DTSTART;TZID=UTC:20211013T083000
DTEND;TZID=UTC:20211013T163000
DTSTAMP:20260424T122124
CREATED:20211012T062659Z
LAST-MODIFIED:20211013T064142Z
UID:12549-1634113800-1634142600@ritms.rutgers.edu
SUMMARY:Big Ten Academic Alliance Responsible Conduct of Research Virtual Conference
DESCRIPTION:Big Ten Academic Alliance Responsible Conduct of Research Virtual Conference-Inclusivity and Research Integrity: Who is Responsible\, this two-day conference will address some of the fundamental questions. Read more and Register Here!
URL:https://ritms.rutgers.edu/event/big-ten-academic-alliance-responsible-conduct-of-research-virtual-conference/
END:VEVENT
BEGIN:VEVENT
DTSTART;TZID=UTC:20211013T100000
DTEND;TZID=UTC:20211013T110000
DTSTAMP:20260424T122124
CREATED:20211013T064137Z
LAST-MODIFIED:20211013T064142Z
UID:12563-1634119200-1634122800@ritms.rutgers.edu
SUMMARY:Rutgers Princeton Center for Computational Cognitive Neuropsychiatry Seminar
DESCRIPTION:Rutgers Princeton Center for Computational Cognitive Neuropsychiatry Seminar-Neural computation underlying subjective value construction\, Kyo Iigaya\, Department of Psychiatry\, Columbia University Irving Medical Center. Join via Zoom.
URL:https://ritms.rutgers.edu/event/rutgers-princeton-center-for-computational-cognitive-neuropsychiatry-seminar-11/
END:VEVENT
BEGIN:VEVENT
DTSTART;TZID=UTC:20211013T100000
DTEND;TZID=UTC:20211013T140000
DTSTAMP:20260424T122124
CREATED:20210923T042821Z
LAST-MODIFIED:20211013T064142Z
UID:12279-1634119200-1634133600@ritms.rutgers.edu
SUMMARY:Translational Neuroscience Event
DESCRIPTION:Translational Neuroscience Event-TWO panel sessions to discuss Advances in the Treatment of Alzheimer’s Disease and CNS Models.  View Flyer and Register Here!
URL:https://ritms.rutgers.edu/event/translational-neuroscience-event/
END:VEVENT
BEGIN:VEVENT
DTSTART;TZID=UTC:20211013T110000
DTEND;TZID=UTC:20211013T160000
DTSTAMP:20260424T122124
CREATED:20210913T030015Z
LAST-MODIFIED:20211013T064142Z
UID:12173-1634122800-1634140800@ritms.rutgers.edu
SUMMARY:Pathways to Prevention (P2P) Workshop
DESCRIPTION:Pathways to Prevention (P2P) Workshop: Improving Rural Health Through Telehealth-Guided Provider-to-Provider Communication October 12-14\, 2021 (Virtual). Click HERE for more information and to register!
URL:https://ritms.rutgers.edu/event/pathways-to-prevention-p2p-workshop-2/
END:VEVENT
BEGIN:VEVENT
DTSTART;TZID=UTC:20211013T160000
DTEND;TZID=UTC:20211013T160000
DTSTAMP:20260424T122124
CREATED:20211013T064137Z
LAST-MODIFIED:20211013T064142Z
UID:12564-1634140800-1634140800@ritms.rutgers.edu
SUMMARY:CINJ Virtual Grand Rounds
DESCRIPTION:CINJ Virtual Grand Rounds-Young African American Women’s Breast Cancer Educational Needs & Concerns: A Community Driven Study\, Dr. Cheryl L. Knott\, University of Maryland Greenebaum Comprehensive Cancer Center. Register Here!
URL:https://ritms.rutgers.edu/event/cinj-virtual-grand-rounds/
END:VEVENT
BEGIN:VEVENT
DTSTART;TZID=UTC:20211014T083000
DTEND;TZID=UTC:20211014T163000
DTSTAMP:20260424T122124
CREATED:20211012T062700Z
LAST-MODIFIED:20211014T064057Z
UID:12550-1634200200-1634229000@ritms.rutgers.edu
SUMMARY:Big Ten Academic Alliance Responsible Conduct of Research Virtual Conference
DESCRIPTION:Big Ten Academic Alliance Responsible Conduct of Research Virtual Conference-Inclusivity and Research Integrity: Who is Responsible\, this two-day conference will address some of the fundamental questions. Read more and Register Here!
URL:https://ritms.rutgers.edu/event/big-ten-academic-alliance-responsible-conduct-of-research-virtual-conference-2/
END:VEVENT
END:VCALENDAR