BEGIN:VCALENDAR
VERSION:2.0
PRODID:-//Institute for Translational Medicine and Science - ECPv6.15.16//NONSGML v1.0//EN
CALSCALE:GREGORIAN
METHOD:PUBLISH
X-WR-CALNAME:Institute for Translational Medicine and Science
X-ORIGINAL-URL:https://ritms.rutgers.edu
X-WR-CALDESC:Events for Institute for Translational Medicine and Science
REFRESH-INTERVAL;VALUE=DURATION:PT1H
X-Robots-Tag:noindex
X-PUBLISHED-TTL:PT1H
BEGIN:VTIMEZONE
TZID:UTC
BEGIN:STANDARD
TZOFFSETFROM:+0000
TZOFFSETTO:+0000
TZNAME:UTC
DTSTART:20200101T000000
END:STANDARD
END:VTIMEZONE
BEGIN:VEVENT
DTSTART;TZID=UTC:20210727T120000
DTEND;TZID=UTC:20210727T130000
DTSTAMP:20260422T235031
CREATED:20201019T125641Z
LAST-MODIFIED:20201019T125641Z
UID:9821-1627387200-1627390800@ritms.rutgers.edu
SUMMARY:Center for COVID-19 Response and Pandemic Preparedness (CCRP2) Biomedical Research-In-Progress Series
DESCRIPTION:Center for COVID-19 Response and Pandemic Preparedness (CCRP2) Biomedical Research-In-Progress Series-Public Health Project(s). Join via Webex.
URL:https://ritms.rutgers.edu/event/center-for-covid-19-response-and-pandemic-preparedness-ccrp2-biomedical-research-in-progress-series-11/
END:VEVENT
BEGIN:VEVENT
DTSTART;TZID=UTC:20210727T120000
DTEND;TZID=UTC:20210727T130000
DTSTAMP:20260422T235031
CREATED:20210627T204310Z
LAST-MODIFIED:20210727T232525Z
UID:11562-1627387200-1627390800@ritms.rutgers.edu
SUMMARY:Center for COVID-19 Response and Pandemic Preparedness (CCRP2) Biomedical Research-In-Progress Series
DESCRIPTION:Center for COVID-19 Response and Pandemic Preparedness (CCRP2) Biomedical Research-In-Progress Series-Public Health Project(s). Join via Webex.
URL:https://ritms.rutgers.edu/event/center-for-covid-19-response-and-pandemic-preparedness-ccrp2-biomedical-research-in-progress-series-18/
END:VEVENT
BEGIN:VEVENT
DTSTART;TZID=UTC:20210727T180000
DTEND;TZID=UTC:20210727T190000
DTSTAMP:20260422T235031
CREATED:20210727T232524Z
LAST-MODIFIED:20210727T232525Z
UID:11808-1627408800-1627412400@ritms.rutgers.edu
SUMMARY:RWJUH Hamilton Virtual Event: “Oh\, My Aching Joints!”
DESCRIPTION:Robert Wood Johnson University Hospital Hamilton invites you to join this virtual event. Osteoarthritis of the hip and knee occurs when inflammation and injury cause cartilage to break down. Signs\, symptoms and treatment will be discussed with Hari P. Bezwada\, MD\, orthopedic surgeon. REGISTER \n 
URL:https://ritms.rutgers.edu/event/rwjuh-hamilton-virtual-event-oh-my-aching-joints/
END:VEVENT
BEGIN:VEVENT
DTSTART;TZID=UTC:20210728T100000
DTEND;TZID=UTC:20210728T110000
DTSTAMP:20260422T235031
CREATED:20210727T232524Z
LAST-MODIFIED:20210728T232830Z
UID:11809-1627466400-1627470000@ritms.rutgers.edu
SUMMARY:Spiritual Dimensions of Recovery
DESCRIPTION:Spiritual Dimensions of Recovery\nThrough a variety of virtual services\, this program aims to assist those impacted by the pandemic to better adjust to their new reality\, mitigate stress\, review options\, develop coping strategies and\, if needed\, find linkages to agencies\, programs\, and other resources in their community. REGISTER
URL:https://ritms.rutgers.edu/event/spiritual-dimensions-of-recovery/
END:VEVENT
BEGIN:VEVENT
DTSTART;TZID=UTC:20210730T120000
DTEND;TZID=UTC:20210730T130000
DTSTAMP:20260422T235031
CREATED:20210701T205734Z
LAST-MODIFIED:20210730T234454Z
UID:11630-1627646400-1627650000@ritms.rutgers.edu
SUMMARY:Rutgers Cancer Institute Trainee Seminar Series
DESCRIPTION:Rutgers Cancer Institute Trainee Seminar Series-TBD. Pre-register here!
URL:https://ritms.rutgers.edu/event/rutgers-cancer-institute-trainee-seminar-series-6/
END:VEVENT
BEGIN:VEVENT
DTSTART;TZID=UTC:20210803T110000
DTEND;TZID=UTC:20210803T123000
DTSTAMP:20260422T235031
CREATED:20210728T232828Z
LAST-MODIFIED:20210803T001207Z
UID:11825-1627988400-1627993800@ritms.rutgers.edu
SUMMARY:N3C Orientation Session A
DESCRIPTION:Join a live training session for the N3C Data Enclave. This session is for those who want to learn about N3C\, as well as how to engage with project teams and access the data. \nSession A: \n\nProvides a general overview of N3C\, including goals\, organization and community resources.\nIntroduces the 3 data tiers available and important considerations for research driven by the data harmonization process.\nDiscusses resources for training and help\, as well as the Data Use Request (DUR) process required for researcher access.\n\nTo register\, click here!
URL:https://ritms.rutgers.edu/event/n3c-orientation-session-a/
END:VEVENT
BEGIN:VEVENT
DTSTART;TZID=UTC:20210804T140000
DTEND;TZID=UTC:20210804T151500
DTSTAMP:20260422T235031
CREATED:20210728T232828Z
LAST-MODIFIED:20210804T001111Z
UID:11826-1628085600-1628090100@ritms.rutgers.edu
SUMMARY:Advanced Research Projects Agency for Health (ARPA-H) Listening Session
DESCRIPTION:Advanced Research Projects Agency for Health (ARPA-H) Listening Session-This session will focus on biomedical and translational research and will include remarks by NCATS Acting Director Dr. Joni Rutter. Register to attend and share this email with colleagues who also may be interested in joining. You can learn more about the proposed ARPA-H on NIH’s website.
URL:https://ritms.rutgers.edu/event/advanced-research-projects-agency-for-health-arpa-h-listening-session/
END:VEVENT
BEGIN:VEVENT
DTSTART;TZID=UTC:20210805T120000
DTEND;TZID=UTC:20210805T130000
DTSTAMP:20260422T235031
CREATED:20210706T211409Z
LAST-MODIFIED:20210805T001045Z
UID:11664-1628164800-1628168400@ritms.rutgers.edu
SUMMARY:RITMS Visiting Professor Lecture Series
DESCRIPTION:RITMS Visiting Professor Lecture Series-Imaging Cell Motility During Wound Repair\, Anna Huttenlocher\, University of Wisconsin‐Madison. View Flyer and Join via Zoom.
URL:https://ritms.rutgers.edu/event/ritms-visiting-professor-lecture-series-4/
END:VEVENT
BEGIN:VEVENT
DTSTART;TZID=UTC:20210806T120000
DTEND;TZID=UTC:20210806T130000
DTSTAMP:20260422T235031
CREATED:20210707T211226Z
LAST-MODIFIED:20210806T001214Z
UID:11686-1628251200-1628254800@ritms.rutgers.edu
SUMMARY:Rutgers Cancer Institute Trainee Seminar Series
DESCRIPTION:Rutgers Cancer Institute Trainee Seminar Series-TBD. Pre-register here!
URL:https://ritms.rutgers.edu/event/rutgers-cancer-institute-trainee-seminar-series-7/
END:VEVENT
BEGIN:VEVENT
DTSTART;TZID=UTC:20210812T120000
DTEND;TZID=UTC:20210812T120000
DTSTAMP:20260422T235031
CREATED:20210804T001110Z
LAST-MODIFIED:20210812T005653Z
UID:11865-1628769600-1628769600@ritms.rutgers.edu
SUMMARY:Big Ten Cancer Research Consortium Grand Rounds
DESCRIPTION:Big Ten Cancer Research Consortium Grand Rounds- Rapid Relapse Triple-Negative Breast Cancer: Genomics\, Social Determinants of Health\, and Models of Metastasis\, Daniel Stover\, Ohio State\, Online\, Register Here
URL:https://ritms.rutgers.edu/event/big-ten-cancer-research-consortium-grand-rounds/
END:VEVENT
BEGIN:VEVENT
DTSTART;TZID=UTC:20210812T130000
DTEND;TZID=UTC:20210812T140000
DTSTAMP:20260422T235031
CREATED:20210810T004503Z
LAST-MODIFIED:20210812T005653Z
UID:11903-1628773200-1628776800@ritms.rutgers.edu
SUMMARY:Cancer Etiology and Outcome
DESCRIPTION:Cancer Etiology and Outcome- Body Fatness and mTOR Pathway Activation in Breast Cancer Etiology and Outcome\, Ting-Yuan David Cheng\, University of Florida\, Online\, Register Here
URL:https://ritms.rutgers.edu/event/cancer-etiology-and-outcome/
END:VEVENT
BEGIN:VEVENT
DTSTART;TZID=UTC:20210812T150000
DTEND;TZID=UTC:20210812T160000
DTSTAMP:20260422T235031
CREATED:20210713T212641Z
LAST-MODIFIED:20210812T005653Z
UID:11713-1628780400-1628784000@ritms.rutgers.edu
SUMMARY:NJ ACTS Live Webinar – Responding to the Environmental Health Concerns of Communities: Primer for Researchers
DESCRIPTION:NJ ACTS Live Webinar – Responding to the Environmental Health Concerns of Communities: Primer for Researchers. View flyer. Register HERE!\nSpeakers: Nancy Fiedler\, Ph.D.; Robert Laumbach\, M.D.\, M.P.H.\, C.I.H.; Jaclyn Skye Kelty\, Ph.D. \nThis session will provide researchers and trainees with the do’s and don’ts of community-based participatory research (CBPR) and highlight successful research initiatives with communities across the globe\, nation\, and within NJ.
URL:https://ritms.rutgers.edu/event/nj-acts-live-webinar-responding-to-the-environmental-health-concerns-of-communities-primer-for-researchers/
END:VEVENT
BEGIN:VEVENT
DTSTART;TZID=UTC:20210818T120000
DTEND;TZID=UTC:20210818T130000
DTSTAMP:20260422T235031
CREATED:20210728T232829Z
LAST-MODIFIED:20210818T012527Z
UID:11827-1629288000-1629291600@ritms.rutgers.edu
SUMMARY:Trial Innovation Network Collaboration Webinar “Dissemination: A Critical Component of the Research Process”
DESCRIPTION:Trial Innovation Network Collaboration Webinar “Dissemination: A Critical Component of the Research Process” – REGISTER! \nThis webinar will discuss why dissemination is a critical component of the research process\, provide tools for effective strategies and highlight examples\, including disseminating research findings to research participants.\nPresenter: Shari Barkin\, MD\, MSHS
URL:https://ritms.rutgers.edu/event/trial-innovation-network-collaboration-webinar-dissemination-a-critical-component-of-the-research-process/
END:VEVENT
BEGIN:VEVENT
DTSTART;TZID=UTC:20210824T120000
DTEND;TZID=UTC:20210824T130000
DTSTAMP:20260422T235031
CREATED:20201019T130020Z
LAST-MODIFIED:20201019T130020Z
UID:9823-1629806400-1629810000@ritms.rutgers.edu
SUMMARY:Center for COVID-19 Response and Pandemic Preparedness (CCRP2) Biomedical Research-In-Progress Series
DESCRIPTION:Center for COVID-19 Response and Pandemic Preparedness (CCRP2) Biomedical Research-In-Progress Series-Basic Science Project(s). Join via Webex.
URL:https://ritms.rutgers.edu/event/center-for-covid-19-response-and-pandemic-preparedness-ccrp2-biomedical-research-in-progress-series-12/
END:VEVENT
BEGIN:VEVENT
DTSTART;TZID=UTC:20210824T120000
DTEND;TZID=UTC:20210824T130000
DTSTAMP:20260422T235031
CREATED:20210725T231414Z
LAST-MODIFIED:20210824T014040Z
UID:11773-1629806400-1629810000@ritms.rutgers.edu
SUMMARY:Center for COVID-19 Response and Pandemic Preparedness (CCRP2) Biomedical Research-In-Progress Series
DESCRIPTION:Center for COVID-19 Response and Pandemic Preparedness (CCRP2) Biomedical Research-In-Progress Series-Basic Science Project(s). Join via Webex.
URL:https://ritms.rutgers.edu/event/center-for-covid-19-response-and-pandemic-preparedness-ccrp2-biomedical-research-in-progress-series-19/
END:VEVENT
BEGIN:VEVENT
DTSTART;TZID=UTC:20210827T080000
DTEND;TZID=UTC:20210827T120000
DTSTAMP:20260422T235031
CREATED:20210820T012559Z
LAST-MODIFIED:20210827T015602Z
UID:11976-1630051200-1630065600@ritms.rutgers.edu
SUMMARY:RCN Faculty-to-Faculty Mentoring Program Application Due Today
DESCRIPTION:RCN Faculty-to-Faculty Mentoring Program Application Due Today-Applications for the 2021-22 Rutgers Connection Network (RCN) Mentoring Program are due today. Learn more and apply online (approximately 10 minutes to complete application) https://diversity.rutgers.edu/rcnmp  Contact Yvonne Gonzalez directly with any questions at: yvonneg@rutgers.edu.
URL:https://ritms.rutgers.edu/event/rcn-faculty-to-faculty-mentoring-program-application-due-today/
END:VEVENT
BEGIN:VEVENT
DTSTART;TZID=UTC:20210827T130000
DTEND;TZID=UTC:20210827T143000
DTSTAMP:20260422T235031
CREATED:20210817T011509Z
LAST-MODIFIED:20210827T015602Z
UID:11957-1630069200-1630074600@ritms.rutgers.edu
SUMMARY:Center for Environmental Exposures and Disease Community Engagement Core Workshop
DESCRIPTION:Center for Environmental Exposures and Disease Community Engagement Core Workshop-Infographic Development Workshop\, Wendy Gutschow\, University of Southern California. Register Here!
URL:https://ritms.rutgers.edu/event/center-for-environmental-exposures-and-disease-community-engagement-core-workshop/
END:VEVENT
BEGIN:VEVENT
DTSTART;VALUE=DATE:20210903
DTEND;VALUE=DATE:20210904
DTSTAMP:20260422T235031
CREATED:20210826T014125Z
LAST-MODIFIED:20210903T022531Z
UID:12020-1630627200-1630713599@ritms.rutgers.edu
SUMMARY:2021 RUCARES Autism Conference Call for Oral and Poster Abstract Submissions DEADLINE EXTENDED
DESCRIPTION:***Submission Deadline Extended to Friday\, September 3\, 2021*** \n2021 RUCARES Autism Conference Call for Oral and Poster Abstract Submissions \nThe Rutgers University Center for Autism Research\, Education\, and Services (RUCARES)\, a new center of the Brain Health Institute\, invites Rutgers investigators and clinicians to submit abstracts of their research or clinical innovations for consideration as oral or poster presentations at our first annual symposium\, which will be held at the Rutgers University Inn and Conference Center (178 Ryders Lane; New Brunswick\, NJ 08901) on Thursday\, October 28\, 2021. Currently\, we anticipate a fully in-person conference\, subject to current university guidelines. However\, we will switch to a virtual meeting if conditions and guidelines require such a change. \nOne major goal of the symposium is to bring together autism researchers\, research trainees\, educators\, and clinicians from across Rutgers campuses\, colleges\, units\, and departments to share information on their research and clinical programs in the hope of stimulating future collaboration\, coordination\, and integration. The event will feature selected brief oral presentations\, poster sessions\, and a mid-day plenary presentation by a nationally recognized autism investigator. As such\, we encourage you and your students to submit abstracts that provide an overview or representative sample of your work. \nSubmissions should include the following: \nTitle:\n Preferred presentation format: Oral or poster presentation (format cannot be guaranteed). Please let us know if you want your abstract to be considered for a poster if you are not selected for an oral presentation.\nAuthors’ names and email addresses: with the presenting author listed in bold.\nAbstract:  Abstracts should: (a) be limited to 350 words; (b) begin with a sentence stating why the topic is important; (c) then briefly describe the study design\, methods\, and results; and (d) end with the general conclusion\, relevance\, or potential impact. \nPlease send the above information by Friday\, September 3\, 2021 to rucares@bhi.rutgers.edu.
URL:https://ritms.rutgers.edu/event/2021-rucares-autism-conference-call-for-oral-and-poster-abstract-submissions-deadline-extended/
END:VEVENT
BEGIN:VEVENT
DTSTART;TZID=UTC:20210913T143000
DTEND;TZID=UTC:20210913T153000
DTSTAMP:20260422T235031
CREATED:20210814T005521Z
LAST-MODIFIED:20210913T030015Z
UID:11929-1631543400-1631547000@ritms.rutgers.edu
SUMMARY:NJ ACTS Team Science Core Special Seminar Series
DESCRIPTION:NJ ACTS Team Science Core Special Seminar Series– Secrets of Successful Teamwork: What Can Academia Learn from Non-Academia? Lessons from a NASA Space Suit Designer. View Flyer and Join via Zoom.
URL:https://ritms.rutgers.edu/event/nj-acts-team-science-core-special-seminar-series/
END:VEVENT
BEGIN:VEVENT
DTSTART;TZID=UTC:20210914T120000
DTEND;TZID=UTC:20210914T130000
DTSTAMP:20260422T235031
CREATED:20210914T031050Z
LAST-MODIFIED:20210914T031055Z
UID:12178-1631620800-1631624400@ritms.rutgers.edu
SUMMARY:Molecular Biology and Biochemistry Fall 2021 Seminar Series
DESCRIPTION:Molecular Biology and Biochemistry Fall 2021 Seminar Series-Dynamics of Notch-dependent transcriptional bursting in its native context\, ChangHwan Lee\, PhD\, University of Albany. View Flyer and Join via Zoom.
URL:https://ritms.rutgers.edu/event/molecular-biology-and-biochemistry-fall-2021-seminar-series/
END:VEVENT
BEGIN:VEVENT
DTSTART;TZID=UTC:20210914T150000
DTEND;TZID=UTC:20210914T160000
DTSTAMP:20260422T235031
CREATED:20210901T022614Z
LAST-MODIFIED:20210914T031056Z
UID:12097-1631631600-1631635200@ritms.rutgers.edu
SUMMARY:CINJ Recruitment Lecture
DESCRIPTION:CINJ Recruitment Lecture-Harnessing DNA Repair Deficiencies and Immunostimulatory Signals in Colorectal Cancer\, Janie Yue Zhang\, Rutgers\, Online\, Register Here
URL:https://ritms.rutgers.edu/event/cinj-recruitment-lecture-3/
END:VEVENT
BEGIN:VEVENT
DTSTART;TZID=UTC:20210915T100000
DTEND;TZID=UTC:20210915T110000
DTSTAMP:20260422T235031
CREATED:20210911T025545Z
LAST-MODIFIED:20210915T032845Z
UID:12162-1631700000-1631703600@ritms.rutgers.edu
SUMMARY:Rutgers Princeton Center for Computational Cognitive Neuropsychiatry Seminar
DESCRIPTION:Rutgers Princeton Center for Computational Cognitive Neuropsychiatry Seminar-Towards a Neurometrics of Affect\, Luke Chang\, PhD\, Dartmouth College. Join via Zoom.
URL:https://ritms.rutgers.edu/event/rutgers-princeton-center-for-computational-cognitive-neuropsychiatry-seminar-8/
END:VEVENT
BEGIN:VEVENT
DTSTART;TZID=UTC:20210915T120000
DTEND;TZID=UTC:20210915T130000
DTSTAMP:20260422T235031
CREATED:20210820T012600Z
LAST-MODIFIED:20210915T032845Z
UID:11977-1631707200-1631710800@ritms.rutgers.edu
SUMMARY:Cancer Metabolism and Growth Meeting
DESCRIPTION:Cancer Metabolism and Growth Meeting-Alignment of mouse single cell and human breast cancer transcriptomics to identify metastasis targets associated with reduced IGF-1R\, Terri Wood\, Rutgers\, Online\, Register Here
URL:https://ritms.rutgers.edu/event/cancer-metabolism-and-growth-meeting/
END:VEVENT
BEGIN:VEVENT
DTSTART;TZID=UTC:20210915T143000
DTEND;TZID=UTC:20210915T170000
DTSTAMP:20260422T235031
CREATED:20210825T014214Z
LAST-MODIFIED:20210915T032845Z
UID:12013-1631716200-1631725200@ritms.rutgers.edu
SUMMARY:NJ ACTS BERD: Mini-Methods Grant Information Session
DESCRIPTION:NJ ACTS Biostatistics Epidemiology and Research Design: Mini-Methods Grant Information Session.  View flyer for more info.  Register here!
URL:https://ritms.rutgers.edu/event/nj-acts-berd-mini-methods-grant-information-session/
END:VEVENT
BEGIN:VEVENT
DTSTART;TZID=UTC:20210915T160000
DTEND;TZID=UTC:20210915T170000
DTSTAMP:20260422T235031
CREATED:20210909T025941Z
LAST-MODIFIED:20210915T032845Z
UID:12146-1631721600-1631725200@ritms.rutgers.edu
SUMMARY:CINJ Grand Rounds
DESCRIPTION:CINJ Grand Rounds: “Is it Time to Implement Lifestyle Interventions in the Oncology Clinic?” (Virtual Event) – Pre-register HERE! \nSpeaker: Melinda Irwin\, PhD\, MPH – Associate Dean of Research and Susan Dwight Bliss Professor of Epidemiology (Chronic Diseases)\, Associate Cancer Center Director\, Population Sciences\, Co-Leader\, Cancer Prevention and Control\, Yale Cancer Center\, Deputy Director (Public Health)\, Yale Center for Clinical Investigation \nPre-registration is required for this meeting.
URL:https://ritms.rutgers.edu/event/cinj-grand-rounds-5/
END:VEVENT
BEGIN:VEVENT
DTSTART;TZID=UTC:20210921T090000
DTEND;TZID=UTC:20210921T140000
DTSTAMP:20260422T235031
CREATED:20210914T031051Z
LAST-MODIFIED:20210921T041607Z
UID:12179-1632214800-1632232800@ritms.rutgers.edu
SUMMARY:Third Annual CHINJ Scientific Retreat (Virtual)
DESCRIPTION:Third Annual CHINJ Scientific Retreat (Virtual)\nThe program will begin promptly at 9:00 AM with a Keynote Talk by Dr. Carlos Pato\, Dr. Michele Pato (Rutgers Univ) and Dr. Tim Bigdeli (SYNY Downstate)\nWe will then have a series of talks by our faculty and trainees and will conclude with a lunch reception on the 2nd floor atrium and patio.\nView flyer for more information. \nJoin via Zoom\nMeeting ID: 966 6947 7465\nPassword: KvwTD4  \n  \n 
URL:https://ritms.rutgers.edu/event/third-annual-chinj-scientific-retreat-virtual/
END:VEVENT
BEGIN:VEVENT
DTSTART;TZID=UTC:20210921T120000
DTEND;TZID=UTC:20210921T130000
DTSTAMP:20260422T235031
CREATED:20201019T130250Z
LAST-MODIFIED:20201019T130250Z
UID:9825-1632225600-1632229200@ritms.rutgers.edu
SUMMARY:Center for COVID-19 Response and Pandemic Preparedness (CCRP2) Biomedical Research-In-Progress Series
DESCRIPTION:Center for COVID-19 Response and Pandemic Preparedness (CCRP2) Biomedical Research-In-Progress Series-Translational Science Project(s). Join via Webex.
URL:https://ritms.rutgers.edu/event/center-for-covid-19-response-and-pandemic-preparedness-ccrp2-biomedical-research-in-progress-series-13/
END:VEVENT
BEGIN:VEVENT
DTSTART;TZID=UTC:20210921T120000
DTEND;TZID=UTC:20210921T130000
DTSTAMP:20260422T235031
CREATED:20210822T012550Z
LAST-MODIFIED:20210921T041607Z
UID:11986-1632225600-1632229200@ritms.rutgers.edu
SUMMARY:Center for COVID-19 Response and Pandemic Preparedness (CCRP2) Biomedical Research-In-Progress Series
DESCRIPTION:Center for COVID-19 Response and Pandemic Preparedness (CCRP2) Biomedical Research-In-Progress Series-Translational Science Project(s). Join via Webex.
URL:https://ritms.rutgers.edu/event/center-for-covid-19-response-and-pandemic-preparedness-ccrp2-biomedical-research-in-progress-series-20/
END:VEVENT
BEGIN:VEVENT
DTSTART;TZID=UTC:20210921T120000
DTEND;TZID=UTC:20210921T130000
DTSTAMP:20260422T235031
CREATED:20210921T041604Z
LAST-MODIFIED:20210921T041607Z
UID:12241-1632225600-1632229200@ritms.rutgers.edu
SUMMARY:Rutgers Princeton Center for Computational Cognitive Neuropsychiatry Faculty Candidate Seminar
DESCRIPTION:Rutgers Princeton Center for Computational Cognitive Neuropsychiatry Faculty Candidate Seminar-Striatal Dopamine and the Costs and Benefits of Cognitive Effort\, Andrew Westbrook\, PhD\, Department of Cognitive\, Linguistic\, and Psychological Sciences\, Brown University. Join via Zoom.
URL:https://ritms.rutgers.edu/event/rutgers-princeton-center-for-computational-cognitive-neuropsychiatry-faculty-candidate-seminar/
END:VEVENT
BEGIN:VEVENT
DTSTART;TZID=UTC:20210921T130000
DTEND;TZID=UTC:20210921T140000
DTSTAMP:20260422T235031
CREATED:20210822T012551Z
LAST-MODIFIED:20210921T041607Z
UID:11987-1632229200-1632232800@ritms.rutgers.edu
SUMMARY:NJ ACTS Special Populations Core 2021 Webinar Series
DESCRIPTION:NJ ACTS Special Populations Core 2021 Webinar Series-Using Genetics to Do Social Science: Inside the Social Genomics Revolution\, Dalton Conley\, PhD\, Princeton University. View Flyer and Join via Zoom.
URL:https://ritms.rutgers.edu/event/nj-acts-special-populations-core-2021-webinar-series-2/
END:VEVENT
END:VCALENDAR