BEGIN:VCALENDAR
VERSION:2.0
PRODID:-//Institute for Translational Medicine and Science - ECPv6.15.16//NONSGML v1.0//EN
CALSCALE:GREGORIAN
METHOD:PUBLISH
X-WR-CALNAME:Institute for Translational Medicine and Science
X-ORIGINAL-URL:https://ritms.rutgers.edu
X-WR-CALDESC:Events for Institute for Translational Medicine and Science
REFRESH-INTERVAL;VALUE=DURATION:PT1H
X-Robots-Tag:noindex
X-PUBLISHED-TTL:PT1H
BEGIN:VTIMEZONE
TZID:UTC
BEGIN:STANDARD
TZOFFSETFROM:+0000
TZOFFSETTO:+0000
TZNAME:UTC
DTSTART:20200101T000000
END:STANDARD
END:VTIMEZONE
BEGIN:VEVENT
DTSTART;TZID=UTC:20210617T100000
DTEND;TZID=UTC:20210617T141500
DTSTAMP:20260423T000515
CREATED:20210518T181153Z
LAST-MODIFIED:20210617T194312Z
UID:11261-1623924000-1623939300@ritms.rutgers.edu
SUMMARY:2nd Annual Center for Cancer Health Equity Retreat
DESCRIPTION:2nd Annual Center for Cancer Health Equity Retreat-  Center for Cancer Health Equity\, Robert Winn\, Rutgers\, View Flyer. Register Here
URL:https://ritms.rutgers.edu/event/2nd-annual-center-for-cancer-health-equity-retreat/
END:VEVENT
BEGIN:VEVENT
DTSTART;TZID=UTC:20210617T140000
DTEND;TZID=UTC:20210617T150000
DTSTAMP:20260423T000515
CREATED:20210615T192626Z
LAST-MODIFIED:20210617T194313Z
UID:11503-1623938400-1623942000@ritms.rutgers.edu
SUMMARY:National Black Family Cancer Awareness Week: Engaging the Generations
DESCRIPTION:National Black Family Cancer Awareness Week: Engaging the Generations is next in the series of OCE Conversations on Cancer. OCE is engaging NCI-designated Cancer Centers\, cancer advocacy groups\, patients\, social and community organizers\, families and friends.To join the conversation\, register here!
URL:https://ritms.rutgers.edu/event/national-black-family-cancer-awareness-week-engaging-the-generations/
END:VEVENT
BEGIN:VEVENT
DTSTART;TZID=UTC:20210618T110000
DTEND;TZID=UTC:20210618T110000
DTSTAMP:20260423T000515
CREATED:20210615T192627Z
LAST-MODIFIED:20210618T195812Z
UID:11504-1624014000-1624014000@ritms.rutgers.edu
SUMMARY:IQB Coronavirus Biology Group Special Lecture
DESCRIPTION:IQB Coronavirus Biology Group Special Lecture- SARS-CoV-2 RBD In Vitro Evolution Parrots and Predicts Contagious Mutation Spread\, Gideon Schreiber\, Rutgers\, Online\, Register Here
URL:https://ritms.rutgers.edu/event/iqb-coronavirus-biology-group-special-lecture/
END:VEVENT
BEGIN:VEVENT
DTSTART;TZID=UTC:20210618T120000
DTEND;TZID=UTC:20210618T130000
DTSTAMP:20260423T000515
CREATED:20210609T192524Z
LAST-MODIFIED:20210618T195812Z
UID:11464-1624017600-1624021200@ritms.rutgers.edu
SUMMARY:RWJMS Rutgers Project ECHO Series  “Adapting Existing Collaboration: The COVID-19 Community Taskforce Response”
DESCRIPTION:RWJMS Rutgers Project ECHO Series “Adapting Existing Collaboration: The COVID-19 Community Taskforce Response” – REGISTER!\nPresenter: Vivian Gonzalez Cueto\, PhD\, Assistant Professor of Medicine & Pediatrics\, Rutgers New Jersey Medical School \nFor more information\, click here.
URL:https://ritms.rutgers.edu/event/rwjms-rutgers-project-echo-series-adapting-existing-collaboration-the-covid-19-community-taskforce-response/
END:VEVENT
BEGIN:VEVENT
DTSTART;TZID=UTC:20210618T120000
DTEND;TZID=UTC:20210618T130000
DTSTAMP:20260423T000515
CREATED:20210615T192627Z
LAST-MODIFIED:20210618T195812Z
UID:11505-1624017600-1624021200@ritms.rutgers.edu
SUMMARY:CINJ: “Single Cell RNA Analysis of Human Insulinoma”
DESCRIPTION:CINJ: “Single Cell RNA Analysis of Human Insulinoma” – Pre-register here for Zoom meeting login information.\nSpeaker: Fuqian Shi\, PhD (Chan Lab)
URL:https://ritms.rutgers.edu/event/cinj-single-cell-rna-analysis-of-human-insulinoma/
END:VEVENT
BEGIN:VEVENT
DTSTART;TZID=UTC:20210619T120000
DTEND;TZID=UTC:20210619T160000
DTSTAMP:20260423T000515
CREATED:20210603T191448Z
LAST-MODIFIED:20210619T195853Z
UID:11414-1624104000-1624118400@ritms.rutgers.edu
SUMMARY:FREE Community COVID-19 Vaccination Clinic for New Brunswick residents 12 years or older
DESCRIPTION:Vaccinate Against COVID-19 in a FREE Community Vaccination Clinic\nTo make an appointment call 732-247-2050
URL:https://ritms.rutgers.edu/event/free-community-covid-19-vaccination-clinic-for-new-brunswick-residents-12-years-or-older-3/
END:VEVENT
BEGIN:VEVENT
DTSTART;TZID=UTC:20210621T110000
DTEND;TZID=UTC:20210621T130000
DTSTAMP:20260423T000515
CREATED:20210522T182149Z
LAST-MODIFIED:20210621T201024Z
UID:11287-1624273200-1624280400@ritms.rutgers.edu
SUMMARY:RBHS: Developing and Empowering Diverse Communities in Higher Education
DESCRIPTION:RBHS: The Vice Chancellor for Faculty Development\, M. Maral Mouradian\, MD presents: \nDeveloping and Empowering Diverse Communities in Higher Education featuring: \nNancy Cantor\, Chancellor\, Rutgers University-Newark\nPerry N. Halkitis\, Dean\, School of Public Health \nZOOM EVENT OPEN TO ALL FACULTY AND STAFF\nRegister here!!!
URL:https://ritms.rutgers.edu/event/rbhs-developing-and-empowering-diverse-communities-in-higher-education/
END:VEVENT
BEGIN:VEVENT
DTSTART;TZID=UTC:20210621T143000
DTEND;TZID=UTC:20210621T153000
DTSTAMP:20260423T000515
CREATED:20210522T182149Z
LAST-MODIFIED:20210621T201024Z
UID:11289-1624285800-1624289400@ritms.rutgers.edu
SUMMARY:NJ ACTS Team Science Core
DESCRIPTION:NJ ACTS Team Science Core presents Kate Sasser\, PhD – Senior Vice President Head of Translational Research Genmab\, Inc. Plainsboro\, NJ. View flyer. \nSecond Event of Teamwork Seminar Series: “Secrets of Successful Teamwork: What Can Academia Learn from Non-Academia?” \nRegister HERE! After registering\, you will receive a confirmation email containing information about joining the meeting.
URL:https://ritms.rutgers.edu/event/nj-acts-team-science-core/
END:VEVENT
BEGIN:VEVENT
DTSTART;TZID=UTC:20210622T110000
DTEND;TZID=UTC:20210622T130000
DTSTAMP:20260423T000515
CREATED:20210523T182546Z
LAST-MODIFIED:20210622T201109Z
UID:11296-1624359600-1624366800@ritms.rutgers.edu
SUMMARY:NJ ACTS Empowering Mentors of Clinical and Translational Scientists
DESCRIPTION:Empowering Mentors of Clinical and Translational Scientists (Virtual) – Zoom meeting link and access details below.\nPresenters: M. Maral Mouradian MD\, RBHS Vice Chancellor for Faculty Development; Andrew Gow\, PhD\, Professor\, Ernest Mario School of Pharmacy; Anita Siu\, PharmaD.\, BCPPS\, Clinical Professor\, Ernest Mario School of Pharmacy. Register Here! \nZoom Meeting\nhttps://rutgers.zoom.us/j/91983533198?pwd=a1RRand0ekhQbkIrd2tLTXBQdDBBZz09 \nMeeting ID: 919 8353 3198/Password: 456284\nJoin By Phone +1 646 558 8656 US (New York) \nFor more information about this workshop\, please contact Yasheca Ebanks\, NJ ACTS Project Manager at yebanks@shp.rutgers.edu
URL:https://ritms.rutgers.edu/event/nj-acts-empowering-mentors-of-clinical-and-translational-scientists/
END:VEVENT
BEGIN:VEVENT
DTSTART;TZID=UTC:20210622T150000
DTEND;TZID=UTC:20210622T160000
DTSTAMP:20260423T000515
CREATED:20210621T201023Z
LAST-MODIFIED:20210622T201109Z
UID:11529-1624374000-1624377600@ritms.rutgers.edu
SUMMARY:NJACTS CEC Partnership and Innovation Accelerator Pilot (PIAP) Program Webinar
DESCRIPTION:Tune in for the NJACTS CEC Partnership and Innovation Accelerator Pilot (PIAP) Program Webinar 2021! \nWebinar topics will include: \n·        Application process and deadlines \n·        Defining community partnerships \n·        Regulatory approvals \n·        Review process \n·        Q&A \n\nClick here to join! Event number: 120 132 4492/ Event password: J3uYNq8ndE3 (53896786 from phones)\nJoin by phone: +1-650-429-3300 USA Toll Access code: 120 132 4492 \nFor additional details\, please see flyer.
URL:https://ritms.rutgers.edu/event/njacts-cec-partnership-and-innovation-accelerator-pilot-piap-program-webinar/
END:VEVENT
BEGIN:VEVENT
DTSTART;TZID=UTC:20210622T190000
DTEND;TZID=UTC:20210622T200000
DTSTAMP:20260423T000515
CREATED:20210622T201107Z
LAST-MODIFIED:20210622T201109Z
UID:11539-1624388400-1624392000@ritms.rutgers.edu
SUMMARY:RWJUH – Rahway: Food for Health
DESCRIPTION:Robert Wood Johnson University Hospital Rahway invites you to learn how to prepare easy\, healthy Mediterranean dishes that can help prevent and manage many common health problems. Register here!
URL:https://ritms.rutgers.edu/event/rwjuh-rahway-food-for-health/
END:VEVENT
BEGIN:VEVENT
DTSTART;TZID=UTC:20210623T100000
DTEND;TZID=UTC:20210623T110000
DTSTAMP:20260423T000515
CREATED:20210617T194314Z
LAST-MODIFIED:20210623T202226Z
UID:11520-1624442400-1624446000@ritms.rutgers.edu
SUMMARY:Rutgers Princeton Center for Computational Cognitive Neuropsychiatry Seminar
DESCRIPTION:Rutgers Princeton Center for Computational Cognitive Neuropsychiatry Seminar- Using quantitative models to improve treatments for destructive behavior in children with autism\, Wayne Fisher\, Rutgers\, Online\, Register Here \n 
URL:https://ritms.rutgers.edu/event/rutgers-princeton-center-for-computational-cognitive-neuropsychiatry-seminar-7/
END:VEVENT
BEGIN:VEVENT
DTSTART;TZID=UTC:20210623T120000
DTEND;TZID=UTC:20210623T124500
DTSTAMP:20260423T000515
CREATED:20210622T201107Z
LAST-MODIFIED:20210623T202226Z
UID:11540-1624449600-1624452300@ritms.rutgers.edu
SUMMARY:Newark Beth Israel Medical Center Women’s Wellness Wednesdays
DESCRIPTION:Newark Beth Israel Medical Center Women’s Wellness Wednesdays presents Women’s Health Panel Discussion: Get Your Questions Answered. Join experts and take a moment to relax\, recharge\, and discuss the health issues that matter most to you. Click HERE to register! \n  \n 
URL:https://ritms.rutgers.edu/event/newark-beth-israel-medical-center-womens-wellness-wednesdays/
END:VEVENT
BEGIN:VEVENT
DTSTART;TZID=UTC:20210623T140000
DTEND;TZID=UTC:20210623T150000
DTSTAMP:20260423T000515
CREATED:20210524T182547Z
LAST-MODIFIED:20210623T202226Z
UID:11303-1624456800-1624460400@ritms.rutgers.edu
SUMMARY:Monthly CTSA Program Webinar
DESCRIPTION:Monthly CTSA Program Webinar-Register Here!
URL:https://ritms.rutgers.edu/event/monthly-ctsa-program-webinar-4/
END:VEVENT
BEGIN:VEVENT
DTSTART;VALUE=DATE:20210626
DTEND;VALUE=DATE:20210627
DTSTAMP:20260423T000515
CREATED:20210614T192653Z
LAST-MODIFIED:20210626T204156Z
UID:11494-1624665600-1624751999@ritms.rutgers.edu
SUMMARY:RBHS – Women Scientists Who Lead: Film Viewing and Panel Discussion
DESCRIPTION:RBHS – Women Scientists Who Lead: Film Viewing and Panel Discussion.  View Flyer. REGISTER HERE!\nFilm Viewing: June 26th-28th (via online stream) Link provided upon registration for discussion.\nDiscussion: Tuesday\, June 29th 4-5pm
URL:https://ritms.rutgers.edu/event/rbhs-women-scientists-who-lead-film-viewing-and-panel-discussion/
END:VEVENT
BEGIN:VEVENT
DTSTART;TZID=UTC:20210628T140000
DTEND;TZID=UTC:20210628T150000
DTSTAMP:20260423T000515
CREATED:20210622T201108Z
LAST-MODIFIED:20210628T204044Z
UID:11541-1624888800-1624892400@ritms.rutgers.edu
SUMMARY:NJ ACTS Workforce Core LIVE Webinar
DESCRIPTION:NJ ACTS Workforce Core LIVE Webinar-Translating Research from Bench to Bedside\, Lauren Aleksunes\, PharmD\, PhD\, Rutgers. View Flyer and Register Here!
URL:https://ritms.rutgers.edu/event/nj-acts-workforce-core-live-webinar/
END:VEVENT
BEGIN:VEVENT
DTSTART;TZID=UTC:20210629T093000
DTEND;TZID=UTC:20210629T120000
DTSTAMP:20260423T000515
CREATED:20210629T205535Z
LAST-MODIFIED:20210629T205537Z
UID:11609-1624959000-1624968000@ritms.rutgers.edu
SUMMARY:NJ ACTS KL2 Scholars Special Symposia
DESCRIPTION:NJ ACTS KL2 Scholars Special Symposia-Inaugural KL2 Special Symposia highlighting concluding presentations from our first cohort of KL2 Scholars: Qiana Brown\, PhD\, MPH\, LCSW “Cannabis Use and Perceived Risk of Use Among Pregnant Women in the US” Chintan Dave\, PharmD\, PhD “Cardiometabolic Pharmacoepidemiology” Elissa Kozlov\, PhD “mHealth Mindfulness for Caregivers of Older Adults with MCI or Dementia” Ankit Shah\, MD “Glycerol as a Direct and Indirect Contributor to Glucose Production in Humans”. Join via Webex and View Flyer..
URL:https://ritms.rutgers.edu/event/nj-acts-kl2-scholars-special-symposia/
END:VEVENT
BEGIN:VEVENT
DTSTART;TZID=UTC:20210629T100000
DTEND;TZID=UTC:20210629T140000
DTSTAMP:20260423T000515
CREATED:20210607T192547Z
LAST-MODIFIED:20210629T205537Z
UID:11444-1624960800-1624975200@ritms.rutgers.edu
SUMMARY:NJ ACTS: Machine Learning with Python (Basic)
DESCRIPTION:NJ ACTS: Machine Learning with Python – Gain hands-on experience while practicing with real-life Machine Learning examples and see how it affects society in ways you may have not guessed! View Flyer \nInstructor: Dantong Yu\, PhD – New Jersey Institute of Technology NJ Alliance of Clinical and Translational Science Workforce Development Core   \nTo learn more about the workshops please REGISTER HERE \n \nAdvanced training session is scheduled for Wednesday\, June 30th.
URL:https://ritms.rutgers.edu/event/nj-acts-machine-learning-with-python-basic/
END:VEVENT
BEGIN:VEVENT
DTSTART;TZID=UTC:20210629T120000
DTEND;TZID=UTC:20210629T130000
DTSTAMP:20260423T000515
CREATED:20201019T125415Z
LAST-MODIFIED:20201019T125415Z
UID:9819-1624968000-1624971600@ritms.rutgers.edu
SUMMARY:Center for COVID-19 Response and Pandemic Preparedness (CCRP2) Biomedical Research-In-Progress Series
DESCRIPTION:Center for COVID-19 Response and Pandemic Preparedness (CCRP2) Biomedical Research-In-Progress Series-Basic Science Project(s). Join via Webex.
URL:https://ritms.rutgers.edu/event/center-for-covid-19-response-and-pandemic-preparedness-ccrp2-biomedical-research-in-progress-series-10/
END:VEVENT
BEGIN:VEVENT
DTSTART;TZID=UTC:20210629T120000
DTEND;TZID=UTC:20210629T130000
DTSTAMP:20260423T000515
CREATED:20210530T185704Z
LAST-MODIFIED:20210629T205537Z
UID:11377-1624968000-1624971600@ritms.rutgers.edu
SUMMARY:Center for COVID-19 Response and Pandemic Preparedness (CCRP2) Biomedical Research-In-Progress Series
DESCRIPTION:Center for COVID-19 Response and Pandemic Preparedness (CCRP2) Biomedical Research-In-Progress Series-Basic Science Project(s). Join via Webex.
URL:https://ritms.rutgers.edu/event/center-for-covid-19-response-and-pandemic-preparedness-ccrp2-biomedical-research-in-progress-series-17/
END:VEVENT
BEGIN:VEVENT
DTSTART;TZID=UTC:20210629T160000
DTEND;TZID=UTC:20210629T170000
DTSTAMP:20260423T000515
CREATED:20210614T192653Z
LAST-MODIFIED:20210629T205537Z
UID:11495-1624982400-1624986000@ritms.rutgers.edu
SUMMARY:RBHS – Women Scientists Who Lead: Film Viewing and Panel Discussion
DESCRIPTION:RBHS – Women Scientists Who Lead: Film Viewing and Panel Discussion.  View Flyer. REGISTER HERE!\nFilm Viewing: June 26th-28th (via online stream) Link provided upon registration for discussion.\nDiscussion: Tuesday\, June 29th 4-5pm
URL:https://ritms.rutgers.edu/event/rbhs-women-scientists-who-lead-film-viewing-and-panel-discussion-2/
END:VEVENT
BEGIN:VEVENT
DTSTART;TZID=UTC:20210630T074500
DTEND;TZID=UTC:20210630T120000
DTSTAMP:20260423T000515
CREATED:20210630T205527Z
LAST-MODIFIED:20210630T205529Z
UID:11618-1625039100-1625054400@ritms.rutgers.edu
SUMMARY:31st Annual Rutgers Department of Otolaryngology-Head & Neck Surgery Virtual Alumni Day Symposium
DESCRIPTION:31st Annual Rutgers Department of Otolaryngology-Head & Neck Surgery Virtual Alumni Day Symposium: Updates in the Management of Thyroid Disorders (CME certified virtual event) – View Flyer! \nJoin Zoom call here!\nMeeting ID: 956 1579 4878/Password: 876151 \nSpeakers:\nDylan Roden\, MD\, MPH\, Assistant Professor Department of Otolaryngology – Head & Neck Surgery\, Rutgers New Jersey Medical School\, Newark\, NJ\nSoly Baredes\, MD\, FACS\, Professor and Chairman Department of Otolaryngology – Head & Neck Surgery\, Rutgers New Jersey Medical School\, Newark\, NJ\nElizabeth Cottrill\, MD\, Assistant Professor Department of Otolaryngology – Head & Neck Surgery\, Co-Director\, Thyroid and Parathyroid Center\, Thomas Jefferson University\, Philadelphia\, PA\nJulia Noel\, MD\, Assistant Professor Department of Otolaryngology – Head & Neck Surgery\, Stanford University Medical Center\, San Jose\, CA\nPaul D. Langer\, MD\, FACS\, Professor of Ophthalmology\, Director\, Division of Ophthalmic Plastic and Orbital Surgery\, Department of Ophthalmology & Visual Science\, Rutgers New Jersey Medical School\, Newark\, NJ \nIf you have not already registered\, please contact Rhea Daniels after the event in order to receive CME credit at: rheab@njms.rutgers.edu \n 
URL:https://ritms.rutgers.edu/event/31st-annual-rutgers-department-of-otolaryngology-head-neck-surgery-virtual-alumni-day-symposium/
END:VEVENT
BEGIN:VEVENT
DTSTART;TZID=UTC:20210630T100000
DTEND;TZID=UTC:20210630T140000
DTSTAMP:20260423T000515
CREATED:20210607T192547Z
LAST-MODIFIED:20210630T205529Z
UID:11445-1625047200-1625061600@ritms.rutgers.edu
SUMMARY:NJ ACTS: Machine Learning with Python (Advanced)
DESCRIPTION:NJ ACTS: Machine Learning with Python – Gain hands-on experience while practicing with real-life Machine Learning examples and see how it affects society in ways you may have not guessed! View Flyer \nInstructor: Dantong Yu\, PhD – New Jersey Institute of Technology NJ Alliance of Clinical and Translational Science Workforce Development Core \nTo learn more about the workshops please REGISTER HERE
URL:https://ritms.rutgers.edu/event/nj-acts-machine-learning-with-python-advanced/
END:VEVENT
BEGIN:VEVENT
DTSTART;TZID=UTC:20210630T120000
DTEND;TZID=UTC:20210630T130000
DTSTAMP:20260423T000515
CREATED:20210628T204043Z
LAST-MODIFIED:20210630T205529Z
UID:11584-1625054400-1625058000@ritms.rutgers.edu
SUMMARY:CHI Science Seminar
DESCRIPTION:CHI Science Seminar: “JAK-STAT and Celiac Disease: Engaging Precision Medicine into Digestive and Liver Diseases.”\nSpeaker: Xiao-Fei Kong\, MD\, PhD\, Assistant Professor of Medicine\, Division of Digestive and Liver Diseases\, Vagelos College of Physicians and Surgeons\, Columbia University\nJoin Zoom Meeting here!\nMeeting ID: 949 6599 2268/Password: 561177
URL:https://ritms.rutgers.edu/event/chi-science-seminar/
END:VEVENT
BEGIN:VEVENT
DTSTART;TZID=UTC:20210630T120000
DTEND;TZID=UTC:20210630T140000
DTSTAMP:20260423T000515
CREATED:20210531T185604Z
LAST-MODIFIED:20210630T205529Z
UID:11383-1625054400-1625061600@ritms.rutgers.edu
SUMMARY:RBHS Office of Diversity and Inclusion: Implicit Bias & “Othering” Workshop
DESCRIPTION:RBHS Office of Diversity and Inclusion: Implicit Bias & “Othering” Workshop – Register HERE. \n \nSpeakers: James Hill\, Ph.D.\, New Jersey Medical School and Maria Soto-Greene\, M.D.\, MS-HPEd\, New Jersey Medical School \nDates: Wednesday\, June 30th\, 12-2pm & Wednesday\, October 20th\, 12-2pm
URL:https://ritms.rutgers.edu/event/rbhs-office-of-diversity-and-inclusion-implicit-bias-othering-workshop/
END:VEVENT
BEGIN:VEVENT
DTSTART;TZID=UTC:20210630T160000
DTEND;TZID=UTC:20210630T170000
DTSTAMP:20260423T000515
CREATED:20210629T205536Z
LAST-MODIFIED:20210630T205529Z
UID:11610-1625068800-1625072400@ritms.rutgers.edu
SUMMARY:CINJ Grand Rounds: Genomics and Emering Immune Therapies
DESCRIPTION:CINJ Grand Rounds: Genomics and Emering Immune Therapies – Register for Zoom call here!\nSpeaker: Eileen M. O’Reilly\, MD\, Winthrop Rockefeller Endowed Chair in Medical Oncology Section Head\, Hepatopancreaticobiliary & Neuroendocrine Cancers; Co-Director Medical Initiatives\, David M. Rubenstein Center for Pancreatic Cancer; Chair\, Human Research Protection Program & IRB; Attending Physician & Mentor\, Memorial Sloan Kettering Cancer Center; Professor of Medicine\, Weill Cornell Medical College
URL:https://ritms.rutgers.edu/event/cinj-grand-rounds-genomics-and-emering-immune-therapies/
END:VEVENT
BEGIN:VEVENT
DTSTART;TZID=UTC:20210701T160000
DTEND;TZID=UTC:20210701T170000
DTSTAMP:20260423T000515
CREATED:20210701T205732Z
LAST-MODIFIED:20210701T205735Z
UID:11625-1625155200-1625158800@ritms.rutgers.edu
SUMMARY:New Lipidomics Research Solutions Webinar
DESCRIPTION:New Lipidomics Research Solutions Webinar-SCIEX scientists will share the technology innovations and relevant applications for some very challenging assays\, hosted by the Center for Advanced Proteomics Research and Metabolomics Shared Resources. Read more and  Register Here!
URL:https://ritms.rutgers.edu/event/new-lipidomics-research-solutions-webinar/
END:VEVENT
BEGIN:VEVENT
DTSTART;TZID=UTC:20210702T120000
DTEND;TZID=UTC:20210702T130000
DTSTAMP:20260423T000515
CREATED:20210701T205733Z
LAST-MODIFIED:20210702T211303Z
UID:11626-1625227200-1625230800@ritms.rutgers.edu
SUMMARY:Rutgers Cancer Institute Trainee Seminar Series
DESCRIPTION:Rutgers Cancer Institute Trainee Seminar Series-SOX4 and SMARCA4 Cooperatively Regulate PI3k Signaling through Transcriptional Activation of TGFBR2 in Triple Negative Breast Cancer\, Gaurav Mehta\, Rutgers. Pre-register here!
URL:https://ritms.rutgers.edu/event/rutgers-cancer-institute-trainee-seminar-series-2/
END:VEVENT
BEGIN:VEVENT
DTSTART;TZID=UTC:20210707T100000
DTEND;TZID=UTC:20210707T110000
DTSTAMP:20260423T000515
CREATED:20210706T211407Z
LAST-MODIFIED:20210707T211227Z
UID:11663-1625652000-1625655600@ritms.rutgers.edu
SUMMARY:RWJUH-Hamilton: After COVID\, Then What?
DESCRIPTION:After COVID\, Then What? – Robert Wood Johnson University Hospital Hamilton invites you to delve into the emotional and physical impact of the COVID-19 pandemic. Shirley Roberts\, MA\, LPC\, NCC\, and Joyce Cantalice\, Manager\, Better Health\, lead this group discussion.\n\nRegister here!
URL:https://ritms.rutgers.edu/event/rwjuh-hamilton-after-covid-then-what/
END:VEVENT
BEGIN:VEVENT
DTSTART;TZID=UTC:20210709T120000
DTEND;TZID=UTC:20210709T130000
DTSTAMP:20260423T000515
CREATED:20210701T205733Z
LAST-MODIFIED:20210709T212604Z
UID:11627-1625832000-1625835600@ritms.rutgers.edu
SUMMARY:Rutgers Cancer Institute Trainee Seminar Series
DESCRIPTION:Rutgers Cancer Institute Trainee Seminar Series: “ATR and ATM Phosphorylation of BRCA1 at T1394 Promotes Homologous Recombinational Repair and G2/M Checkpoint Maintenance” Pre-register here!\nSpeaker: Tzeh Keong Foo\, PhD (Xia Lab) \nPlease note: Seminar will be locked at 12:15. Please register prior to that time.
URL:https://ritms.rutgers.edu/event/rutgers-cancer-institute-trainee-seminar-series-3/
END:VEVENT
END:VCALENDAR