BEGIN:VCALENDAR
VERSION:2.0
PRODID:-//Institute for Translational Medicine and Science - ECPv6.15.16//NONSGML v1.0//EN
CALSCALE:GREGORIAN
METHOD:PUBLISH
X-WR-CALNAME:Institute for Translational Medicine and Science
X-ORIGINAL-URL:https://ritms.rutgers.edu
X-WR-CALDESC:Events for Institute for Translational Medicine and Science
REFRESH-INTERVAL;VALUE=DURATION:PT1H
X-Robots-Tag:noindex
X-PUBLISHED-TTL:PT1H
BEGIN:VTIMEZONE
TZID:UTC
BEGIN:STANDARD
TZOFFSETFROM:+0000
TZOFFSETTO:+0000
TZNAME:UTC
DTSTART:20200101T000000
END:STANDARD
END:VTIMEZONE
BEGIN:VEVENT
DTSTART;TZID=UTC:20210428T140000
DTEND;TZID=UTC:20210428T150000
DTSTAMP:20260423T110459
CREATED:20210329T144152Z
LAST-MODIFIED:20210428T172829Z
UID:10806-1619618400-1619622000@ritms.rutgers.edu
SUMMARY:Monthly CTSA Program Webinar
DESCRIPTION:Monthly CTSA Program Webinar-Register Here!
URL:https://ritms.rutgers.edu/event/monthly-ctsa-program-webinar-2/
END:VEVENT
BEGIN:VEVENT
DTSTART;TZID=UTC:20210428T160000
DTEND;TZID=UTC:20210428T170000
DTSTAMP:20260423T110459
CREATED:20210426T172616Z
LAST-MODIFIED:20210428T172829Z
UID:11068-1619625600-1619629200@ritms.rutgers.edu
SUMMARY:CINJ Grand Rounds
DESCRIPTION:CINJ Grand Rounds: Body Composition and Cancer Survival: Assessment\, Associations and Future Directions – Elizabeth M. Cespedes Feliciano\, ScD\, MSc\, Research Scientist II\, Kaiser Permanente Northern California\, Division of Research. Register here!
URL:https://ritms.rutgers.edu/event/cinj-grand-rounds-2/
END:VEVENT
BEGIN:VEVENT
DTSTART;TZID=UTC:20210428T170000
DTEND;TZID=UTC:20210428T180000
DTSTAMP:20260423T110459
CREATED:20210427T172618Z
LAST-MODIFIED:20210428T172829Z
UID:11100-1619629200-1619632800@ritms.rutgers.edu
SUMMARY:Rutgers School of Public Health – Alumni April
DESCRIPTION:Rutgers School of Public Health – Alumni April: Careers in Biostatistics and Epidemiology Panel. Click here for more information.
URL:https://ritms.rutgers.edu/event/rutgers-school-of-public-health-alumni-april-4/
END:VEVENT
BEGIN:VEVENT
DTSTART;TZID=UTC:20210429T120000
DTEND;TZID=UTC:20210429T130000
DTSTAMP:20260423T110459
CREATED:20210427T172618Z
LAST-MODIFIED:20210429T172640Z
UID:11101-1619697600-1619701200@ritms.rutgers.edu
SUMMARY:Rutgers School of Public Health – Alumni April
DESCRIPTION:Rutgers School of Public Health – Alumni April: Careers in Environmental and Occupational Health and Justice Panel. Click here for more information.
URL:https://ritms.rutgers.edu/event/rutgers-school-of-public-health-alumni-april-5/
END:VEVENT
BEGIN:VEVENT
DTSTART;TZID=UTC:20210429T170000
DTEND;TZID=UTC:20210429T180000
DTSTAMP:20260423T110459
CREATED:20210427T172618Z
LAST-MODIFIED:20210429T172640Z
UID:11102-1619715600-1619719200@ritms.rutgers.edu
SUMMARY:Rutgers School of Public Health – Alumni April
DESCRIPTION:Rutgers School of Public Health – Alumni April: Careers in Urban-Global Public Health Panel. Click here for more information.
URL:https://ritms.rutgers.edu/event/rutgers-school-of-public-health-alumni-april-6/
END:VEVENT
BEGIN:VEVENT
DTSTART;TZID=UTC:20210430T080000
DTEND;TZID=UTC:20210430T170000
DTSTAMP:20260423T110459
CREATED:20210406T152958Z
LAST-MODIFIED:20210430T172633Z
UID:10875-1619769600-1619802000@ritms.rutgers.edu
SUMMARY:NJ ACTS TL1 Fellowship Letter of Intent Due Today
DESCRIPTION:NJ ACTS TL1 Fellowship Letter of Intent Due Today-The program equips its Fellows with enhanced knowledge\, skills\, and abilities that provide a broad introduction to clinical and translational research concurrent with their current pre- or postdoctoral research program.Click Here to Apply. (View Letter of Intent) (View RFA)  (View Application) For more information\, please visit the NJ ACTS TL1 Website
URL:https://ritms.rutgers.edu/event/nj-acts-tl1-fellowship-letter-of-intent-due-today/
END:VEVENT
BEGIN:VEVENT
DTSTART;TZID=UTC:20210430T081500
DTEND;TZID=UTC:20210430T160000
DTSTAMP:20260423T110459
CREATED:20210426T172616Z
LAST-MODIFIED:20210430T172634Z
UID:11069-1619770500-1619798400@ritms.rutgers.edu
SUMMARY:Data Science to Power Implementation with Social Determinants of Health Conference
DESCRIPTION:Data Science to Power Implementation with Social Determinants of Health Inaugural Conference-Have you wondered how to make data work for you\, how to make sense of the deluge of data\, and how to use data to help in your day-to-day clinical\, policy and other decisions? This online conference is supported by NCATS. Register here
URL:https://ritms.rutgers.edu/event/data-science-to-power-implementation-with-social-determinants-of-health-conference/
END:VEVENT
BEGIN:VEVENT
DTSTART;TZID=UTC:20210430T113000
DTEND;TZID=UTC:20210430T123000
DTSTAMP:20260423T110459
CREATED:20210331T144043Z
LAST-MODIFIED:20210430T172634Z
UID:10843-1619782200-1619785800@ritms.rutgers.edu
SUMMARY:CINJ Trainee Seminar Series
DESCRIPTION:CINJ Trainee Seminar Series– Register Here!
URL:https://ritms.rutgers.edu/event/cinj-trainee-seminar-series-5/
END:VEVENT
BEGIN:VEVENT
DTSTART;TZID=UTC:20210430T120000
DTEND;TZID=UTC:20210430T130000
DTSTAMP:20260423T110459
CREATED:20210420T165837Z
LAST-MODIFIED:20210430T172634Z
UID:11023-1619784000-1619787600@ritms.rutgers.edu
SUMMARY:NJ ACTS Workforce Development Core Mentor Training Seminar
DESCRIPTION:NJ ACTS Workforce Development Core Mentor Training Seminar-Being an Effective Mentee: Establishing Your Individual Development Plan\, Gregory Peck\, Rutgers. View Flyer. Register Here.
URL:https://ritms.rutgers.edu/event/nj-acts-workforce-development-core-mentor-training-seminar/
END:VEVENT
BEGIN:VEVENT
DTSTART;TZID=UTC:20210430T180000
DTEND;TZID=UTC:20210430T190000
DTSTAMP:20260423T110459
CREATED:20210419T165539Z
LAST-MODIFIED:20210430T172634Z
UID:11014-1619805600-1619809200@ritms.rutgers.edu
SUMMARY:The Compass Study Virtual Stakeholder Meeting
DESCRIPTION:The Compass Study Virtual Stakeholder Meeting – Learn about the purpose of the COMPASS study & why we are aiming to measure the impact of COVID-19 in communities in Newark\, Dr. Shobha Swaminathan\, Rutgers New Jersey Medical School. Zoom Event – Register
URL:https://ritms.rutgers.edu/event/the-compass-study-virtual-stakeholder-meeting/
END:VEVENT
BEGIN:VEVENT
DTSTART;TZID=UTC:20210503T120000
DTEND;TZID=UTC:20210503T130000
DTSTAMP:20260423T110459
CREATED:20210427T172618Z
LAST-MODIFIED:20210503T174116Z
UID:11104-1620043200-1620046800@ritms.rutgers.edu
SUMMARY:Child Health Institute of New Jersey Science Seminar
DESCRIPTION:CHINJ Science Seminar: MTOR-related Malformation of Cortical Development: Models\, Mechanisms\, and Therapeutics\, Yu Wang\, MD\, PhD – University of Michigan Health System. Zoom meeting link and access details below: \nZoom\nMeeting ID: 913 9336 6625\nPassword: 167098
URL:https://ritms.rutgers.edu/event/child-health-institute-of-new-jersey-science-seminar-2/
END:VEVENT
BEGIN:VEVENT
DTSTART;TZID=UTC:20210503T150000
DTEND;TZID=UTC:20210503T160000
DTSTAMP:20260423T110459
CREATED:20210426T172617Z
LAST-MODIFIED:20210503T174116Z
UID:11070-1620054000-1620057600@ritms.rutgers.edu
SUMMARY:CINJ Recruitment Lecture
DESCRIPTION:CINJ Recruitment Lecture- Achieving Pediatric Health Equity: The Role of Cross-Cultural Communication\, Dr. Sharon Manne\, University of Texas\, Online\, Register Here
URL:https://ritms.rutgers.edu/event/cinj-recruitment-lecture-2/
END:VEVENT
BEGIN:VEVENT
DTSTART;TZID=UTC:20210504T120000
DTEND;TZID=UTC:20210504T130000
DTSTAMP:20260423T110459
CREATED:20201019T124936Z
LAST-MODIFIED:20201019T124936Z
UID:9815-1620129600-1620133200@ritms.rutgers.edu
SUMMARY:Center for COVID-19 Response and Pandemic Preparedness (CCRP2) Biomedical Research-In-Progress Series
DESCRIPTION:Center for COVID-19 Response and Pandemic Preparedness (CCRP2) Biomedical Research-In-Progress Series-Basic Science Project(s). Join via Webex.
URL:https://ritms.rutgers.edu/event/center-for-covid-19-response-and-pandemic-preparedness-ccrp2-biomedical-research-in-progress-series-8/
END:VEVENT
BEGIN:VEVENT
DTSTART;TZID=UTC:20210504T120000
DTEND;TZID=UTC:20210504T130000
DTSTAMP:20260423T110459
CREATED:20210404T145527Z
LAST-MODIFIED:20210504T174037Z
UID:10862-1620129600-1620133200@ritms.rutgers.edu
SUMMARY:Center for COVID-19 Response and Pandemic Preparedness (CCRP2) Biomedical Research-In-Progress Series
DESCRIPTION:Center for COVID-19 Response and Pandemic Preparedness (CCRP2) Biomedical Research-In-Progress Series-Basic Science Project(s). Join via Webex.
URL:https://ritms.rutgers.edu/event/center-for-covid-19-response-and-pandemic-preparedness-ccrp2-biomedical-research-in-progress-series-16/
END:VEVENT
BEGIN:VEVENT
DTSTART;TZID=UTC:20210505T100000
DTEND;TZID=UTC:20210505T110000
DTSTAMP:20260423T110459
CREATED:20210503T174116Z
LAST-MODIFIED:20210505T174112Z
UID:11158-1620208800-1620212400@ritms.rutgers.edu
SUMMARY:Rutgers Princeton Center for Computational Cognitive Neuropsychiatry Seminar
DESCRIPTION:Rutgers Princeton Center for Computational Cognitive Neuropsychiatry Seminar- Affect-congruent attention modulates generalized reward expectations\, Angela Radulescu\, Princeton\, Online
URL:https://ritms.rutgers.edu/event/rutgers-princeton-center-for-computational-cognitive-neuropsychiatry-seminar-3/
END:VEVENT
BEGIN:VEVENT
DTSTART;TZID=UTC:20210505T143000
DTEND;TZID=UTC:20210505T153000
DTSTAMP:20260423T110459
CREATED:20210503T174117Z
LAST-MODIFIED:20210505T174113Z
UID:11159-1620225000-1620228600@ritms.rutgers.edu
SUMMARY:Virtual Event I-Corps @ Rutgers
DESCRIPTION:Virtual Event I-Corps @ Rutgers – Listen\, Think\, Create! Advice from a Tech CEO whose Business is Innovation. Dean Guida\, Founder & CEO of Infragistics. Register here!
URL:https://ritms.rutgers.edu/event/virtual-event-i-corps-rutgers/
END:VEVENT
BEGIN:VEVENT
DTSTART;TZID=UTC:20210505T160000
DTEND;TZID=UTC:20210505T170000
DTSTAMP:20260423T110459
CREATED:20210427T172619Z
LAST-MODIFIED:20210505T174113Z
UID:11106-1620230400-1620234000@ritms.rutgers.edu
SUMMARY:CINJ Grand Rounds
DESCRIPTION:CINJ Grand Rounds-Machine Learning Applications to Behavioral Science and Beyond\, Nathaniel Daw\, Princeton University. View Flyer and Register Here!
URL:https://ritms.rutgers.edu/event/cinj-grand-rounds-4/
END:VEVENT
BEGIN:VEVENT
DTSTART;TZID=UTC:20210506T143000
DTEND;TZID=UTC:20210506T160000
DTSTAMP:20260423T110459
CREATED:20210427T172619Z
LAST-MODIFIED:20210506T174052Z
UID:11107-1620311400-1620316800@ritms.rutgers.edu
SUMMARY:NJ ACTS Biostatistics and Epidemiology Workshop Series
DESCRIPTION:NJ ACTS Biostatistics and Epidemiology Workshop Series-An Introduction to the analysis of RNA sequencing data at multiple scales\, Vivian Li\, Rutgers. View Flyer and Register Here!
URL:https://ritms.rutgers.edu/event/nj-acts-biostatistics-and-epidemiology-workshop-series-2/
END:VEVENT
BEGIN:VEVENT
DTSTART;TZID=UTC:20210507T113000
DTEND;TZID=UTC:20210507T123000
DTSTAMP:20260423T110459
CREATED:20210407T152717Z
LAST-MODIFIED:20210507T174241Z
UID:10892-1620387000-1620390600@ritms.rutgers.edu
SUMMARY:CINJ Trainee Seminar Series
DESCRIPTION:CINJ Trainee Seminar Series-Regulation of ALC-1 by TRIM33 Protein in DNA Repair Mechanism\, Husam Al-Hraishawi\, Rutgers. Register Here!
URL:https://ritms.rutgers.edu/event/cinj-trainee-seminar-series-6/
END:VEVENT
BEGIN:VEVENT
DTSTART;TZID=UTC:20210511T120000
DTEND;TZID=UTC:20210511T130000
DTSTAMP:20260423T110459
CREATED:20210411T161130Z
LAST-MODIFIED:20210511T175807Z
UID:10929-1620734400-1620738000@ritms.rutgers.edu
SUMMARY:NJ ACTS Special Populations 2021 Webinar Series
DESCRIPTION:NJ ACTS Special Populations 2021 Webinar Series-Medications for Opioid Use Disorder and Peer Health Navigation for Persons Leaving NJ State Prisons and Returning to the Community – Early Findings\, Donald (Rusty) Reeves and Peter Treitler\, Rutgers. Join via Zoom and View Flyer.
URL:https://ritms.rutgers.edu/event/nj-acts-special-populations-2021-webinar-series-2/
END:VEVENT
BEGIN:VEVENT
DTSTART;TZID=UTC:20210511T153000
DTEND;TZID=UTC:20210511T163000
DTSTAMP:20260423T110459
CREATED:20210427T172619Z
LAST-MODIFIED:20210511T175807Z
UID:11108-1620747000-1620750600@ritms.rutgers.edu
SUMMARY:CINJ Recruitment Lecture
DESCRIPTION:CINJ Recruitment Lecture: “Exploring Determinants of Obesity-Related Behaviors Among Latino Adolescents” Speaker: Dr. Christopher Johansen\, UCLA Center for Cancer Prevention and Control Research. Link to Webex Meeting and access details below: \nWebex\nMeeting number (access code): 120 691 6018\nMeeting password: bVbscDYV958\nJoin by phone: 1-650-429-3300
URL:https://ritms.rutgers.edu/event/cinj-recruitment-lecture-4/
END:VEVENT
BEGIN:VEVENT
DTSTART;TZID=UTC:20210512T100000
DTEND;TZID=UTC:20210512T110000
DTSTAMP:20260423T110459
CREATED:20210506T174053Z
LAST-MODIFIED:20210512T175543Z
UID:11188-1620813600-1620817200@ritms.rutgers.edu
SUMMARY:Rutgers Princeton Center for Computational Cognitive Neuropsychiatry Seminar
DESCRIPTION:Rutgers Princeton Center for Computational Cognitive Neuropsychiatry Seminar- Risky business: the effects of reward cues on decision making in models of addiction\, Mariya V. Cherkasova\, Princeton\, Online\, Register Here
URL:https://ritms.rutgers.edu/event/rutgers-princeton-center-for-computational-cognitive-neuropsychiatry-seminar-4/
END:VEVENT
BEGIN:VEVENT
DTSTART;TZID=UTC:20210512T120000
DTEND;TZID=UTC:20210512T130000
DTSTAMP:20260423T110459
CREATED:20210429T172641Z
LAST-MODIFIED:20210512T175543Z
UID:11132-1620820800-1620824400@ritms.rutgers.edu
SUMMARY:Cancer Metabolism and Growth Program Meeting
DESCRIPTION:Cancer Metabolism and Growth Program Meeting- YAP mediates cardiac hypertrophy by stimulating aerobic glycolysis\, Junichi Sadoshima\, Rutgers\, Online\, Register Here
URL:https://ritms.rutgers.edu/event/cancer-metabolism-and-growth-program-meeting-2/
END:VEVENT
BEGIN:VEVENT
DTSTART;TZID=UTC:20210512T160000
DTEND;TZID=UTC:20210512T170000
DTSTAMP:20260423T110459
CREATED:20210412T161119Z
LAST-MODIFIED:20210512T175543Z
UID:10941-1620835200-1620838800@ritms.rutgers.edu
SUMMARY:Research Resources Workshop Wednesday
DESCRIPTION:Research Resources Workshop Wednesday-Medicinal Chemistry and Molecular Screening\, Jacques Roberge\, PhD – Interim Director\, Molecular Design and Synthesis Core\, OFR and Mark Grier\, PhD – Assistant Research Professor – Molecular Design and Synthesis Core\, OFR. Join via Zoom. \n 
URL:https://ritms.rutgers.edu/event/research-resources-workshop-wednesday-2/
END:VEVENT
BEGIN:VEVENT
DTSTART;TZID=UTC:20210512T160000
DTEND;TZID=UTC:20210512T170000
DTSTAMP:20260423T110459
CREATED:20210512T175543Z
LAST-MODIFIED:20210512T175543Z
UID:11216-1620835200-1620838800@ritms.rutgers.edu
SUMMARY:CINJ Grand Rounds – “Striving Towards Care Equity Among Those with Inherited Cancer”
DESCRIPTION:CINJ Grand Rounds: Striving Towards Care Equity Among Those with Inherited Cancer – Tuya Pal\, MD – Associate Director for Cancer Health Disparities\, Ingram Professor of Cancer Research\, Professor of Medicine\, Professor of Pediatrics Vanderbilt Ingram Cancer Center. Pre-registration is required. Register here! \nKindly note: Registrants will be able to begin logging on at 3:30pm.  Seminar starts at 4pm and will be locked at 4:15pm.  Please pre-register prior to that time.
URL:https://ritms.rutgers.edu/event/cinj-grand-rounds-striving-towards-care-equity-among-those-with-inherited-cancer/
END:VEVENT
BEGIN:VEVENT
DTSTART;TZID=UTC:20210513T080000
DTEND;TZID=UTC:20210513T130000
DTSTAMP:20260423T110459
CREATED:20210420T165838Z
LAST-MODIFIED:20210513T175805Z
UID:11025-1620892800-1620910800@ritms.rutgers.edu
SUMMARY:Annual Department of Pediatrics Research Day
DESCRIPTION:Annual Department of Pediatrics Research Day-Keynote Speaker: Lawrence C. Kleinman\, MD\, MPH\, FAAP\, Professor and Vice-Chair for Academic Development\, Chief\, Division of Population Health\, Quality\, and Implementation Science (PopQuIS). View the 2021 Research Day notification letter.  View the ABSTRACT SUBMISSION FORM
URL:https://ritms.rutgers.edu/event/annual-department-of-pediatrics-research-day/
END:VEVENT
BEGIN:VEVENT
DTSTART;TZID=UTC:20210513T110000
DTEND;TZID=UTC:20210513T120000
DTSTAMP:20260423T110459
CREATED:20210413T161422Z
LAST-MODIFIED:20210513T175805Z
UID:10956-1620903600-1620907200@ritms.rutgers.edu
SUMMARY:Center for COVID Response and Pandemic Preparedness (CCRP2) COVID-19 Seminar Series
DESCRIPTION:Center for COVID Response and Pandemic Preparedness (CCRP2) COVID-19 Seminar Series-Nevan Krogan\, UC San Francisco.
URL:https://ritms.rutgers.edu/event/center-for-covid-response-and-pandemic-preparedness-ccrp2-covid-19-seminar-series-2/
END:VEVENT
BEGIN:VEVENT
DTSTART;TZID=UTC:20210514T084500
DTEND;TZID=UTC:20210514T170000
DTSTAMP:20260423T110459
CREATED:20210504T174035Z
LAST-MODIFIED:20210514T175658Z
UID:11169-1620981900-1621011600@ritms.rutgers.edu
SUMMARY:Rutgers University Microbiome Program Annual Retreat 2021
DESCRIPTION:RUMP Annual Retreat 2021 – Register here!!!  \nKeynote Speaker: Curtis Huttehower\, PhD – Harvard T.H. Chan School of Public Health\nInvited Speakers: Rosamond Rhodes\, PhD – Icahn School of Medicine at Mount Sinai & Assemblyman Herb Conaway Jr.\, MD\, JD – NJ General Assembly\nView flyer for additional event details \n 
URL:https://ritms.rutgers.edu/event/rutgers-university-microbiome-program-annual-retreat-2021/
END:VEVENT
BEGIN:VEVENT
DTSTART;TZID=UTC:20210517T080000
DTEND;TZID=UTC:20210520T170000
DTSTAMP:20260423T110459
CREATED:20210420T165838Z
LAST-MODIFIED:20210517T181025Z
UID:11026-1621238400-1621530000@ritms.rutgers.edu
SUMMARY:Certified Tobacco Treatment Specialist Training
DESCRIPTION:Certified Tobacco Treatment Specialist Training – This conference is designed for Social Workers; Nurses; Psychologists; Certified Counselors; Certified Alcohol and Drug Counselors; Marriage and Family Therapist and other health care professionals who treat tobacco users \nRegistration 7:30am to 8:00am TRAINING RATE: $1075 \nMay 17\, 2021 – May 20\, 2021 8:00 am – 5:30 pm\nMore information here: http://www.tobaccoprogram.org
URL:https://ritms.rutgers.edu/event/certified-tobacco-treatment-specialist-training/
END:VEVENT
BEGIN:VEVENT
DTSTART;TZID=UTC:20210517T120000
DTEND;TZID=UTC:20210517T130000
DTSTAMP:20260423T110459
CREATED:20210417T162632Z
LAST-MODIFIED:20210517T181026Z
UID:11000-1621252800-1621256400@ritms.rutgers.edu
SUMMARY:Child Health Institute of New Jersey Science Seminar Series
DESCRIPTION:Child Health Institute Science Seminar Series-Open Date
URL:https://ritms.rutgers.edu/event/child-health-institute-of-new-jersey-science-seminar-series-2/
END:VEVENT
END:VCALENDAR