BEGIN:VCALENDAR
VERSION:2.0
PRODID:-//Institute for Translational Medicine and Science - ECPv6.15.16//NONSGML v1.0//EN
CALSCALE:GREGORIAN
METHOD:PUBLISH
X-ORIGINAL-URL:https://ritms.rutgers.edu
X-WR-CALDESC:Events for Institute for Translational Medicine and Science
REFRESH-INTERVAL;VALUE=DURATION:PT1H
X-Robots-Tag:noindex
X-PUBLISHED-TTL:PT1H
BEGIN:VTIMEZONE
TZID:America/New_York
BEGIN:DAYLIGHT
TZOFFSETFROM:-0500
TZOFFSETTO:-0400
TZNAME:EDT
DTSTART:20250309T070000
END:DAYLIGHT
BEGIN:STANDARD
TZOFFSETFROM:-0400
TZOFFSETTO:-0500
TZNAME:EST
DTSTART:20251102T060000
END:STANDARD
BEGIN:DAYLIGHT
TZOFFSETFROM:-0500
TZOFFSETTO:-0400
TZNAME:EDT
DTSTART:20260308T070000
END:DAYLIGHT
BEGIN:STANDARD
TZOFFSETFROM:-0400
TZOFFSETTO:-0500
TZNAME:EST
DTSTART:20261101T060000
END:STANDARD
BEGIN:DAYLIGHT
TZOFFSETFROM:-0500
TZOFFSETTO:-0400
TZNAME:EDT
DTSTART:20270314T070000
END:DAYLIGHT
BEGIN:STANDARD
TZOFFSETFROM:-0400
TZOFFSETTO:-0500
TZNAME:EST
DTSTART:20271107T060000
END:STANDARD
END:VTIMEZONE
BEGIN:VEVENT
DTSTART;TZID=America/New_York:20260415T100604
DTEND;TZID=America/New_York:20260415T100604
DTSTAMP:20260420T195759
CREATED:20260415T150605Z
LAST-MODIFIED:20260415T150605Z
UID:26456-1776247564-1776247564@ritms.rutgers.edu
SUMMARY:Drug Metabolism Group Spring Symposium and Vendor Exhibition
DESCRIPTION:Drug Metabolism Group Spring Symposium and Vendor Exhibition-How Obesity Therapeutics Are Influencing the Pharmaceutical Industry\, and Other Current Topics in Drug Development\, Introductory Remarks Matthew Hoffmann\, PhD\, Insmed\, Chair of NJDMDG. The Palace at Somerset Park\, 333 Davidson Ave\, Somerset. View Flyer and Read More and Register
URL:https://ritms.rutgers.edu/event/drug-metabolism-group-spring-symposium-and-vendor-exhibition/
END:VEVENT
END:VCALENDAR