BEGIN:VCALENDAR
VERSION:2.0
PRODID:-//Institute for Translational Medicine and Science - ECPv6.15.16//NONSGML v1.0//EN
CALSCALE:GREGORIAN
METHOD:PUBLISH
X-ORIGINAL-URL:https://ritms.rutgers.edu
X-WR-CALDESC:Events for Institute for Translational Medicine and Science
REFRESH-INTERVAL;VALUE=DURATION:PT1H
X-Robots-Tag:noindex
X-PUBLISHED-TTL:PT1H
BEGIN:VTIMEZONE
TZID:America/New_York
BEGIN:DAYLIGHT
TZOFFSETFROM:-0500
TZOFFSETTO:-0400
TZNAME:EDT
DTSTART:20250309T070000
END:DAYLIGHT
BEGIN:STANDARD
TZOFFSETFROM:-0400
TZOFFSETTO:-0500
TZNAME:EST
DTSTART:20251102T060000
END:STANDARD
BEGIN:DAYLIGHT
TZOFFSETFROM:-0500
TZOFFSETTO:-0400
TZNAME:EDT
DTSTART:20260308T070000
END:DAYLIGHT
BEGIN:STANDARD
TZOFFSETFROM:-0400
TZOFFSETTO:-0500
TZNAME:EST
DTSTART:20261101T060000
END:STANDARD
BEGIN:DAYLIGHT
TZOFFSETFROM:-0500
TZOFFSETTO:-0400
TZNAME:EDT
DTSTART:20270314T070000
END:DAYLIGHT
BEGIN:STANDARD
TZOFFSETFROM:-0400
TZOFFSETTO:-0500
TZNAME:EST
DTSTART:20271107T060000
END:STANDARD
END:VTIMEZONE
BEGIN:VEVENT
DTSTART;TZID=America/New_York:20260312T080431
DTEND;TZID=America/New_York:20260312T080431
DTSTAMP:20260420T031712
CREATED:20260312T130431Z
LAST-MODIFIED:20260312T130431Z
UID:25977-1773302671-1773302671@ritms.rutgers.edu
SUMMARY:Short Course on Multilingual Approaches to Research Studies
DESCRIPTION:Short Course on Multilingual Approaches to Research Studies-Helps prepare health researchers to recruit and engage children\, youth\, and families who prefer a language other than English. Children’s Hospital of Philadelphia and Online. Read More about the Program. View the Agenda.
URL:https://ritms.rutgers.edu/event/short-course-on-multilingual-approaches-to-research-studies/
END:VEVENT
BEGIN:VEVENT
DTSTART;TZID=America/New_York:20260312T081005
DTEND;TZID=America/New_York:20260312T081005
DTSTAMP:20260420T031712
CREATED:20260312T131005Z
LAST-MODIFIED:20260312T131005Z
UID:25978-1773303005-1773303005@ritms.rutgers.edu
SUMMARY:Short Course on Multilingual Approaches to Research Studies
DESCRIPTION:Short Course on Multilingual Approaches to Research Studies-Helps prepare health researchers to recruit and engage children\, youth\, and families who prefer a language other than English. Children’s Hospital of Philadelphia and Online. Read More about the Program. View the Agenda.
URL:https://ritms.rutgers.edu/event/short-course-on-multilingual-approaches-to-research-studies-2/
END:VEVENT
BEGIN:VEVENT
DTSTART;TZID=America/New_York:20260312T081131
DTEND;TZID=America/New_York:20260312T081131
DTSTAMP:20260420T031712
CREATED:20260312T131131Z
LAST-MODIFIED:20260312T131131Z
UID:25979-1773303091-1773303091@ritms.rutgers.edu
SUMMARY:Short Course on Multilingual Approaches to Research Studies
DESCRIPTION:Short Course on Multilingual Approaches to Research Studies-Helps prepare health researchers to recruit and engage children\, youth\, and families who prefer a language other than English. Children’s Hospital of Philadelphia and Online. Read More about the Program. View the Agenda.
URL:https://ritms.rutgers.edu/event/short-course-on-multilingual-approaches-to-research-studies-3/
END:VEVENT
BEGIN:VEVENT
DTSTART;TZID=America/New_York:20260312T180000
DTEND;TZID=America/New_York:20260312T210000
DTSTAMP:20260420T031712
CREATED:20251208T135753Z
LAST-MODIFIED:20251208T140004Z
UID:24946-1773338400-1773349200@ritms.rutgers.edu
SUMMARY:Propelus I-Corps
DESCRIPTION:Propelus I-Corps-Explore the customer perspective to inform how a discovery can become a successful startup or venture. Hosted by the New Jersey Institute of Technology\, February and March 2026 – Virtual. Read More and Register
URL:https://ritms.rutgers.edu/event/propelus-i-corps-8/
END:VEVENT
END:VCALENDAR