BEGIN:VCALENDAR
VERSION:2.0
PRODID:-//Institute for Translational Medicine and Science - ECPv6.15.16//NONSGML v1.0//EN
CALSCALE:GREGORIAN
METHOD:PUBLISH
X-ORIGINAL-URL:https://ritms.rutgers.edu
X-WR-CALDESC:Events for Institute for Translational Medicine and Science
REFRESH-INTERVAL;VALUE=DURATION:PT1H
X-Robots-Tag:noindex
X-PUBLISHED-TTL:PT1H
BEGIN:VTIMEZONE
TZID:America/New_York
BEGIN:DAYLIGHT
TZOFFSETFROM:-0500
TZOFFSETTO:-0400
TZNAME:EDT
DTSTART:20250309T070000
END:DAYLIGHT
BEGIN:STANDARD
TZOFFSETFROM:-0400
TZOFFSETTO:-0500
TZNAME:EST
DTSTART:20251102T060000
END:STANDARD
BEGIN:DAYLIGHT
TZOFFSETFROM:-0500
TZOFFSETTO:-0400
TZNAME:EDT
DTSTART:20260308T070000
END:DAYLIGHT
BEGIN:STANDARD
TZOFFSETFROM:-0400
TZOFFSETTO:-0500
TZNAME:EST
DTSTART:20261101T060000
END:STANDARD
BEGIN:DAYLIGHT
TZOFFSETFROM:-0500
TZOFFSETTO:-0400
TZNAME:EDT
DTSTART:20270314T070000
END:DAYLIGHT
BEGIN:STANDARD
TZOFFSETFROM:-0400
TZOFFSETTO:-0500
TZNAME:EST
DTSTART:20271107T060000
END:STANDARD
END:VTIMEZONE
BEGIN:VEVENT
DTSTART;TZID=America/New_York:20260311T084355
DTEND;TZID=America/New_York:20260311T084355
DTSTAMP:20260425T162814
CREATED:20260311T134355Z
LAST-MODIFIED:20260311T134355Z
UID:25965-1773218635-1773218635@ritms.rutgers.edu
SUMMARY:Rutgers Road Maps AI Week 2026
DESCRIPTION:Rutgers Road Maps AI Week 2026-Rutgers Artificial Intelligence and Data Science (RAD) Collaboratory\, Inaugural Research Symposium. Douglass Student Center\, 100 George Street\, New Brunswick. View Flyer and Register
URL:https://ritms.rutgers.edu/event/rutgers-road-maps-ai-week-2026/
END:VEVENT
BEGIN:VEVENT
DTSTART;TZID=America/New_York:20260311T084801
DTEND;TZID=America/New_York:20260311T084801
DTSTAMP:20260425T162814
CREATED:20260311T134801Z
LAST-MODIFIED:20260311T134801Z
UID:25966-1773218881-1773218881@ritms.rutgers.edu
SUMMARY:Rutgers Road Maps AI Week 2026
DESCRIPTION:Rutgers Road Maps AI Week 2026-Institute for Data\, Research and Innovation Science (IDRIS). Express Newark\, 54 Halsey Street 2nd Floor\, Newark. View Flyer and Register
URL:https://ritms.rutgers.edu/event/rutgers-road-maps-ai-week-2026-2/
END:VEVENT
END:VCALENDAR