BEGIN:VCALENDAR
VERSION:2.0
PRODID:-//Institute for Translational Medicine and Science - ECPv6.15.16//NONSGML v1.0//EN
CALSCALE:GREGORIAN
METHOD:PUBLISH
X-ORIGINAL-URL:https://ritms.rutgers.edu
X-WR-CALDESC:Events for Institute for Translational Medicine and Science
REFRESH-INTERVAL;VALUE=DURATION:PT1H
X-Robots-Tag:noindex
X-PUBLISHED-TTL:PT1H
BEGIN:VTIMEZONE
TZID:America/New_York
BEGIN:DAYLIGHT
TZOFFSETFROM:-0500
TZOFFSETTO:-0400
TZNAME:EDT
DTSTART:20250309T070000
END:DAYLIGHT
BEGIN:STANDARD
TZOFFSETFROM:-0400
TZOFFSETTO:-0500
TZNAME:EST
DTSTART:20251102T060000
END:STANDARD
BEGIN:DAYLIGHT
TZOFFSETFROM:-0500
TZOFFSETTO:-0400
TZNAME:EDT
DTSTART:20260308T070000
END:DAYLIGHT
BEGIN:STANDARD
TZOFFSETFROM:-0400
TZOFFSETTO:-0500
TZNAME:EST
DTSTART:20261101T060000
END:STANDARD
BEGIN:DAYLIGHT
TZOFFSETFROM:-0500
TZOFFSETTO:-0400
TZNAME:EDT
DTSTART:20270314T070000
END:DAYLIGHT
BEGIN:STANDARD
TZOFFSETFROM:-0400
TZOFFSETTO:-0500
TZNAME:EST
DTSTART:20271107T060000
END:STANDARD
END:VTIMEZONE
BEGIN:VEVENT
DTSTART;TZID=America/New_York:20260218T084408
DTEND;TZID=America/New_York:20260218T084408
DTSTAMP:20260423T142605
CREATED:20260218T134408Z
LAST-MODIFIED:20260218T134408Z
UID:25706-1771404248-1771404248@ritms.rutgers.edu
SUMMARY:Princeton Precision Health Seminar Series
DESCRIPTION:Princeton Precision Health Seminar Series-AI and Precision Health: From Episodic Care to Continuous Health: How Wearables and AI Are Reshaping Preventive Care\, Ricky Bloomfield\, Oura. 252 Nassau St\, Princeton NJ 2nd Floor. Details
URL:https://ritms.rutgers.edu/event/princeton-precision-health-seminar-series-11/
END:VEVENT
BEGIN:VEVENT
DTSTART;TZID=America/New_York:20260218T084934
DTEND;TZID=America/New_York:20260218T084934
DTSTAMP:20260423T142605
CREATED:20260218T134934Z
LAST-MODIFIED:20260218T134934Z
UID:25709-1771404574-1771404574@ritms.rutgers.edu
SUMMARY:2026 Yale Medical AI Symposium
DESCRIPTION:2026 Yale Medical AI Symposium-The symposium will bring together investigators\, clinicians\, informaticians\, data scientists\, and trainees to share advances in medical AI\, foster cross-CTSA collaboration\, and discuss best practices for developing\, evaluating\, and deploying AI in clinical and translational research. Learn More and Register
URL:https://ritms.rutgers.edu/event/2026-yale-medical-ai-symposium/
END:VEVENT
BEGIN:VEVENT
DTSTART;TZID=America/New_York:20260218T085245
DTEND;TZID=America/New_York:20260218T085245
DTSTAMP:20260423T142605
CREATED:20260218T135246Z
LAST-MODIFIED:20260218T135246Z
UID:25710-1771404765-1771404765@ritms.rutgers.edu
SUMMARY:Rare Disease Day at NIH
DESCRIPTION:Rare Disease Day at NIH-NIH aims to raise awareness about rare diseases\, the people they affect\, and NIH collaborations that address scientific challenges and advance research for new treatments. Read More and Register
URL:https://ritms.rutgers.edu/event/rare-disease-day-at-nih/
END:VEVENT
BEGIN:VEVENT
DTSTART;TZID=America/New_York:20260218T115343
DTEND;TZID=America/New_York:20260218T115343
DTSTAMP:20260423T142605
CREATED:20260218T165343Z
LAST-MODIFIED:20260218T165343Z
UID:25716-1771415623-1771415623@ritms.rutgers.edu
SUMMARY:Rutgers Princeton Center for Computational Cognitive Neuropsychiatry Seminar
DESCRIPTION:Rutgers Princeton Center for Computational Cognitive Neuropsychiatry Seminar-Reproducible Brain Charts: An open data resource for mapping brain development and its associations with mental health\, Golia Shafiei\, University of Pennsylvania. ccnp.princeton.edu
URL:https://ritms.rutgers.edu/event/rutgers-princeton-center-for-computational-cognitive-neuropsychiatry-seminar-68/
END:VEVENT
END:VCALENDAR