BEGIN:VCALENDAR
VERSION:2.0
PRODID:-//Institute for Translational Medicine and Science - ECPv6.15.16//NONSGML v1.0//EN
CALSCALE:GREGORIAN
METHOD:PUBLISH
X-ORIGINAL-URL:https://ritms.rutgers.edu
X-WR-CALDESC:Events for Institute for Translational Medicine and Science
REFRESH-INTERVAL;VALUE=DURATION:PT1H
X-Robots-Tag:noindex
X-PUBLISHED-TTL:PT1H
BEGIN:VTIMEZONE
TZID:UTC
BEGIN:STANDARD
TZOFFSETFROM:+0000
TZOFFSETTO:+0000
TZNAME:UTC
DTSTART:20240101T000000
END:STANDARD
END:VTIMEZONE
BEGIN:VEVENT
DTSTART;TZID=UTC:20250919T093000
DTEND;TZID=UTC:20250919T171500
DTSTAMP:20260421T092327
CREATED:20250908T120121Z
LAST-MODIFIED:20250908T120121Z
UID:23649-1758274200-1758302100@ritms.rutgers.edu
SUMMARY:2025 Rutgers Postdoctoral Research Symposium
DESCRIPTION:2025 Rutgers Postdoctoral Research Symposium-Keynote speaker\, Dr. Laura Giacometti. This celebration of research will strengthen relationships between RU postdocs\, facilitate potential collaborations\, and allow important research to be shared with a broad group of scientists. Proteomics Room 120\, 174 Frelinghuysen Rd\, Piscataway Read More. Registration Deadline: September 12\, using this link.
URL:https://ritms.rutgers.edu/event/2025-rutgers-postdoctoral-research-symposium-2/
LOCATION:Institute for Quantitative Biomedicine at Rutgers\, Proteomics Room 120\, 174 Frelinghuysen Road\, Piscataway\, NJ\, 08854\, United States
END:VEVENT
END:VCALENDAR