BEGIN:VCALENDAR
VERSION:2.0
PRODID:-//Institute for Translational Medicine and Science - ECPv6.15.16//NONSGML v1.0//EN
CALSCALE:GREGORIAN
METHOD:PUBLISH
X-ORIGINAL-URL:https://ritms.rutgers.edu
X-WR-CALDESC:Events for Institute for Translational Medicine and Science
REFRESH-INTERVAL;VALUE=DURATION:PT1H
X-Robots-Tag:noindex
X-PUBLISHED-TTL:PT1H
BEGIN:VTIMEZONE
TZID:UTC
BEGIN:STANDARD
TZOFFSETFROM:+0000
TZOFFSETTO:+0000
TZNAME:UTC
DTSTART:20230101T000000
END:STANDARD
END:VTIMEZONE
BEGIN:VEVENT
DTSTART;TZID=UTC:20241111T130000
DTEND;TZID=UTC:20241111T140000
DTSTAMP:20260421T030426
CREATED:20241026T023410Z
LAST-MODIFIED:20241111T233910Z
UID:20453-1731330000-1731333600@ritms.rutgers.edu
SUMMARY:NJ ACTS Workforce Development NIH Fellowship Writing Group
DESCRIPTION:NJ ACTS Workforce Development NIH Fellowship Writing Group-Under the guidance of a Grant Writing Coach\, construct your NIH fellowship application this Fall. Virtual. View Flyer and Register
URL:https://ritms.rutgers.edu/event/nj-acts-workforce-development-nih-fellowship-writing-group-10/
END:VEVENT
BEGIN:VEVENT
DTSTART;TZID=UTC:20241111T140000
DTEND;TZID=UTC:20241111T153000
DTSTAMP:20260421T030426
CREATED:20241028T033608Z
LAST-MODIFIED:20241111T233911Z
UID:20461-1731333600-1731339000@ritms.rutgers.edu
SUMMARY:NJ ACTS Workforce Development Core Virtual Workshop
DESCRIPTION:NJ ACTS Workforce Development Core Virtual Workshop-Effective Science Communication: Balancing Simplicity and Impact\, open to graduate students and postdoctoral trainees\, Co-led by: Penelope Georges and Erin Flowers of Princeton’s Council on Science and Technology. View Flyer and Register for Zoom
URL:https://ritms.rutgers.edu/event/nj-acts-workforce-development-core-virtual-workshop/
END:VEVENT
END:VCALENDAR