BEGIN:VCALENDAR
VERSION:2.0
PRODID:-//Institute for Translational Medicine and Science - ECPv6.15.16//NONSGML v1.0//EN
CALSCALE:GREGORIAN
METHOD:PUBLISH
X-ORIGINAL-URL:https://ritms.rutgers.edu
X-WR-CALDESC:Events for Institute for Translational Medicine and Science
REFRESH-INTERVAL;VALUE=DURATION:PT1H
X-Robots-Tag:noindex
X-PUBLISHED-TTL:PT1H
BEGIN:VTIMEZONE
TZID:UTC
BEGIN:STANDARD
TZOFFSETFROM:+0000
TZOFFSETTO:+0000
TZNAME:UTC
DTSTART:20230101T000000
END:STANDARD
END:VTIMEZONE
BEGIN:VEVENT
DTSTART;TZID=UTC:20241016T120000
DTEND;TZID=UTC:20241016T130000
DTSTAMP:20260426T024803
CREATED:20241001T183926Z
LAST-MODIFIED:20241017T003603Z
UID:20272-1729080000-1729083600@ritms.rutgers.edu
SUMMARY:Trial Innovation Network Collaboration Webinar
DESCRIPTION:Trial Innovation Network Collaboration Webinar-The EFIC Toolkit\, How to build a community consultation and public disclosure plan with Francis Guyette\, MD\, MPH. Register here
URL:https://ritms.rutgers.edu/event/trial-innovation-network-collaboration-webinar-12/
END:VEVENT
BEGIN:VEVENT
DTSTART;TZID=UTC:20241016T120000
DTEND;TZID=UTC:20241016T130000
DTSTAMP:20260426T024803
CREATED:20241016T223819Z
LAST-MODIFIED:20241017T003604Z
UID:20367-1729080000-1729083600@ritms.rutgers.edu
SUMMARY:CINJ Trainee Seminar Series
DESCRIPTION:CINJ Trainee Seminar Series-Designing New Genetically Engineered Mouse Models to Investigate Pancreatic Cancer Progression\, Polina Guseva\, Phd and Exploring Gene Expression of Developing Thymocytes at Single-Cell Resolution with a Rank-Based Metric\, Christopher Thai. CINJ Auditorium A\, 120 Albany Street\, New Brunswick.
URL:https://ritms.rutgers.edu/event/cinj-trainee-seminar-series-32/
LOCATION:Rutgers Cancer Institute\, Auditorium A\, 195 Little Albany Street\, New Brunswick\, NJ\, 08901\, United States
END:VEVENT
BEGIN:VEVENT
DTSTART;TZID=UTC:20241016T160000
DTEND;TZID=UTC:20241016T170000
DTSTAMP:20260426T024803
CREATED:20241004T183906Z
LAST-MODIFIED:20241017T003605Z
UID:20288-1729094400-1729098000@ritms.rutgers.edu
SUMMARY:Research Resources Workshop Wednesday (R2W2) Series
DESCRIPTION:Research Resources Workshop Wednesday (R2W2) Series-NJ ACTS and Research Resources\, Reynold A. Panettieri Jr\, MD\, Rutgers. View Flyer and Join on Zoom.
URL:https://ritms.rutgers.edu/event/research-resources-workshop-wednesday-r2w2-series/
END:VEVENT
BEGIN:VEVENT
DTSTART;TZID=UTC:20241016T160000
DTEND;TZID=UTC:20241016T170000
DTSTAMP:20260426T024803
CREATED:20241014T204349Z
LAST-MODIFIED:20241017T003606Z
UID:20349-1729094400-1729098000@ritms.rutgers.edu
SUMMARY:CINJ Distinguished Lecture Series
DESCRIPTION:CINJ Distinguished Lecture Series-Will liquid biopsy be a game changer for cancer early detection\, Timothy R. Rebbeck\, PhD\, Dana-Farber Cancer Institute. Medical Education Building\, Lecture Hall 102\, 125 Paterson Street\, New Brunswick.
URL:https://ritms.rutgers.edu/event/cinj-distinguished-lecture-series-2/
LOCATION:Medical Education Building\, Lecture Hall 102\, 1 Robert Wood Johnson Place\, New Brunswick\, NJ\, 08901\, United States
END:VEVENT
END:VCALENDAR