BEGIN:VCALENDAR
VERSION:2.0
PRODID:-//Institute for Translational Medicine and Science - ECPv6.15.16//NONSGML v1.0//EN
CALSCALE:GREGORIAN
METHOD:PUBLISH
X-ORIGINAL-URL:https://ritms.rutgers.edu
X-WR-CALDESC:Events for Institute for Translational Medicine and Science
REFRESH-INTERVAL;VALUE=DURATION:PT1H
X-Robots-Tag:noindex
X-PUBLISHED-TTL:PT1H
BEGIN:VTIMEZONE
TZID:UTC
BEGIN:STANDARD
TZOFFSETFROM:+0000
TZOFFSETTO:+0000
TZNAME:UTC
DTSTART:20230101T000000
END:STANDARD
END:VTIMEZONE
BEGIN:VEVENT
DTSTART;TZID=UTC:20241011T120000
DTEND;TZID=UTC:20241011T130000
DTSTAMP:20260420T191555
CREATED:20241008T194234Z
LAST-MODIFIED:20241009T203855Z
UID:20307-1728648000-1728651600@ritms.rutgers.edu
SUMMARY:Princeton Precision Health 2024 Seminar Series
DESCRIPTION:Princeton Precision Health 2024 Seminar Series-The Pandemic: Science\, Policy and Trust\, Zeynep Tufekci\, Princeton University. 252 Nassau Street\, Princeton\, NJ. https://pph.princeton.edu/events
URL:https://ritms.rutgers.edu/event/princeton-precision-health-2024-seminar-series-3/
LOCATION:Princeton University\, 252 Nassau Street\, Princeton\, NJ\, 08544\, United States
END:VEVENT
END:VCALENDAR