BEGIN:VCALENDAR
VERSION:2.0
PRODID:-//Institute for Translational Medicine and Science - ECPv6.15.16//NONSGML v1.0//EN
CALSCALE:GREGORIAN
METHOD:PUBLISH
X-ORIGINAL-URL:https://ritms.rutgers.edu
X-WR-CALDESC:Events for Institute for Translational Medicine and Science
REFRESH-INTERVAL;VALUE=DURATION:PT1H
X-Robots-Tag:noindex
X-PUBLISHED-TTL:PT1H
BEGIN:VTIMEZONE
TZID:UTC
BEGIN:STANDARD
TZOFFSETFROM:+0000
TZOFFSETTO:+0000
TZNAME:UTC
DTSTART:20230101T000000
END:STANDARD
END:VTIMEZONE
BEGIN:VEVENT
DTSTART;TZID=UTC:20241010T093000
DTEND;TZID=UTC:20241010T123000
DTSTAMP:20260420T120430
CREATED:20240928T173740Z
LAST-MODIFIED:20241009T203854Z
UID:20258-1728552600-1728563400@ritms.rutgers.edu
SUMMARY:Propelus I-Corps – Regional Fall
DESCRIPTION:Propelus I-Corps – Regional Fall–Propelus I-Corps is a program designed for research teams with a technology innovation to explore how their discovery can help potential customers and meet industry needs as a startup or venture. Propelus is open to innovators from across the Northeast. University affiliation is not required. Virtual. Register Here.
URL:https://ritms.rutgers.edu/event/propelus-i-corps-regional-fall-2/
END:VEVENT
END:VCALENDAR