BEGIN:VCALENDAR
VERSION:2.0
PRODID:-//Institute for Translational Medicine and Science - ECPv6.15.16//NONSGML v1.0//EN
CALSCALE:GREGORIAN
METHOD:PUBLISH
X-ORIGINAL-URL:https://ritms.rutgers.edu
X-WR-CALDESC:Events for Institute for Translational Medicine and Science
REFRESH-INTERVAL;VALUE=DURATION:PT1H
X-Robots-Tag:noindex
X-PUBLISHED-TTL:PT1H
BEGIN:VTIMEZONE
TZID:UTC
BEGIN:STANDARD
TZOFFSETFROM:+0000
TZOFFSETTO:+0000
TZNAME:UTC
DTSTART:20230101T000000
END:STANDARD
END:VTIMEZONE
BEGIN:VEVENT
DTSTART;TZID=UTC:20241009T080000
DTEND;TZID=UTC:20241009T093000
DTSTAMP:20260425T145253
CREATED:20241007T193931Z
LAST-MODIFIED:20241009T203852Z
UID:20301-1728460800-1728466200@ritms.rutgers.edu
SUMMARY:Pediatric Grand Rounds Town Hall
DESCRIPTION:Pediatric Grand Rounds Town Hall-Infections and Cancers after Transplant: What they have taught us about immunology\, virology\, genomics and oncology\, Vikas R. Dharnidharka\, MD\, MPH\, RWJMS. Clinical Academic Building\, 125 Paterson Street\, New Brunswick or on Zoom.
URL:https://ritms.rutgers.edu/event/pediatric-grand-rounds-town-hall/
LOCATION:Clinical Academic Building\, Room 3403\, 125 Paterson Street\, New Brunswick\, NJ\, 08901\, United States
END:VEVENT
BEGIN:VEVENT
DTSTART;TZID=UTC:20241009T100000
DTEND;TZID=UTC:20241009T110000
DTSTAMP:20260425T145253
CREATED:20241003T203859Z
LAST-MODIFIED:20241009T203853Z
UID:20280-1728468000-1728471600@ritms.rutgers.edu
SUMMARY:Rutgers Princeton Center for Computational Cognitive Neuropsychiatry Seminar
DESCRIPTION:Rutgers Princeton Center for Computational Cognitive Neuropsychiatry Seminar-A computational approach to understanding motivational symptoms in depression\, Jonathan Roiser\, Institute of Cognitive Neuroscience\, Division of Psychology & Lang Sciences. Virtual. ccnp.princeton.edu
URL:https://ritms.rutgers.edu/event/rutgers-princeton-center-for-computational-cognitive-neuropsychiatry-seminar-53/
END:VEVENT
END:VCALENDAR