BEGIN:VCALENDAR
VERSION:2.0
PRODID:-//Institute for Translational Medicine and Science - ECPv6.15.16//NONSGML v1.0//EN
CALSCALE:GREGORIAN
METHOD:PUBLISH
X-ORIGINAL-URL:https://ritms.rutgers.edu
X-WR-CALDESC:Events for Institute for Translational Medicine and Science
REFRESH-INTERVAL;VALUE=DURATION:PT1H
X-Robots-Tag:noindex
X-PUBLISHED-TTL:PT1H
BEGIN:VTIMEZONE
TZID:UTC
BEGIN:STANDARD
TZOFFSETFROM:+0000
TZOFFSETTO:+0000
TZNAME:UTC
DTSTART:20230101T000000
END:STANDARD
END:VTIMEZONE
BEGIN:VEVENT
DTSTART;TZID=UTC:20241003T120000
DTEND;TZID=UTC:20241003T130000
DTSTAMP:20260420T153655
CREATED:20240911T153646Z
LAST-MODIFIED:20241003T223807Z
UID:20192-1727956800-1727960400@ritms.rutgers.edu
SUMMARY:NSF I-Corps Teams Information Session
DESCRIPTION:NSF I-Corps Teams Information Session-Teams program is an intensive 7-week boot camp that covers key concepts related to testing and building a business model. Tune into a webinar to ask an I-Corps director questions about the national I-Corps Teams program\, and learn about the curriculum and important dates. Register
URL:https://ritms.rutgers.edu/event/nsf-i-corps-teams-information-session-3/
END:VEVENT
END:VCALENDAR