BEGIN:VCALENDAR
VERSION:2.0
PRODID:-//Institute for Translational Medicine and Science - ECPv6.15.16//NONSGML v1.0//EN
CALSCALE:GREGORIAN
METHOD:PUBLISH
X-ORIGINAL-URL:https://ritms.rutgers.edu
X-WR-CALDESC:Events for Institute for Translational Medicine and Science
REFRESH-INTERVAL;VALUE=DURATION:PT1H
X-Robots-Tag:noindex
X-PUBLISHED-TTL:PT1H
BEGIN:VTIMEZONE
TZID:UTC
BEGIN:STANDARD
TZOFFSETFROM:+0000
TZOFFSETTO:+0000
TZNAME:UTC
DTSTART:20230101T000000
END:STANDARD
END:VTIMEZONE
BEGIN:VEVENT
DTSTART;TZID=UTC:20240421T080000
DTEND;TZID=UTC:20240421T170000
DTSTAMP:20260425T124633
CREATED:20240418T153946Z
LAST-MODIFIED:20240422T003621Z
UID:19304-1713686400-1713718800@ritms.rutgers.edu
SUMMARY:Propelus I-Corps at Rutgers
DESCRIPTION:Propelus I-Corps at Rutgers-A four-week program designed for research teams with a technology innovation to explore how their discovery can help potential customers and meet industry needs as a startup or venture. May 23\, May 30\, June 6\, June 20. Hatchery Innovation Studio\, New Brunswick\, NJ. Apply by April 21.
URL:https://ritms.rutgers.edu/event/propelus-i-corps-at-rutgers/
END:VEVENT
END:VCALENDAR