BEGIN:VCALENDAR
VERSION:2.0
PRODID:-//Institute for Translational Medicine and Science - ECPv6.15.16//NONSGML v1.0//EN
CALSCALE:GREGORIAN
METHOD:PUBLISH
X-ORIGINAL-URL:https://ritms.rutgers.edu
X-WR-CALDESC:Events for Institute for Translational Medicine and Science
REFRESH-INTERVAL;VALUE=DURATION:PT1H
X-Robots-Tag:noindex
X-PUBLISHED-TTL:PT1H
BEGIN:VTIMEZONE
TZID:UTC
BEGIN:STANDARD
TZOFFSETFROM:+0000
TZOFFSETTO:+0000
TZNAME:UTC
DTSTART:20230101T000000
END:STANDARD
END:VTIMEZONE
BEGIN:VEVENT
DTSTART;TZID=UTC:20240411T120000
DTEND;TZID=UTC:20240411T130000
DTSTAMP:20260421T001624
CREATED:20240408T163555Z
LAST-MODIFIED:20240411T153916Z
UID:19219-1712836800-1712840400@ritms.rutgers.edu
SUMMARY:CTSA Webinar
DESCRIPTION:CTSA Webinar–Artificial Intelligence in Research\, Register Here.
URL:https://ritms.rutgers.edu/event/ctsa-webinar/
END:VEVENT
BEGIN:VEVENT
DTSTART;TZID=UTC:20240411T120000
DTEND;TZID=UTC:20240411T160000
DTSTAMP:20260421T001624
CREATED:20240329T163758Z
LAST-MODIFIED:20240411T153915Z
UID:19096-1712836800-1712851200@ritms.rutgers.edu
SUMMARY:Rutgers New Jersey Medical School Community Engagement Symposium
DESCRIPTION:Rutgers New Jersey Medical School Community Engagement Symposium-Save the date – 1st Rutgers NJMS Community Engagement Symposium\, Grand Foyer of the Medical School Building (MSB)\, Newark. View Flyer and Register Here
URL:https://ritms.rutgers.edu/event/rutgers-new-jersey-medical-school-community-engagement-symposium/
LOCATION:New Jersey Medical School\, 185 South Orange Avenue\, Newark\, NJ\, 07102\, United States
END:VEVENT
BEGIN:VEVENT
DTSTART;TZID=UTC:20240411T130000
DTEND;TZID=UTC:20240411T143000
DTSTAMP:20260421T001624
CREATED:20240404T154753Z
LAST-MODIFIED:20240411T153916Z
UID:19189-1712840400-1712845800@ritms.rutgers.edu
SUMMARY:Diversity\, Inclusion and Community Engagement Research2Practice
DESCRIPTION:Diversity\, Inclusion and Community Engagement Research2Practice-Contemplative Practices for Inclusiveness and Equanimity Workshop\, Dr. Tracy Chang. Janice Levin Building\, Room 102\, Piscataway. Register Here
URL:https://ritms.rutgers.edu/event/diversity-inclusion-and-community-engagement-research2practice-2/
LOCATION:Janice Levin Building\, 94 Rockafeller Road\, NJ\, United States
END:VEVENT
END:VCALENDAR