BEGIN:VCALENDAR
VERSION:2.0
PRODID:-//Institute for Translational Medicine and Science - ECPv6.15.16//NONSGML v1.0//EN
CALSCALE:GREGORIAN
METHOD:PUBLISH
X-ORIGINAL-URL:https://ritms.rutgers.edu
X-WR-CALDESC:Events for Institute for Translational Medicine and Science
REFRESH-INTERVAL;VALUE=DURATION:PT1H
X-Robots-Tag:noindex
X-PUBLISHED-TTL:PT1H
BEGIN:VTIMEZONE
TZID:UTC
BEGIN:STANDARD
TZOFFSETFROM:+0000
TZOFFSETTO:+0000
TZNAME:UTC
DTSTART:20220101T000000
END:STANDARD
END:VTIMEZONE
BEGIN:VEVENT
DTSTART;TZID=UTC:20231105T090000
DTEND;TZID=UTC:20231105T170000
DTSTAMP:20260420T181514
CREATED:20231026T164514Z
LAST-MODIFIED:20231105T234337Z
UID:17967-1699174800-1699203600@ritms.rutgers.edu
SUMMARY:Rutgers Health Inaugural Health Hack 2023
DESCRIPTION:Rutgers Health Inaugural Health Hack 2023-Healthcare Hackathon: Network: Hack\, Feedback\, Iterate\, Pitch. More than $10\,000 in cash prizes. Robert Wood Johnson University Hospital\, New Brunswick. View Flyer and Register Here
URL:https://ritms.rutgers.edu/event/rutgers-health-inaugural-health-hack-2023-3/
LOCATION:Robert Wood Johnson University Hospital\, New Brunswick\, NJ\, 08901\, United States
END:VEVENT
END:VCALENDAR