BEGIN:VCALENDAR
VERSION:2.0
PRODID:-//Institute for Translational Medicine and Science - ECPv6.15.16//NONSGML v1.0//EN
CALSCALE:GREGORIAN
METHOD:PUBLISH
X-ORIGINAL-URL:https://ritms.rutgers.edu
X-WR-CALDESC:Events for Institute for Translational Medicine and Science
REFRESH-INTERVAL;VALUE=DURATION:PT1H
X-Robots-Tag:noindex
X-PUBLISHED-TTL:PT1H
BEGIN:VTIMEZONE
TZID:UTC
BEGIN:STANDARD
TZOFFSETFROM:+0000
TZOFFSETTO:+0000
TZNAME:UTC
DTSTART:20220101T000000
END:STANDARD
END:VTIMEZONE
BEGIN:VEVENT
DTSTART;TZID=UTC:20231002T120000
DTEND;TZID=UTC:20231002T130000
DTSTAMP:20260421T104847
CREATED:20230902T083643Z
LAST-MODIFIED:20231002T133809Z
UID:17542-1696248000-1696251600@ritms.rutgers.edu
SUMMARY:Trial Innovation Network Collaboration Webinar
DESCRIPTION:Trial Innovation Network Collaboration Webinar-A Community Engaged Approach to Recruitment and Retention of Underrepresented Populations in Research\, Nicole Wolfe\, PhD\,  Mayra Rubio-Diaz  &  Lindsay Slay\, MSW. Register Here.
URL:https://ritms.rutgers.edu/event/trial-innovation-network-collaboration-webinar-3/
END:VEVENT
END:VCALENDAR