BEGIN:VCALENDAR
VERSION:2.0
PRODID:-//Institute for Translational Medicine and Science - ECPv6.15.16//NONSGML v1.0//EN
CALSCALE:GREGORIAN
METHOD:PUBLISH
X-ORIGINAL-URL:https://ritms.rutgers.edu
X-WR-CALDESC:Events for Institute for Translational Medicine and Science
REFRESH-INTERVAL;VALUE=DURATION:PT1H
X-Robots-Tag:noindex
X-PUBLISHED-TTL:PT1H
BEGIN:VTIMEZONE
TZID:UTC
BEGIN:STANDARD
TZOFFSETFROM:+0000
TZOFFSETTO:+0000
TZNAME:UTC
DTSTART:20210101T000000
END:STANDARD
END:VTIMEZONE
BEGIN:VEVENT
DTSTART;TZID=UTC:20220323T080000
DTEND;TZID=UTC:20220323T090000
DTSTAMP:20260419T135847
CREATED:20220303T122739Z
LAST-MODIFIED:20220318T134055Z
UID:14086-1648022400-1648026000@ritms.rutgers.edu
SUMMARY:RWJMS Pediatric Grand Rounds
DESCRIPTION:RWJMS Pediatric Grand Rounds–
URL:https://ritms.rutgers.edu/event/rwjms-pediatric-grand-rounds-4/
END:VEVENT
BEGIN:VEVENT
DTSTART;TZID=UTC:20220323T140000
DTEND;TZID=UTC:20220323T150000
DTSTAMP:20260419T135847
CREATED:20220221T121242Z
LAST-MODIFIED:20220318T134055Z
UID:14005-1648044000-1648047600@ritms.rutgers.edu
SUMMARY:CTSA Program Webinar Series
DESCRIPTION:CTSA Program Webinar Series–Register Here!
URL:https://ritms.rutgers.edu/event/ctsa-program-webinar-series-3/
END:VEVENT
END:VCALENDAR