BEGIN:VCALENDAR
VERSION:2.0
PRODID:-//Institute for Translational Medicine and Science - ECPv6.15.16//NONSGML v1.0//EN
CALSCALE:GREGORIAN
METHOD:PUBLISH
X-ORIGINAL-URL:https://ritms.rutgers.edu
X-WR-CALDESC:Events for Institute for Translational Medicine and Science
REFRESH-INTERVAL;VALUE=DURATION:PT1H
X-Robots-Tag:noindex
X-PUBLISHED-TTL:PT1H
BEGIN:VTIMEZONE
TZID:UTC
BEGIN:STANDARD
TZOFFSETFROM:+0000
TZOFFSETTO:+0000
TZNAME:UTC
DTSTART:20210101T000000
END:STANDARD
END:VTIMEZONE
BEGIN:VEVENT
DTSTART;TZID=UTC:20220225T120000
DTEND;TZID=UTC:20220225T130000
DTSTAMP:20260423T093454
CREATED:20220215T115534Z
LAST-MODIFIED:20220225T122940Z
UID:13949-1645790400-1645794000@ritms.rutgers.edu
SUMMARY:CLIC TL1 Visiting Scientist Grand Rounds
DESCRIPTION:CLIC TL1 Visiting Scientist Grand Rounds-Targeting N-acetyl-L-aspartate synthesis and transport to treat Canavan leukodystrophy\, Vanessa Hull\, BS\, BA\, MS\, PhD Candidate at UC Davis.  View Flyer. Contact christine.costantino@yale.edu for the Zoom Link
URL:https://ritms.rutgers.edu/event/clic-tl1-visiting-scientist-grand-rounds/
END:VEVENT
BEGIN:VEVENT
DTSTART;TZID=UTC:20220225T120000
DTEND;TZID=UTC:20220225T130000
DTSTAMP:20260423T093454
CREATED:20220218T121101Z
LAST-MODIFIED:20220225T122940Z
UID:13984-1645790400-1645794000@ritms.rutgers.edu
SUMMARY:CINJ Trainee Seminar Series
DESCRIPTION:CINJ Trainee Seminar Series-HCK is a Novel Oncogenic Driver of Poor-Prognostic High-Grade Serous Ovarian Cancer\, Christen Khella\, Gatza Lab\, Rutgers. Register Here!
URL:https://ritms.rutgers.edu/event/cinj-trainee-seminar-series-9/
END:VEVENT
BEGIN:VEVENT
DTSTART;TZID=UTC:20220225T140000
DTEND;TZID=UTC:20220225T150000
DTSTAMP:20260423T093454
CREATED:20220212T114040Z
LAST-MODIFIED:20220225T122941Z
UID:13916-1645797600-1645801200@ritms.rutgers.edu
SUMMARY:Rutgers Global Health Institute Seminar: Premier Comprehensive Cancer Center in the Cloud (C4): Powered by Artificial Intelligence”
DESCRIPTION:Rutgers Global Health Institute Seminar: Premier Comprehensive Cancer Center in the Cloud (C4): Powered by Artificial Intelligence” \nInvited Speaker \nWilfred Nwga\nJohn Hopkins Medicine\nGlobal Health Catalyst \nPre-register HERE!
URL:https://ritms.rutgers.edu/event/rutgers-global-health-institute-seminar-premier-comprehensive-cancer-center-in-the-cloud-c4-powered-by-artificial-intelligence/
END:VEVENT
END:VCALENDAR