BEGIN:VCALENDAR
VERSION:2.0
PRODID:-//Institute for Translational Medicine and Science - ECPv6.15.16//NONSGML v1.0//EN
CALSCALE:GREGORIAN
METHOD:PUBLISH
X-ORIGINAL-URL:https://ritms.rutgers.edu
X-WR-CALDESC:Events for Institute for Translational Medicine and Science
REFRESH-INTERVAL;VALUE=DURATION:PT1H
X-Robots-Tag:noindex
X-PUBLISHED-TTL:PT1H
BEGIN:VTIMEZONE
TZID:UTC
BEGIN:STANDARD
TZOFFSETFROM:+0000
TZOFFSETTO:+0000
TZNAME:UTC
DTSTART:20210101T000000
END:STANDARD
END:VTIMEZONE
BEGIN:VEVENT
DTSTART;TZID=UTC:20220224T140000
DTEND;TZID=UTC:20220224T150000
DTSTAMP:20260423T131641
CREATED:20220125T111043Z
LAST-MODIFIED:20220224T122550Z
UID:13742-1645711200-1645714800@ritms.rutgers.edu
SUMMARY:NJ ACTS Regulatory Consult Cafés
DESCRIPTION:Do you need help regarding any facet of human subjects protection\, FDA requirements or other regulatory issues? Join the Regulatory Knowledge and Support Core Staff at its cafés. \nJoin via Zoom\nMeeting ID: 964 4107 5926\nPassword: 043311 \nQuestions? Contact Anthony Gonzalez
URL:https://ritms.rutgers.edu/event/nj-acts-regulatory-consult-cafes-4/
END:VEVENT
END:VCALENDAR