BEGIN:VCALENDAR
VERSION:2.0
PRODID:-//Institute for Translational Medicine and Science - ECPv6.15.16//NONSGML v1.0//EN
CALSCALE:GREGORIAN
METHOD:PUBLISH
X-ORIGINAL-URL:https://ritms.rutgers.edu
X-WR-CALDESC:Events for Institute for Translational Medicine and Science
REFRESH-INTERVAL;VALUE=DURATION:PT1H
X-Robots-Tag:noindex
X-PUBLISHED-TTL:PT1H
BEGIN:VTIMEZONE
TZID:UTC
BEGIN:STANDARD
TZOFFSETFROM:+0000
TZOFFSETTO:+0000
TZNAME:UTC
DTSTART:20200101T000000
END:STANDARD
END:VTIMEZONE
BEGIN:VEVENT
DTSTART;TZID=UTC:20211213T150000
DTEND;TZID=UTC:20211213T160000
DTSTAMP:20260420T042255
CREATED:20211207T085711Z
LAST-MODIFIED:20211213T094422Z
UID:13301-1639407600-1639411200@ritms.rutgers.edu
SUMMARY:CINJ Clinical Investigations & Precision Therapeutics Research Program: “Shared Resources at Rutgers Cancer Institute: An Introduction”
DESCRIPTION:Rutgers Cancer Institute of New Jersey \nClinical Investigations & Precision Therapeutics Research Program \nPresents \n“Shared Resources at Rutgers Cancer Institute: An Introduction“ \nPresenter: \nAdam Berger\, MD \nAssociate Director for Shared Resources \nChief of Melanoma and Soft Tissue Sarcoma \nWhere:                Zoom Meeting \nTo receive meeting login information\, please pre-register at:  https://rutgers.zoom.us/meeting/register/tJApduGqrTIiGdBlnZ0wqeLPwiqtTe_a60DB \n When:                 Monday\, December 13th\, 2021 \nTime:                   3:00 pm – 4:00 pm \nPlease do not forward meeting invite\, all participants MUST pre-register at the link provided above.  For more information please contact Cheryl Riga at clr204@cinj.rutgers.edu
URL:https://ritms.rutgers.edu/event/cinj-clinical-investigations-precision-therapeutics-research-program-shared-resources-at-rutgers-cancer-institute-an-introduction/
END:VEVENT
END:VCALENDAR