BEGIN:VCALENDAR
VERSION:2.0
PRODID:-//Institute for Translational Medicine and Science - ECPv6.15.16//NONSGML v1.0//EN
CALSCALE:GREGORIAN
METHOD:PUBLISH
X-ORIGINAL-URL:https://ritms.rutgers.edu
X-WR-CALDESC:Events for Institute for Translational Medicine and Science
REFRESH-INTERVAL;VALUE=DURATION:PT1H
X-Robots-Tag:noindex
X-PUBLISHED-TTL:PT1H
BEGIN:VTIMEZONE
TZID:UTC
BEGIN:STANDARD
TZOFFSETFROM:+0000
TZOFFSETTO:+0000
TZNAME:UTC
DTSTART:20200101T000000
END:STANDARD
END:VTIMEZONE
BEGIN:VEVENT
DTSTART;TZID=UTC:20211208T153000
DTEND;TZID=UTC:20211208T170000
DTSTAMP:20260423T234924
CREATED:20211108T074058Z
LAST-MODIFIED:20211208T091652Z
UID:13030-1638977400-1638982800@ritms.rutgers.edu
SUMMARY:CINJ Grand Rounds: Richard Meenan\, PhD\, MPH \, Kaiser Permanente
DESCRIPTION:CINJ Grand Rounds: Richard Meenan\, PhD\, MPH \, Kaiser Permanente\n\nPre-register HERE!
URL:https://ritms.rutgers.edu/event/cinj-grand-rounds-12/
END:VEVENT
BEGIN:VEVENT
DTSTART;TZID=UTC:20211208T160000
DTEND;TZID=UTC:20211208T170000
DTSTAMP:20260423T234924
CREATED:20211118T075540Z
LAST-MODIFIED:20211208T091652Z
UID:13169-1638979200-1638982800@ritms.rutgers.edu
SUMMARY:Research Resources Workshop Wednesday (R2W2) Series: Rutgers University Libraries
DESCRIPTION:Research Resources Workshop Wednesday (R2W2) Series: Rutgers University Libraries\nSpeaker: Consuella Askew EdD\, Interim Vice President for University Libraries and University Librarian \nJoin Zoom call!  \n  \n  \n 
URL:https://ritms.rutgers.edu/event/research-resources-workshop-wednesday-r2w2-series-rutgers-university-libraries/
END:VEVENT
BEGIN:VEVENT
DTSTART;TZID=UTC:20211208T160000
DTEND;TZID=UTC:20211208T173000
DTSTAMP:20260423T234924
CREATED:20211123T081040Z
LAST-MODIFIED:20211208T091652Z
UID:13203-1638979200-1638984600@ritms.rutgers.edu
SUMMARY:RBHS Women and Gender Equity Council present “Women Scientists Who Lead: A Panel Discussion” (Panel Discussion)
DESCRIPTION:RBHS Women and Gender Equity Council present “Women Scientists Who Lead: A Panel Discussion” (Virtual Event) – Register HERE! \nJoin a panel discussion inspired by the documentary film “Picture a Scientist.” The film showcases three women scientists and their journey deep into their own experiences of overcoming harassment\, institutional discrimination\, and years of subtle slights to revolutionize science’s culture. The discussion aims to generate dialogue on fostering a diverse\, inclusive\, and understanding environment throughout the RBHS community. View flyer for featured panelists.
URL:https://ritms.rutgers.edu/event/rbhs-women-and-gender-equity-council-present-women-scientists-who-lead-a-panel-discussion-panel-discussion/
END:VEVENT
END:VCALENDAR