BEGIN:VCALENDAR
VERSION:2.0
PRODID:-//Institute for Translational Medicine and Science - ECPv6.15.16//NONSGML v1.0//EN
CALSCALE:GREGORIAN
METHOD:PUBLISH
X-ORIGINAL-URL:https://ritms.rutgers.edu
X-WR-CALDESC:Events for Institute for Translational Medicine and Science
REFRESH-INTERVAL;VALUE=DURATION:PT1H
X-Robots-Tag:noindex
X-PUBLISHED-TTL:PT1H
BEGIN:VTIMEZONE
TZID:UTC
BEGIN:STANDARD
TZOFFSETFROM:+0000
TZOFFSETTO:+0000
TZNAME:UTC
DTSTART:20200101T000000
END:STANDARD
END:VTIMEZONE
BEGIN:VEVENT
DTSTART;TZID=UTC:20211203T120000
DTEND;TZID=UTC:20211203T130000
DTSTAMP:20260423T133637
CREATED:20211201T084201Z
LAST-MODIFIED:20211203T085649Z
UID:13258-1638532800-1638536400@ritms.rutgers.edu
SUMMARY:Rutgers Cancer Institute of New Jersey Trainee Seminar Series (Zoom)
DESCRIPTION:Rutgers Cancer Institute of New Jersey Trainee Seminar Series (Zoom) \nGuest Speakers\nCarola Sanchez Diaz\, PhD (Bandera Lab) – “Ethnic Enclaves\, Socioeconomic Status and Associations with Obesity among Latinxs” \nCirce Le Compte\, PhD (Kinney Lab) – “Understanding Cancer Genetic Risk Assessment Intentions in a Tailored Risk Communication Intervention Randomized Controlled Trial” \nPre-register here!
URL:https://ritms.rutgers.edu/event/rutgers-cancer-institute-of-new-jersey-trainee-seminar-series-zoom/
END:VEVENT
BEGIN:VEVENT
DTSTART;TZID=UTC:20211203T123000
DTEND;TZID=UTC:20211203T130000
DTSTAMP:20260423T133637
CREATED:20211111T074328Z
LAST-MODIFIED:20211203T085649Z
UID:13095-1638534600-1638536400@ritms.rutgers.edu
SUMMARY:Campus Communication Cafe – Free Virtual Mini Workshop Series for Rutgers staff\, instructors/faculty & postdocs
DESCRIPTION:Campus Communication Cafe – Free Virtual Mini Workshop Series for Rutgers staff\, instructors/faculty & postdocs \n“Fear & Confidence in Presenting” \nREGISTER HERE!
URL:https://ritms.rutgers.edu/event/campus-communication-cafe-free-virtual-mini-workshop-series-for-rutgers-staff-instructors-faculty-postdocs-2/
END:VEVENT
END:VCALENDAR