BEGIN:VCALENDAR
VERSION:2.0
PRODID:-//Institute for Translational Medicine and Science - ECPv6.15.16//NONSGML v1.0//EN
CALSCALE:GREGORIAN
METHOD:PUBLISH
X-ORIGINAL-URL:https://ritms.rutgers.edu
X-WR-CALDESC:Events for Institute for Translational Medicine and Science
REFRESH-INTERVAL;VALUE=DURATION:PT1H
X-Robots-Tag:noindex
X-PUBLISHED-TTL:PT1H
BEGIN:VTIMEZONE
TZID:UTC
BEGIN:STANDARD
TZOFFSETFROM:+0000
TZOFFSETTO:+0000
TZNAME:UTC
DTSTART:20200101T000000
END:STANDARD
END:VTIMEZONE
BEGIN:VEVENT
DTSTART;TZID=UTC:20210621T110000
DTEND;TZID=UTC:20210621T130000
DTSTAMP:20260420T044001
CREATED:20210522T182149Z
LAST-MODIFIED:20210621T201024Z
UID:11287-1624273200-1624280400@ritms.rutgers.edu
SUMMARY:RBHS: Developing and Empowering Diverse Communities in Higher Education
DESCRIPTION:RBHS: The Vice Chancellor for Faculty Development\, M. Maral Mouradian\, MD presents: \nDeveloping and Empowering Diverse Communities in Higher Education featuring: \nNancy Cantor\, Chancellor\, Rutgers University-Newark\nPerry N. Halkitis\, Dean\, School of Public Health \nZOOM EVENT OPEN TO ALL FACULTY AND STAFF\nRegister here!!!
URL:https://ritms.rutgers.edu/event/rbhs-developing-and-empowering-diverse-communities-in-higher-education/
END:VEVENT
BEGIN:VEVENT
DTSTART;TZID=UTC:20210621T143000
DTEND;TZID=UTC:20210621T153000
DTSTAMP:20260420T044001
CREATED:20210522T182149Z
LAST-MODIFIED:20210621T201024Z
UID:11289-1624285800-1624289400@ritms.rutgers.edu
SUMMARY:NJ ACTS Team Science Core
DESCRIPTION:NJ ACTS Team Science Core presents Kate Sasser\, PhD – Senior Vice President Head of Translational Research Genmab\, Inc. Plainsboro\, NJ. View flyer. \nSecond Event of Teamwork Seminar Series: “Secrets of Successful Teamwork: What Can Academia Learn from Non-Academia?” \nRegister HERE! After registering\, you will receive a confirmation email containing information about joining the meeting.
URL:https://ritms.rutgers.edu/event/nj-acts-team-science-core/
END:VEVENT
END:VCALENDAR