BEGIN:VCALENDAR
VERSION:2.0
PRODID:-//Institute for Translational Medicine and Science - ECPv6.15.16//NONSGML v1.0//EN
CALSCALE:GREGORIAN
METHOD:PUBLISH
X-ORIGINAL-URL:https://ritms.rutgers.edu
X-WR-CALDESC:Events for Institute for Translational Medicine and Science
REFRESH-INTERVAL;VALUE=DURATION:PT1H
X-Robots-Tag:noindex
X-PUBLISHED-TTL:PT1H
BEGIN:VTIMEZONE
TZID:UTC
BEGIN:STANDARD
TZOFFSETFROM:+0000
TZOFFSETTO:+0000
TZNAME:UTC
DTSTART:20200101T000000
END:STANDARD
END:VTIMEZONE
BEGIN:VEVENT
DTSTART;TZID=UTC:20210524T160000
DTEND;TZID=UTC:20210524T160000
DTSTAMP:20260423T175015
CREATED:20210519T181220Z
LAST-MODIFIED:20210524T182546Z
UID:11270-1621872000-1621872000@ritms.rutgers.edu
SUMMARY:The Center for Cancer Health Equity Distinguished Lecture Series
DESCRIPTION:The Center for Cancer Health Equity Distinguished Lecture Series- Beyond Obesity: The Increasing Incidence and\nEpidemiology of High Grade Endometrial Cancers\, Michele L. Cote\, Rutgers\, Online\, Register Here
URL:https://ritms.rutgers.edu/event/the-center-for-cancer-health-equity-distinguished-lecture-series/
END:VEVENT
END:VCALENDAR