BEGIN:VCALENDAR
VERSION:2.0
PRODID:-//Institute for Translational Medicine and Science - ECPv6.15.16//NONSGML v1.0//EN
CALSCALE:GREGORIAN
METHOD:PUBLISH
X-ORIGINAL-URL:https://ritms.rutgers.edu
X-WR-CALDESC:Events for Institute for Translational Medicine and Science
REFRESH-INTERVAL;VALUE=DURATION:PT1H
X-Robots-Tag:noindex
X-PUBLISHED-TTL:PT1H
BEGIN:VTIMEZONE
TZID:UTC
BEGIN:STANDARD
TZOFFSETFROM:+0000
TZOFFSETTO:+0000
TZNAME:UTC
DTSTART:20200101T000000
END:STANDARD
END:VTIMEZONE
BEGIN:VEVENT
DTSTART;TZID=UTC:20210419T120000
DTEND;TZID=UTC:20210419T130000
DTSTAMP:20260423T085608
CREATED:20210324T142854Z
LAST-MODIFIED:20210419T165538Z
UID:10736-1618833600-1618837200@ritms.rutgers.edu
SUMMARY:Child Health Institute of New Jersey Science Seminar Series
DESCRIPTION:Child Health Institute Science Seminar Series-Open Date
URL:https://ritms.rutgers.edu/event/child-health-institute-of-new-jersey-science-seminar-series/
END:VEVENT
BEGIN:VEVENT
DTSTART;TZID=UTC:20210419T143000
DTEND;TZID=UTC:20210419T153000
DTSTAMP:20260423T085608
CREATED:20210330T144025Z
LAST-MODIFIED:20210419T165538Z
UID:10820-1618842600-1618846200@ritms.rutgers.edu
SUMMARY:Team Science Seminar Series
DESCRIPTION:Team Science Seminar Series-Inaugural Event\, Secrets of Successful Teamwork: What Can Academia Learn from Non-Academia? Patrick Hobbs\, Director of Intercollegiate Athletics\, Rutgers. Register Here!
URL:https://ritms.rutgers.edu/event/team-science-seminar-series/
END:VEVENT
END:VCALENDAR