BEGIN:VCALENDAR
VERSION:2.0
PRODID:-//Institute for Translational Medicine and Science - ECPv6.15.16//NONSGML v1.0//EN
CALSCALE:GREGORIAN
METHOD:PUBLISH
X-ORIGINAL-URL:https://ritms.rutgers.edu
X-WR-CALDESC:Events for Institute for Translational Medicine and Science
REFRESH-INTERVAL;VALUE=DURATION:PT1H
X-Robots-Tag:noindex
X-PUBLISHED-TTL:PT1H
BEGIN:VTIMEZONE
TZID:UTC
BEGIN:STANDARD
TZOFFSETFROM:+0000
TZOFFSETTO:+0000
TZNAME:UTC
DTSTART:20200101T000000
END:STANDARD
END:VTIMEZONE
BEGIN:VEVENT
DTSTART;VALUE=DATE:20210126
DTEND;VALUE=DATE:20210407
DTSTAMP:20260420T034016
CREATED:20210324T143544Z
LAST-MODIFIED:20210324T143544Z
UID:10741-1611619200-1617753599@ritms.rutgers.edu
SUMMARY:Global Health Case Competition
DESCRIPTION:Global Health Case Competition – Presented by Rutgers Global Health Institute\, the Global Health Case Competition is a new\, semester-long event in which Rutgers students team up to design community-centered solutions to global health problems.\nThe deadline to apply is December 31\, 2020.\nMore info here.
URL:https://ritms.rutgers.edu/event/global-health-case-competition/
END:VEVENT
BEGIN:VEVENT
DTSTART;TZID=UTC:20210401T100000
DTEND;TZID=UTC:20210401T110000
DTSTAMP:20260420T034016
CREATED:20210331T144039Z
LAST-MODIFIED:20210401T144038Z
UID:10834-1617271200-1617274800@ritms.rutgers.edu
SUMMARY:CINJ Recruitment Lecture
DESCRIPTION:CINJ Recruitment Lecture-Improving Outcomes for GI cancers; Gastric Cancer Early Detection & Improving Outcomes for Patients Newly Diagnosed with Cancer in the ED\, Haejin In\, Montefiore Medical Center. Join via Webex.
URL:https://ritms.rutgers.edu/event/cinj-recruitment-lecture/
END:VEVENT
BEGIN:VEVENT
DTSTART;TZID=UTC:20210401T143000
DTEND;TZID=UTC:20210401T160000
DTSTAMP:20260420T034016
CREATED:20210325T142935Z
LAST-MODIFIED:20210401T144038Z
UID:10764-1617287400-1617292800@ritms.rutgers.edu
SUMMARY:NJ ACTS Biostatistics and Epidemiology Workshop Series
DESCRIPTION:NJ ACTS Biostatistics and Epidemiology Workshop Series-Adaptive Designs in Clinical Trials: An Introduction and Examples\, Yong Lin\, Rutgers. Register Here.
URL:https://ritms.rutgers.edu/event/nj-acts-biostatistics-and-epidemiology-workshop-series/
END:VEVENT
END:VCALENDAR